BEGIN:VCALENDAR
VERSION:2.0
PRODID:-//Debby Maziarz Productions - ECPv6.0.13.1//NONSGML v1.0//EN
CALSCALE:GREGORIAN
METHOD:PUBLISH
X-ORIGINAL-URL:https://www.debbymaziarz.com.au
X-WR-CALDESC:Events for Debby Maziarz Productions
REFRESH-INTERVAL;VALUE=DURATION:PT1H
X-Robots-Tag:noindex
X-PUBLISHED-TTL:PT1H
BEGIN:VTIMEZONE
TZID:UTC
BEGIN:STANDARD
TZOFFSETFROM:+0000
TZOFFSETTO:+0000
TZNAME:UTC
DTSTART:20180101T000000
END:STANDARD
END:VTIMEZONE
BEGIN:VEVENT
DTSTART;TZID=UTC:20181210T093000
DTEND;TZID=UTC:20181210T133000
DTSTAMP:20260425T153528
CREATED:20181010T205459Z
LAST-MODIFIED:20181201T024233Z
UID:555-1544434200-1544448600@www.debbymaziarz.com.au
SUMMARY:Grant Writing for Arts Projects
DESCRIPTION:[vc_row][vc_column][vc_column_text]\n\n\nNeed funding for your next big idea\, career move or arts project? Get your creative ducks in a row with fundraising guru and entrepreneur Debby Maziarz. This workshop will take you step-by-step through the grant application process from login to submission. Hone your idea\, sharpen your creative rationale\, design a project plan and nail that budget! This focused workshop will you give the opportunity to test your ideas\, ask questions and explore your funding needs. \n\n\n[/vc_column_text][vc_column_text css=”.vc_custom_1541051638449{margin-bottom: 0px !important;}”]\n\n\nINDEPENDENT ARTISTS \nWorkshop: $90 – 4 hours (tea and coffee provided) \nWorkshop & Extra Mentoring: $130 – 4 hours (tea and coffee provided) plus Debby will read your draft application and verbal feedback at an arranged time after the workshop (approx. 1.5 hours total consulting) \nORGANISATIONS \nWorkshop only: $220 – 4 hours (tea and coffee provided) \n\n\n[/vc_column_text][vc_raw_html]JTNDc2NyaXB0JTIwYXN5bmMlMjBkZWZlciUyMHNyYyUzRCUyMmh0dHBzJTNBJTJGJTJGd3d3LnRyeWJvb2tpbmcuY29tJTJGd2lkZ2V0LmpzJTIyJTNFJTNDJTJGc2NyaXB0JTNFJTBBJTBBJTNDZGl2JTIwY2xhc3MlM0QlMjJ0cnliLXdpZGdldCUyMiUyMGRhdGEtdHlwZSUzRCUyMmZ1bGxFbWJlZCUyMiUyMGRhdGEtZWlkJTNEJTIyNDM1MzczJTIyJTNFJTNDJTJGZGl2JTNF[/vc_raw_html][/vc_column][/vc_row]
URL:https://www.debbymaziarz.com.au/workshop/grant-writing-for-arts-projects/
LOCATION:Signal\, Flinders Walk\, Northbank\, Melbourne\, VIC\, 3000\, Australia
END:VEVENT
BEGIN:VEVENT
DTSTART;TZID=UTC:20181210T093000
DTEND;TZID=UTC:20181210T133000
DTSTAMP:20260425T153528
CREATED:20181010T205459Z
LAST-MODIFIED:20181010T205459Z
UID:2944-1544434200-1544448600@www.debbymaziarz.com.au
SUMMARY:Grant Writing for Arts Projects
DESCRIPTION:[vc_row][vc_column][vc_column_text]\n\n\nNeed funding for your next big idea\, career move or arts project? Get your creative ducks in a row with fundraising guru and entrepreneur Debby Maziarz. This workshop will take you step-by-step through the grant application process from login to submission. Hone your idea\, sharpen your creative rationale\, design a project plan and nail that budget! This focused workshop will you give the opportunity to test your ideas\, ask questions and explore your funding needs. \n\n\n[/vc_column_text][vc_column_text css=”.vc_custom_1541051638449{margin-bottom: 0px !important;}”]\n\n\nINDEPENDENT ARTISTS \nWorkshop: $90 – 4 hours (tea and coffee provided) \nWorkshop & Extra Mentoring: $130 – 4 hours (tea and coffee provided) plus Debby will read your draft application and verbal feedback at an arranged time after the workshop (approx. 1.5 hours total consulting) \nORGANISATIONS \nWorkshop only: $220 – 4 hours (tea and coffee provided) \n\n\n[/vc_column_text][vc_raw_html]JTNDc2NyaXB0JTIwYXN5bmMlMjBkZWZlciUyMHNyYyUzRCUyMmh0dHBzJTNBJTJGJTJGd3d3LnRyeWJvb2tpbmcuY29tJTJGd2lkZ2V0LmpzJTIyJTNFJTNDJTJGc2NyaXB0JTNFJTBBJTBBJTNDZGl2JTIwY2xhc3MlM0QlMjJ0cnliLXdpZGdldCUyMiUyMGRhdGEtdHlwZSUzRCUyMmZ1bGxFbWJlZCUyMiUyMGRhdGEtZWlkJTNEJTIyNDM1MzczJTIyJTNFJTNDJTJGZGl2JTNF[/vc_raw_html][/vc_column][/vc_row]
URL:https://www.debbymaziarz.com.au/workshop/grant-writing-for-arts-projects-4/
LOCATION:Signal\, Flinders Walk\, Northbank\, Melbourne\, VIC\, 3000\, Australia
END:VEVENT
END:VCALENDAR