BEGIN:VCALENDAR
VERSION:2.0
PRODID:-//Debby Maziarz Productions - ECPv6.0.13.1//NONSGML v1.0//EN
CALSCALE:GREGORIAN
METHOD:PUBLISH
X-WR-CALNAME:Debby Maziarz Productions
X-ORIGINAL-URL:https://www.debbymaziarz.com.au
X-WR-CALDESC:Events for Debby Maziarz Productions
REFRESH-INTERVAL;VALUE=DURATION:PT1H
X-Robots-Tag:noindex
X-PUBLISHED-TTL:PT1H
BEGIN:VTIMEZONE
TZID:Australia/Melbourne
BEGIN:STANDARD
TZOFFSETFROM:+1100
TZOFFSETTO:+1000
TZNAME:AEST
DTSTART:20190406T160000
END:STANDARD
BEGIN:DAYLIGHT
TZOFFSETFROM:+1000
TZOFFSETTO:+1100
TZNAME:AEDT
DTSTART:20191005T160000
END:DAYLIGHT
END:VTIMEZONE
BEGIN:VEVENT
DTSTART;TZID=Australia/Melbourne:20190211T093000
DTEND;TZID=Australia/Melbourne:20190211T123000
DTSTAMP:20260425T122654
CREATED:20190110T032837Z
LAST-MODIFIED:20190110T032837Z
UID:2955-1549877400-1549888200@www.debbymaziarz.com.au
SUMMARY:Effective Grant Writing - Moonee Valley City Council
DESCRIPTION:It’s time to get that idea funded! \nBuild your understanding of what is required to successfully apply for and acquit grants. This fun and hands-on workshop will focus on transforming your ideas into fundable concepts and will walk you step by step through the process. Includes: \n\n\n\nWhere to find the money\nWriting a killer 50-word grab\nWorking with partners\nBuilding a budget\nAnswering the ‘sustainability’ and ‘evaluation’ questions\n\n\n\nFor more information and to book please click here.
URL:https://www.debbymaziarz.com.au/workshop/effective-grant-writing-moonee-valley-city-council-4-2/
LOCATION:Flemington Community Centre\, 25 Mount Alexander Road\, Flemington\, VIC\, 3031\, Australia
END:VEVENT
BEGIN:VEVENT
DTSTART;TZID=Australia/Melbourne:20190211T093000
DTEND;TZID=Australia/Melbourne:20190211T123000
DTSTAMP:20260425T122654
CREATED:20190110T032837Z
LAST-MODIFIED:20190110T032837Z
UID:614-1549877400-1549888200@www.debbymaziarz.com.au
SUMMARY:Effective Grant Writing - Moonee Valley City Council
DESCRIPTION:It’s time to get that idea funded! \nBuild your understanding of what is required to successfully apply for and acquit grants. This fun and hands-on workshop will focus on transforming your ideas into fundable concepts and will walk you step by step through the process. Includes: \n\n\n\nWhere to find the money\nWriting a killer 50-word grab\nWorking with partners\nBuilding a budget\nAnswering the ‘sustainability’ and ‘evaluation’ questions\n\n\n\nFor more information and to book please click here.
URL:https://www.debbymaziarz.com.au/workshop/effective-grant-writing-moonee-valley-city-council-4/
LOCATION:Flemington Community Centre\, 25 Mount Alexander Road\, Flemington\, VIC\, 3031\, Australia
END:VEVENT
END:VCALENDAR