BEGIN:VCALENDAR
VERSION:2.0
PRODID:-//Debby Maziarz Productions - ECPv6.0.13.1//NONSGML v1.0//EN
CALSCALE:GREGORIAN
METHOD:PUBLISH
X-ORIGINAL-URL:https://www.debbymaziarz.com.au
X-WR-CALDESC:Events for Debby Maziarz Productions
REFRESH-INTERVAL;VALUE=DURATION:PT1H
X-Robots-Tag:noindex
X-PUBLISHED-TTL:PT1H
BEGIN:VTIMEZONE
TZID:UTC
BEGIN:STANDARD
TZOFFSETFROM:+0000
TZOFFSETTO:+0000
TZNAME:UTC
DTSTART:20190101T000000
END:STANDARD
END:VTIMEZONE
BEGIN:VEVENT
DTSTART;TZID=UTC:20191019T103000
DTEND;TZID=UTC:20191019T130000
DTSTAMP:20260424T225334
CREATED:20190913T065326Z
LAST-MODIFIED:20190913T221602Z
UID:710-1571481000-1571490000@www.debbymaziarz.com.au
SUMMARY:Sustaining Your Arts Practice and Creative Self
DESCRIPTION:In this interactive 2.5 hour workshop is suitable for creatives working in any art form and will cover the following areas: \n\nArticulating your creative vision\nSetting goals for your practice\nKnowing your value and money matters\nCaring for yourself and your practice\n\nFor more information and to book please click here.
URL:https://www.debbymaziarz.com.au/workshop/sustaining-your-arts-practice-and-creative-self/
LOCATION:Banyule City Council\, Level 4\, I Flintoff St\, Greensborough\, VIC\, 3081\, Australia
END:VEVENT
BEGIN:VEVENT
DTSTART;TZID=UTC:20191019T103000
DTEND;TZID=UTC:20191019T130000
DTSTAMP:20260424T225334
CREATED:20190913T065326Z
LAST-MODIFIED:20190913T065326Z
UID:2974-1571481000-1571490000@www.debbymaziarz.com.au
SUMMARY:Sustaining Your Arts Practice and Creative Self
DESCRIPTION:In this interactive 2.5 hour workshop is suitable for creatives working in any art form and will cover the following areas: \n\nArticulating your creative vision\nSetting goals for your practice\nKnowing your value and money matters\nCaring for yourself and your practice\n\nFor more information and to book please click here.
URL:https://www.debbymaziarz.com.au/workshop/sustaining-your-arts-practice-and-creative-self-3/
LOCATION:Banyule City Council\, Level 4\, I Flintoff St\, Greensborough\, VIC\, 3081\, Australia
END:VEVENT
END:VCALENDAR