BEGIN:VCALENDAR
VERSION:2.0
PRODID:-//Debby Maziarz Productions - ECPv6.0.13.1//NONSGML v1.0//EN
CALSCALE:GREGORIAN
METHOD:PUBLISH
X-WR-CALNAME:Debby Maziarz Productions
X-ORIGINAL-URL:https://www.debbymaziarz.com.au
X-WR-CALDESC:Events for Debby Maziarz Productions
REFRESH-INTERVAL;VALUE=DURATION:PT1H
X-Robots-Tag:noindex
X-PUBLISHED-TTL:PT1H
BEGIN:VTIMEZONE
TZID:Australia/Melbourne
BEGIN:STANDARD
TZOFFSETFROM:+1100
TZOFFSETTO:+1000
TZNAME:AEST
DTSTART:20200404T160000
END:STANDARD
BEGIN:DAYLIGHT
TZOFFSETFROM:+1000
TZOFFSETTO:+1100
TZNAME:AEDT
DTSTART:20201003T160000
END:DAYLIGHT
END:VTIMEZONE
BEGIN:VEVENT
DTSTART;TZID=Australia/Melbourne:20200513T183000
DTEND;TZID=Australia/Melbourne:20200513T203000
DTSTAMP:20260424T213347
CREATED:20200507T020059Z
LAST-MODIFIED:20200507T020059Z
UID:776-1589394600-1589401800@www.debbymaziarz.com.au
SUMMARY:Grant Writing Workshop - Banyule City Council
DESCRIPTION:Debby Maziarz will teach you how to ensure a grant application is eligible and has the best chance of being successful. You will learn how to structure budgets and how to link your project to the funder’s objectives. You will also learn how to find funders for your project. \nThis workshop is specifically focusing on environment grants\, but all are welcome. \nRegistered workshops attendees will be able to watch and participate in a remote live presentation from their own computer screens. Internet access is required to participate. \nA discussion will be followed by a Q&A session where questions can be typed and submitted. \nFor more information and to book please click here.
URL:https://www.debbymaziarz.com.au/workshop/grant-writing-workshop-banyule-city-council/
LOCATION:Online\, Australia
END:VEVENT
BEGIN:VEVENT
DTSTART;TZID=Australia/Melbourne:20200513T183000
DTEND;TZID=Australia/Melbourne:20200513T203000
DTSTAMP:20260424T213347
CREATED:20200507T020059Z
LAST-MODIFIED:20200507T020059Z
UID:2988-1589394600-1589401800@www.debbymaziarz.com.au
SUMMARY:Grant Writing Workshop - Banyule City Council
DESCRIPTION:Debby Maziarz will teach you how to ensure a grant application is eligible and has the best chance of being successful. You will learn how to structure budgets and how to link your project to the funder’s objectives. You will also learn how to find funders for your project. \nThis workshop is specifically focusing on environment grants\, but all are welcome. \nRegistered workshops attendees will be able to watch and participate in a remote live presentation from their own computer screens. Internet access is required to participate. \nA discussion will be followed by a Q&A session where questions can be typed and submitted. \nFor more information and to book please click here.
URL:https://www.debbymaziarz.com.au/workshop/grant-writing-workshop-banyule-city-council-2/
LOCATION:Online\, Australia
END:VEVENT
END:VCALENDAR