BEGIN:VCALENDAR
VERSION:2.0
PRODID:-//Debby Maziarz Productions - ECPv6.0.13.1//NONSGML v1.0//EN
CALSCALE:GREGORIAN
METHOD:PUBLISH
X-WR-CALNAME:Debby Maziarz Productions
X-ORIGINAL-URL:https://www.debbymaziarz.com.au
X-WR-CALDESC:Events for Debby Maziarz Productions
REFRESH-INTERVAL;VALUE=DURATION:PT1H
X-Robots-Tag:noindex
X-PUBLISHED-TTL:PT1H
BEGIN:VTIMEZONE
TZID:Australia/Melbourne
BEGIN:STANDARD
TZOFFSETFROM:+1100
TZOFFSETTO:+1000
TZNAME:AEST
DTSTART:20200404T160000
END:STANDARD
BEGIN:DAYLIGHT
TZOFFSETFROM:+1000
TZOFFSETTO:+1100
TZNAME:AEDT
DTSTART:20201003T160000
END:DAYLIGHT
END:VTIMEZONE
BEGIN:VEVENT
DTSTART;TZID=Australia/Melbourne:20200520T100000
DTEND;TZID=Australia/Melbourne:20200520T130000
DTSTAMP:20260424T213348
CREATED:20200131T232750Z
LAST-MODIFIED:20200131T232750Z
UID:2982-1589968800-1589979600@www.debbymaziarz.com.au
SUMMARY:Writing Winning Grants with Debby Maziarz (Making it in Moreland)
DESCRIPTION:Want to know how to put together a killer grant application? Join us for a practical grant writing workshop with Debby Maziarz where she will take you through the tips and tricks of putting together a successful grant submission. Learn about some of the latest COVID-19 response grants currently open and where to find them; how to read the guidelines and address the criteria; how to develop a strong project idea and outline; what support material to include; and much more. \nSuitable for:\nArtists\, musicians\, film makers\, writers\, makers\, designers\, creative practitioners\, event managers and arts professionals \nFor more information and to book please click here. Registered participants will receive the online login prior to the event.
URL:https://www.debbymaziarz.com.au/workshop/banyule-community-upskilling-workshops-successful-grant-writing-and-finding-funding-2/
LOCATION:Online\, Australia
ORGANIZER;CN="Moreland%20City%20Council":MAILTO:apamic@moreland.vic.gov.au
END:VEVENT
BEGIN:VEVENT
DTSTART;TZID=Australia/Melbourne:20200520T100000
DTEND;TZID=Australia/Melbourne:20200520T130000
DTSTAMP:20260424T213348
CREATED:20200131T232750Z
LAST-MODIFIED:20200501T053936Z
UID:739-1589968800-1589979600@www.debbymaziarz.com.au
SUMMARY:Writing Winning Grants with Debby Maziarz (Making it in Moreland)
DESCRIPTION:Want to know how to put together a killer grant application? Join us for a practical grant writing workshop with Debby Maziarz where she will take you through the tips and tricks of putting together a successful grant submission. Learn about some of the latest COVID-19 response grants currently open and where to find them; how to read the guidelines and address the criteria; how to develop a strong project idea and outline; what support material to include; and much more. \nSuitable for:\nArtists\, musicians\, film makers\, writers\, makers\, designers\, creative practitioners\, event managers and arts professionals \nFor more information and to book please click here. Registered participants will receive the online login prior to the event.
URL:https://www.debbymaziarz.com.au/workshop/banyule-community-upskilling-workshops-successful-grant-writing-and-finding-funding/
LOCATION:Online\, Australia
ORGANIZER;CN="Moreland%20City%20Council":MAILTO:apamic@moreland.vic.gov.au
END:VEVENT
END:VCALENDAR