BEGIN:VCALENDAR
VERSION:2.0
PRODID:-//Debby Maziarz Productions - ECPv6.0.13.1//NONSGML v1.0//EN
CALSCALE:GREGORIAN
METHOD:PUBLISH
X-WR-CALNAME:Debby Maziarz Productions
X-ORIGINAL-URL:https://www.debbymaziarz.com.au
X-WR-CALDESC:Events for Debby Maziarz Productions
REFRESH-INTERVAL;VALUE=DURATION:PT1H
X-Robots-Tag:noindex
X-PUBLISHED-TTL:PT1H
BEGIN:VTIMEZONE
TZID:Australia/Melbourne
BEGIN:STANDARD
TZOFFSETFROM:+1100
TZOFFSETTO:+1000
TZNAME:AEST
DTSTART:20200404T160000
END:STANDARD
BEGIN:DAYLIGHT
TZOFFSETFROM:+1000
TZOFFSETTO:+1100
TZNAME:AEDT
DTSTART:20201003T160000
END:DAYLIGHT
END:VTIMEZONE
BEGIN:VEVENT
DTSTART;TZID=Australia/Melbourne:20200618T100000
DTEND;TZID=Australia/Melbourne:20200618T123000
DTSTAMP:20260424T230743
CREATED:20200604T021609Z
LAST-MODIFIED:20200604T021609Z
UID:804-1592474400-1592483400@www.debbymaziarz.com.au
SUMMARY:Hobsons Bay City Council Community Grants Information and Grant Writing Workshops
DESCRIPTION:To learn about this year’s grants program and how to write a grant application\, join us for a free workshop facilitated by grant expert Debby Maziarz and Hobsons Bay Community Grants Officer Cathy Miles. \nGrant applicants are encouraged to join a community information and grant writing workshops prior to making an application (bookings essential). \nTo book: Call 9932 1235 or email: commdev@hobsonsbay.vic.gov.au to register for the online workshop. Instructions will follow and support can be provided to use the online zoom platform.
URL:https://www.debbymaziarz.com.au/workshop/hobsons-bay-city-council-community-grants-information-and-grant-writing-workshops-2/
LOCATION:Online\, Australia
END:VEVENT
BEGIN:VEVENT
DTSTART;TZID=Australia/Melbourne:20200618T100000
DTEND;TZID=Australia/Melbourne:20200618T123000
DTSTAMP:20260424T230743
CREATED:20200604T021609Z
LAST-MODIFIED:20200604T021609Z
UID:2995-1592474400-1592483400@www.debbymaziarz.com.au
SUMMARY:Hobsons Bay City Council Community Grants Information and Grant Writing Workshops
DESCRIPTION:To learn about this year’s grants program and how to write a grant application\, join us for a free workshop facilitated by grant expert Debby Maziarz and Hobsons Bay Community Grants Officer Cathy Miles. \nGrant applicants are encouraged to join a community information and grant writing workshops prior to making an application (bookings essential). \nTo book: Call 9932 1235 or email: commdev@hobsonsbay.vic.gov.au to register for the online workshop. Instructions will follow and support can be provided to use the online zoom platform.
URL:https://www.debbymaziarz.com.au/workshop/hobsons-bay-city-council-community-grants-information-and-grant-writing-workshops-2-2/
LOCATION:Online\, Australia
END:VEVENT
END:VCALENDAR