BEGIN:VCALENDAR
VERSION:2.0
PRODID:-//Debby Maziarz Productions - ECPv6.0.13.1//NONSGML v1.0//EN
CALSCALE:GREGORIAN
METHOD:PUBLISH
X-ORIGINAL-URL:https://www.debbymaziarz.com.au
X-WR-CALDESC:Events for Debby Maziarz Productions
REFRESH-INTERVAL;VALUE=DURATION:PT1H
X-Robots-Tag:noindex
X-PUBLISHED-TTL:PT1H
BEGIN:VTIMEZONE
TZID:UTC
BEGIN:STANDARD
TZOFFSETFROM:+0000
TZOFFSETTO:+0000
TZNAME:UTC
DTSTART:20200101T000000
END:STANDARD
END:VTIMEZONE
BEGIN:VEVENT
DTSTART;TZID=UTC:20200825T100000
DTEND;TZID=UTC:20200825T123000
DTSTAMP:20260425T032100
CREATED:20200813T002836Z
LAST-MODIFIED:20200813T002836Z
UID:3002-1598349600-1598358600@www.debbymaziarz.com.au
SUMMARY:Grant Writing for Artists from Culturally Diverse Backgrounds
DESCRIPTION:The City of Melbourne (COM) and Multicultural Arts Victoria (MAV) are providing online grant writing workshops and follow up one-on-one feedback sessions with Debby Maziarz for artists\, creatives and groups from culturally diverse backgrounds. \nYou can select from two grant writing workshops and these will both include a presentation by Debby\, an opportunity to have all your questions answered and break out groups where you can craft your project pitch with other artists and MAV staff. Once you have attended one of these workshops you can book in a session with Debby for feedback on your project idea\, budget and/or draft grant application. \nApplications for the 2021 arts grants will open 9am Tuesday 1 September 2020 and close 5pm Monday 28 September 2020. \nTo prepare yourself for the session\, please view the Program Guidelines at www.melbourne.vic.gov.au/annualartsgrants (available from 21 August 2020) \nFor more information and to book please click here.
URL:https://www.debbymaziarz.com.au/workshop/grant-writing-for-artists-from-culturally-diverse-backgrounds-3/
LOCATION:Online\, Australia
ORGANIZER;CN="Multicultural%20Arts%20Victoria":MAILTO:office@multiculturalarts.com.au
END:VEVENT
BEGIN:VEVENT
DTSTART;TZID=UTC:20200825T100000
DTEND;TZID=UTC:20200825T123000
DTSTAMP:20260425T032100
CREATED:20200813T002836Z
LAST-MODIFIED:20200813T002836Z
UID:822-1598349600-1598358600@www.debbymaziarz.com.au
SUMMARY:Grant Writing for Artists from Culturally Diverse Backgrounds
DESCRIPTION:The City of Melbourne (COM) and Multicultural Arts Victoria (MAV) are providing online grant writing workshops and follow up one-on-one feedback sessions with Debby Maziarz for artists\, creatives and groups from culturally diverse backgrounds. \nYou can select from two grant writing workshops and these will both include a presentation by Debby\, an opportunity to have all your questions answered and break out groups where you can craft your project pitch with other artists and MAV staff. Once you have attended one of these workshops you can book in a session with Debby for feedback on your project idea\, budget and/or draft grant application. \nApplications for the 2021 arts grants will open 9am Tuesday 1 September 2020 and close 5pm Monday 28 September 2020. \nTo prepare yourself for the session\, please view the Program Guidelines at www.melbourne.vic.gov.au/annualartsgrants (available from 21 August 2020) \nFor more information and to book please click here.
URL:https://www.debbymaziarz.com.au/workshop/grant-writing-for-artists-from-culturally-diverse-backgrounds/
LOCATION:Online\, Australia
ORGANIZER;CN="Multicultural%20Arts%20Victoria":MAILTO:office@multiculturalarts.com.au
END:VEVENT
END:VCALENDAR