BEGIN:VCALENDAR
VERSION:2.0
PRODID:-//Debby Maziarz Productions - ECPv6.0.13.1//NONSGML v1.0//EN
CALSCALE:GREGORIAN
METHOD:PUBLISH
X-ORIGINAL-URL:https://www.debbymaziarz.com.au
X-WR-CALDESC:Events for Debby Maziarz Productions
REFRESH-INTERVAL;VALUE=DURATION:PT1H
X-Robots-Tag:noindex
X-PUBLISHED-TTL:PT1H
BEGIN:VTIMEZONE
TZID:Australia/Melbourne
BEGIN:STANDARD
TZOFFSETFROM:+1100
TZOFFSETTO:+1000
TZNAME:AEST
DTSTART:20210403T160000
END:STANDARD
BEGIN:DAYLIGHT
TZOFFSETFROM:+1000
TZOFFSETTO:+1100
TZNAME:AEDT
DTSTART:20211002T160000
END:DAYLIGHT
END:VTIMEZONE
BEGIN:VEVENT
DTSTART;VALUE=DATE:20210122
DTEND;VALUE=DATE:20210123
DTSTAMP:20260425T111731
CREATED:20210112T055057Z
LAST-MODIFIED:20210112T055057Z
UID:3019-1611273600-1611359999@www.debbymaziarz.com.au
SUMMARY:Making Our Mark: Women's Leadership Program Applications deadline
DESCRIPTION:[vc_row][vc_column width=”1/6″][/vc_column][vc_column width=”2/3″][vc_single_image image=”1033″ img_size=”large” alignment=”center” onclick=”custom_link” img_link_target=”_blank” link=”https://mvcc.vic.gov.au/wlp/”][vc_column_text]In 2020 and 2021\, Debby Maziarz will be facilitating the Making Our Mark Women’s Leadership Program in Moonee Valley bringing together women who want to work on game-changing social change projects. \nThe 12-week program is action-based and tailored to each participants’ unique area of interest. It builds on the individuals’ passion for social change and the curriculum is applied to real life projects and problems. Self-care and increasing emotional health and wellbeing is at the core of the program – embedded in the facilitation style\, the design of the learning environment and curriculum content. Special care is given to co-creating a safe and supportive environment that enables participants to work from where they are at right now. \nOver 12 weeks\, participants will build their leadership\, communication and teamwork skills in a supportive environment whilst designing game changing projects. \nExpressions of interest are now open at the Moonee Valley City Council website to participate in the program commencing in February 2021.[/vc_column_text][/vc_column][vc_column width=”1/6″][/vc_column][/vc_row]
URL:https://www.debbymaziarz.com.au/workshop/making-our-mark-2/
LOCATION:Online\, Australia
END:VEVENT
BEGIN:VEVENT
DTSTART;VALUE=DATE:20210122
DTEND;VALUE=DATE:20210123
DTSTAMP:20260425T111731
CREATED:20210112T055057Z
LAST-MODIFIED:20210112T055248Z
UID:1036-1611273600-1611359999@www.debbymaziarz.com.au
SUMMARY:Making Our Mark: Women's Leadership Program Applications deadline
DESCRIPTION:[vc_row][vc_column width=”1/6″][/vc_column][vc_column width=”2/3″][vc_single_image image=”1033″ img_size=”large” alignment=”center” onclick=”custom_link” img_link_target=”_blank” link=”https://mvcc.vic.gov.au/wlp/”][vc_column_text]In 2020 and 2021\, Debby Maziarz will be facilitating the Making Our Mark Women’s Leadership Program in Moonee Valley bringing together women who want to work on game-changing social change projects. \nThe 12-week program is action-based and tailored to each participants’ unique area of interest. It builds on the individuals’ passion for social change and the curriculum is applied to real life projects and problems. Self-care and increasing emotional health and wellbeing is at the core of the program – embedded in the facilitation style\, the design of the learning environment and curriculum content. Special care is given to co-creating a safe and supportive environment that enables participants to work from where they are at right now. \nOver 12 weeks\, participants will build their leadership\, communication and teamwork skills in a supportive environment whilst designing game changing projects. \nExpressions of interest are now open at the Moonee Valley City Council website to participate in the program commencing in February 2021.[/vc_column_text][/vc_column][vc_column width=”1/6″][/vc_column][/vc_row]
URL:https://www.debbymaziarz.com.au/workshop/making-our-mark/
LOCATION:Online\, Australia
END:VEVENT
END:VCALENDAR