BEGIN:VCALENDAR
VERSION:2.0
PRODID:-//Debby Maziarz Productions - ECPv6.0.13.1//NONSGML v1.0//EN
CALSCALE:GREGORIAN
METHOD:PUBLISH
X-WR-CALNAME:Debby Maziarz Productions
X-ORIGINAL-URL:https://www.debbymaziarz.com.au
X-WR-CALDESC:Events for Debby Maziarz Productions
REFRESH-INTERVAL;VALUE=DURATION:PT1H
X-Robots-Tag:noindex
X-PUBLISHED-TTL:PT1H
BEGIN:VTIMEZONE
TZID:Australia/Melbourne
BEGIN:STANDARD
TZOFFSETFROM:+1100
TZOFFSETTO:+1000
TZNAME:AEST
DTSTART:20210403T160000
END:STANDARD
BEGIN:DAYLIGHT
TZOFFSETFROM:+1000
TZOFFSETTO:+1100
TZNAME:AEDT
DTSTART:20211002T160000
END:DAYLIGHT
END:VTIMEZONE
BEGIN:VEVENT
DTSTART;TZID=Australia/Melbourne:20210210T093000
DTEND;TZID=Australia/Melbourne:20210210T110000
DTSTAMP:20260425T124825
CREATED:20210113T222032Z
LAST-MODIFIED:20210113T222032Z
UID:1103-1612949400-1612954800@www.debbymaziarz.com.au
SUMMARY:2021 Whitehorse Business Recovery Grants Program Workshop
DESCRIPTION:This workshop is for Whitehorse SME businesses who would like to apply for a Whitehorse Recovery Grant and would like some helpful tips on how to write a grant application. Learnings can be applied to other grants available at a State and Federal level. \nThe workshop is being presented by Debby Maziarz\, who is an experienced grant writing professional who is passionate about supporting SME businesses. \nThe aims of the session are to: \n\nprovide practical\, useful and transferable information about how to approach grant writing;\nencourage you to explore project ideas and clarify point of difference; and\nprovide practical\, useful and transferable information about building budgets for grant applications.\n\nPlease note: once you have booked into this session\, you will be emailed a calendar invite with a link to the ZOOM meeting. You will need to have access to ZOOM to participate in this workshop. \nPlease be mindful\, this session will not provide the opportunity to canvass ideas or seek opinion on the viability of your application. Please refer to https://www.wbiz.com.au/whitehorse-business/whitehorse-recovery-grants-package-business for contact details should you need to discuss your application further. and to download the guidelines. \nPlease note there are information sessions that will assist you to access smartygrants and to discuss the WRGP-Business criteria. \nTo book click here.
URL:https://www.debbymaziarz.com.au/workshop/2021-whitehorse-business-recovery-grants-program-workshop/
LOCATION:Online\, Australia
END:VEVENT
BEGIN:VEVENT
DTSTART;TZID=Australia/Melbourne:20210210T093000
DTEND;TZID=Australia/Melbourne:20210210T110000
DTSTAMP:20260425T124825
CREATED:20210113T222032Z
LAST-MODIFIED:20210113T222032Z
UID:3025-1612949400-1612954800@www.debbymaziarz.com.au
SUMMARY:2021 Whitehorse Business Recovery Grants Program Workshop
DESCRIPTION:This workshop is for Whitehorse SME businesses who would like to apply for a Whitehorse Recovery Grant and would like some helpful tips on how to write a grant application. Learnings can be applied to other grants available at a State and Federal level. \nThe workshop is being presented by Debby Maziarz\, who is an experienced grant writing professional who is passionate about supporting SME businesses. \nThe aims of the session are to: \n\nprovide practical\, useful and transferable information about how to approach grant writing;\nencourage you to explore project ideas and clarify point of difference; and\nprovide practical\, useful and transferable information about building budgets for grant applications.\n\nPlease note: once you have booked into this session\, you will be emailed a calendar invite with a link to the ZOOM meeting. You will need to have access to ZOOM to participate in this workshop. \nPlease be mindful\, this session will not provide the opportunity to canvass ideas or seek opinion on the viability of your application. Please refer to https://www.wbiz.com.au/whitehorse-business/whitehorse-recovery-grants-package-business for contact details should you need to discuss your application further. and to download the guidelines. \nPlease note there are information sessions that will assist you to access smartygrants and to discuss the WRGP-Business criteria. \nTo book click here.
URL:https://www.debbymaziarz.com.au/workshop/2021-whitehorse-business-recovery-grants-program-workshop-3/
LOCATION:Online\, Australia
END:VEVENT
BEGIN:VEVENT
DTSTART;TZID=Australia/Melbourne:20210210T183000
DTEND;TZID=Australia/Melbourne:20210210T200000
DTSTAMP:20260425T124825
CREATED:20210113T222152Z
LAST-MODIFIED:20210113T222152Z
UID:1108-1612981800-1612987200@www.debbymaziarz.com.au
SUMMARY:2021 Whitehorse Business Recovery Grants Program Workshop
DESCRIPTION:This workshop is for Whitehorse SME businesses who would like to apply for a Whitehorse Recovery Grant and would like some helpful tips on how to write a grant application. Learnings can be applied to other grants available at a State and Federal level. \nThe workshop is being presented by Debby Maziarz\, who is an experienced grant writing professional who is passionate about supporting SME businesses. \nThe aims of the session are to: \n\nprovide practical\, useful and transferable information about how to approach grant writing;\nencourage you to explore project ideas and clarify point of difference; and\nprovide practical\, useful and transferable information about building budgets for grant applications.\n\nPlease note: once you have booked into this session\, you will be emailed a calendar invite with a link to the ZOOM meeting. You will need to have access to ZOOM to participate in this workshop. \nPlease be mindful\, this session will not provide the opportunity to canvass ideas or seek opinion on the viability of your application. Please refer to https://www.wbiz.com.au/whitehorse-business/whitehorse-recovery-grants-package-business for contact details should you need to discuss your application further. and to download the guidelines. \nPlease note there are information sessions that will assist you to access smartygrants and to discuss the WRGP-Business criteria. \nTo book click here.
URL:https://www.debbymaziarz.com.au/workshop/2021-whitehorse-business-recovery-grants-program-workshop-2/
LOCATION:Online\, Australia
END:VEVENT
BEGIN:VEVENT
DTSTART;TZID=Australia/Melbourne:20210210T183000
DTEND;TZID=Australia/Melbourne:20210210T200000
DTSTAMP:20260425T124825
CREATED:20210113T222152Z
LAST-MODIFIED:20210113T222152Z
UID:3026-1612981800-1612987200@www.debbymaziarz.com.au
SUMMARY:2021 Whitehorse Business Recovery Grants Program Workshop
DESCRIPTION:This workshop is for Whitehorse SME businesses who would like to apply for a Whitehorse Recovery Grant and would like some helpful tips on how to write a grant application. Learnings can be applied to other grants available at a State and Federal level. \nThe workshop is being presented by Debby Maziarz\, who is an experienced grant writing professional who is passionate about supporting SME businesses. \nThe aims of the session are to: \n\nprovide practical\, useful and transferable information about how to approach grant writing;\nencourage you to explore project ideas and clarify point of difference; and\nprovide practical\, useful and transferable information about building budgets for grant applications.\n\nPlease note: once you have booked into this session\, you will be emailed a calendar invite with a link to the ZOOM meeting. You will need to have access to ZOOM to participate in this workshop. \nPlease be mindful\, this session will not provide the opportunity to canvass ideas or seek opinion on the viability of your application. Please refer to https://www.wbiz.com.au/whitehorse-business/whitehorse-recovery-grants-package-business for contact details should you need to discuss your application further. and to download the guidelines. \nPlease note there are information sessions that will assist you to access smartygrants and to discuss the WRGP-Business criteria. \nTo book click here.
URL:https://www.debbymaziarz.com.au/workshop/2021-whitehorse-business-recovery-grants-program-workshop-2-2/
LOCATION:Online\, Australia
END:VEVENT
END:VCALENDAR