BEGIN:VCALENDAR
VERSION:2.0
PRODID:-//Debby Maziarz Productions - ECPv6.0.13.1//NONSGML v1.0//EN
CALSCALE:GREGORIAN
METHOD:PUBLISH
X-WR-CALNAME:Debby Maziarz Productions
X-ORIGINAL-URL:https://www.debbymaziarz.com.au
X-WR-CALDESC:Events for Debby Maziarz Productions
REFRESH-INTERVAL;VALUE=DURATION:PT1H
X-Robots-Tag:noindex
X-PUBLISHED-TTL:PT1H
BEGIN:VTIMEZONE
TZID:Australia/Melbourne
BEGIN:STANDARD
TZOFFSETFROM:+1100
TZOFFSETTO:+1000
TZNAME:AEST
DTSTART:20210403T160000
END:STANDARD
BEGIN:DAYLIGHT
TZOFFSETFROM:+1000
TZOFFSETTO:+1100
TZNAME:AEDT
DTSTART:20211002T160000
END:DAYLIGHT
END:VTIMEZONE
BEGIN:VEVENT
DTSTART;TZID=Australia/Melbourne:20210217T100000
DTEND;TZID=Australia/Melbourne:20210217T120000
DTSTAMP:20260425T124727
CREATED:20210131T054256Z
LAST-MODIFIED:20210131T054411Z
UID:1276-1613556000-1613563200@www.debbymaziarz.com.au
SUMMARY:Grant Writing Workshop for Whitehorse Community Groups
DESCRIPTION:FREE Grant Writing workshop (hosted online via ZOOM) for Whitehorse Community Groups that want to enhance their grant writing skills.\n\n\n\n\n\n\n\nIts time to get that idea funded! \nBuild your understanding of what is required to successfully apply for and acquit grants. Facilitated by Debby Maziarz Productions\, this fun and hands-on workshop will focus on transforming your ideas into fundable concepts and will walk you step by step through the process. \nTopics include: \n• Understanding the application form \n• Writing an effective project description \n• Building a budget/ completing a budget table \n• Answering the ‘sustainability’ and ‘evaluation’ questions \nPlease be mindful\, this session will not provide the opportunity to seek opinion on the viability of your application. Please refer to council’s website for contact details should you need to discuss your application further. \nIMPORTANT: Spaces are extremely limited due to Covid-19 restrictions\, so only 1 person per community organisation/club/group may attend and strict physical distancing measures will be in place. Masks are to be worn at all times. \n\nPlease only register for this event if you intend on coming and cancel your registration if you can no longer attend.\nNo refreshments will be provided and attendees are encouraged to bring their own water.\n\nRegistrations for this workshop will close at 5.00pm\, Monday 15 February 2021. \nIt is expected that participants will have read the 2021 Grant Guidelines prior to attending. \n\n\n\n\nTo book click here.
URL:https://www.debbymaziarz.com.au/workshop/grant-writing-workshop-for-whitehorse-community-groups/
LOCATION:Willis Room\, Civic Centre\, 379-397 Whitehorse Road\, Nunawading\, VIC\, 3131\, Australia
END:VEVENT
BEGIN:VEVENT
DTSTART;TZID=Australia/Melbourne:20210217T100000
DTEND;TZID=Australia/Melbourne:20210217T120000
DTSTAMP:20260425T124727
CREATED:20210131T054256Z
LAST-MODIFIED:20210131T054256Z
UID:3030-1613556000-1613563200@www.debbymaziarz.com.au
SUMMARY:Grant Writing Workshop for Whitehorse Community Groups
DESCRIPTION:FREE Grant Writing workshop (hosted online via ZOOM) for Whitehorse Community Groups that want to enhance their grant writing skills.\n\n\n\n\n\n\n\nIts time to get that idea funded! \nBuild your understanding of what is required to successfully apply for and acquit grants. Facilitated by Debby Maziarz Productions\, this fun and hands-on workshop will focus on transforming your ideas into fundable concepts and will walk you step by step through the process. \nTopics include: \n• Understanding the application form \n• Writing an effective project description \n• Building a budget/ completing a budget table \n• Answering the ‘sustainability’ and ‘evaluation’ questions \nPlease be mindful\, this session will not provide the opportunity to seek opinion on the viability of your application. Please refer to council’s website for contact details should you need to discuss your application further. \nIMPORTANT: Spaces are extremely limited due to Covid-19 restrictions\, so only 1 person per community organisation/club/group may attend and strict physical distancing measures will be in place. Masks are to be worn at all times. \n\nPlease only register for this event if you intend on coming and cancel your registration if you can no longer attend.\nNo refreshments will be provided and attendees are encouraged to bring their own water.\n\nRegistrations for this workshop will close at 5.00pm\, Monday 15 February 2021. \nIt is expected that participants will have read the 2021 Grant Guidelines prior to attending. \n\n\n\n\nTo book click here.
URL:https://www.debbymaziarz.com.au/workshop/grant-writing-workshop-for-whitehorse-community-groups-3/
LOCATION:Willis Room\, Civic Centre\, 379-397 Whitehorse Road\, Nunawading\, VIC\, 3131\, Australia
END:VEVENT
END:VCALENDAR