BEGIN:VCALENDAR
VERSION:2.0
PRODID:-//Debby Maziarz Productions - ECPv6.0.13.1//NONSGML v1.0//EN
CALSCALE:GREGORIAN
METHOD:PUBLISH
X-ORIGINAL-URL:https://www.debbymaziarz.com.au
X-WR-CALDESC:Events for Debby Maziarz Productions
REFRESH-INTERVAL;VALUE=DURATION:PT1H
X-Robots-Tag:noindex
X-PUBLISHED-TTL:PT1H
BEGIN:VTIMEZONE
TZID:Australia/Melbourne
BEGIN:STANDARD
TZOFFSETFROM:+1100
TZOFFSETTO:+1000
TZNAME:AEST
DTSTART:20210403T160000
END:STANDARD
BEGIN:DAYLIGHT
TZOFFSETFROM:+1000
TZOFFSETTO:+1100
TZNAME:AEDT
DTSTART:20211002T160000
END:DAYLIGHT
END:VTIMEZONE
BEGIN:VEVENT
DTSTART;TZID=Australia/Melbourne:20210224T180000
DTEND;TZID=Australia/Melbourne:20210224T200000
DTSTAMP:20260425T125028
CREATED:20210131T054027Z
LAST-MODIFIED:20210131T054507Z
UID:1274-1614189600-1614196800@www.debbymaziarz.com.au
SUMMARY:Grant Writing Workshop for Whitehorse Community Groups (online\, ZOOM)
DESCRIPTION:FREE Grant Writing workshop (hosted online via ZOOM) for Whitehorse Community Groups that want to enhance their grant writing skills.\n\n\n\n\n\n\n\nIts time to get that idea funded! \nBuild your understanding of what is required to successfully apply for and acquit grants. Facilitated by Debby Maziarz Productions\, this fun and hands-on workshop will focus on transforming your ideas into fundable concepts and will walk you step by step through the process. \nTopics include: \n• Understanding the application form \n• Writing an effective project description \n• Building a budget/ completing a budget table \n• Answering the ‘sustainability’ and ‘evaluation’ questions \nPlease be mindful\, this session will not provide the opportunity to seek opinion on the viability of your application. Please refer to council’s website for contact details should you need to discuss your application further. \nIMPORTANT: The ZOOM link for this online workshop will be emailed to you by midday\, on Wednesday 24th Feb (day of the workshop). \nRegistrations for this workshop will close at 5.00pm\, Monday 22 February 2021 \nIt is expected that participants will have read the 2021 Grant Guidelines prior to attending. \n\n\n\n\nTo book click here.
URL:https://www.debbymaziarz.com.au/workshop/grant-writing-workshop-for-whitehorse-community-groups-online-zoom/
LOCATION:Online\, Australia
END:VEVENT
BEGIN:VEVENT
DTSTART;TZID=Australia/Melbourne:20210224T180000
DTEND;TZID=Australia/Melbourne:20210224T200000
DTSTAMP:20260425T125028
CREATED:20210131T054027Z
LAST-MODIFIED:20210131T054027Z
UID:3029-1614189600-1614196800@www.debbymaziarz.com.au
SUMMARY:Grant Writing Workshop for Whitehorse Community Groups (online\, ZOOM)
DESCRIPTION:FREE Grant Writing workshop (hosted online via ZOOM) for Whitehorse Community Groups that want to enhance their grant writing skills.\n\n\n\n\n\n\n\nIts time to get that idea funded! \nBuild your understanding of what is required to successfully apply for and acquit grants. Facilitated by Debby Maziarz Productions\, this fun and hands-on workshop will focus on transforming your ideas into fundable concepts and will walk you step by step through the process. \nTopics include: \n• Understanding the application form \n• Writing an effective project description \n• Building a budget/ completing a budget table \n• Answering the ‘sustainability’ and ‘evaluation’ questions \nPlease be mindful\, this session will not provide the opportunity to seek opinion on the viability of your application. Please refer to council’s website for contact details should you need to discuss your application further. \nIMPORTANT: The ZOOM link for this online workshop will be emailed to you by midday\, on Wednesday 24th Feb (day of the workshop). \nRegistrations for this workshop will close at 5.00pm\, Monday 22 February 2021 \nIt is expected that participants will have read the 2021 Grant Guidelines prior to attending. \n\n\n\n\nTo book click here.
URL:https://www.debbymaziarz.com.au/workshop/grant-writing-workshop-for-whitehorse-community-groups-online-zoom-2/
LOCATION:Online\, Australia
END:VEVENT
END:VCALENDAR