BEGIN:VCALENDAR
VERSION:2.0
PRODID:-//Debby Maziarz Productions - ECPv6.0.13.1//NONSGML v1.0//EN
CALSCALE:GREGORIAN
METHOD:PUBLISH
X-ORIGINAL-URL:https://www.debbymaziarz.com.au
X-WR-CALDESC:Events for Debby Maziarz Productions
REFRESH-INTERVAL;VALUE=DURATION:PT1H
X-Robots-Tag:noindex
X-PUBLISHED-TTL:PT1H
BEGIN:VTIMEZONE
TZID:UTC
BEGIN:STANDARD
TZOFFSETFROM:+0000
TZOFFSETTO:+0000
TZNAME:UTC
DTSTART:20210101T000000
END:STANDARD
END:VTIMEZONE
BEGIN:VEVENT
DTSTART;TZID=UTC:20210315T180000
DTEND;TZID=UTC:20210315T210000
DTSTAMP:20260425T142746
CREATED:20210225T001438Z
LAST-MODIFIED:20210225T001438Z
UID:1319-1615831200-1615842000@www.debbymaziarz.com.au
SUMMARY:Grant Writing Workshop - Brimbank City Council
DESCRIPTION:This session will provide community groups and organisations’ grant writers with information\, skills and knowledge to prepare and apply for grants from a variety of funding sources including the Brimbank Community Grants. \nTopics covered \n\nWhere to find grants\nSolidifying your project idea\nWriting the 50-word grab\nThe grant making cycle\nWork through a grant application\nHow to do a budget (for a grant application)\nDealing with the ‘evaluation’ and ‘project sustainability’ questions.\n\nFor more information and to register\, click here.
URL:https://www.debbymaziarz.com.au/workshop/grant-writing-workshop-brimbank-city-council-2/
LOCATION:Online\, Australia
END:VEVENT
BEGIN:VEVENT
DTSTART;TZID=UTC:20210315T180000
DTEND;TZID=UTC:20210315T210000
DTSTAMP:20260425T142746
CREATED:20210225T001438Z
LAST-MODIFIED:20210225T001438Z
UID:3033-1615831200-1615842000@www.debbymaziarz.com.au
SUMMARY:Grant Writing Workshop - Brimbank City Council
DESCRIPTION:This session will provide community groups and organisations’ grant writers with information\, skills and knowledge to prepare and apply for grants from a variety of funding sources including the Brimbank Community Grants. \nTopics covered \n\nWhere to find grants\nSolidifying your project idea\nWriting the 50-word grab\nThe grant making cycle\nWork through a grant application\nHow to do a budget (for a grant application)\nDealing with the ‘evaluation’ and ‘project sustainability’ questions.\n\nFor more information and to register\, click here.
URL:https://www.debbymaziarz.com.au/workshop/grant-writing-workshop-brimbank-city-council-2-2/
LOCATION:Online\, Australia
END:VEVENT
END:VCALENDAR