BEGIN:VCALENDAR
VERSION:2.0
PRODID:-//Debby Maziarz Productions - ECPv6.0.13.1//NONSGML v1.0//EN
CALSCALE:GREGORIAN
METHOD:PUBLISH
X-WR-CALNAME:Debby Maziarz Productions
X-ORIGINAL-URL:https://www.debbymaziarz.com.au
X-WR-CALDESC:Events for Debby Maziarz Productions
REFRESH-INTERVAL;VALUE=DURATION:PT1H
X-Robots-Tag:noindex
X-PUBLISHED-TTL:PT1H
BEGIN:VTIMEZONE
TZID:UTC
BEGIN:STANDARD
TZOFFSETFROM:+0000
TZOFFSETTO:+0000
TZNAME:UTC
DTSTART:20210101T000000
END:STANDARD
END:VTIMEZONE
BEGIN:VEVENT
DTSTART;VALUE=DATE:20210411
DTEND;VALUE=DATE:20210412
DTSTAMP:20260425T155257
CREATED:20210331T230043Z
LAST-MODIFIED:20210331T230043Z
UID:3039-1618099200-1618185599@www.debbymaziarz.com.au
SUMMARY:Nillumbik Women's Community Leadership and Connections Program
DESCRIPTION:Nillumbik Shire Council are on the lookout for women who are passionate about their community and are willing to take the challenge of learning a range of skills so they can apply their newfound knowledge into leading and inspiring other women in our shire to connect and make a difference in their community. \nIf this sounds like you\, please complete an Expression of Interest online form here. \nThis program\, facilitated by Debby Maziarz Productions\, will bring women together with health\, wellbeing and leadership experts to learn a range of skills in visioning\, project planning\, design and activation. The program is action based\, so participants will apply their new skills and knowledge to real-life projects and situations with the support of peers and Council. \nCore learning areas include: \n\nHealth and wellbeing: Creating the right conditions that will support your leadership journey\nDefine: Clarify your project’s unique value and position in your community\nDesign: Learn a people-centered process for developing and testing new ideas\nAction: Develop your unique way of leading that stems from your values\n\nPlease submit your Expression of Interest by Sunday 11 April. For more information and to apply please visit the Nillumbik Shire Council website.
URL:https://www.debbymaziarz.com.au/workshop/womens-community-leadership-and-connections-program-2/
LOCATION:Hurstbridge Community Hub\, 50 Graysharps Rd\, Hurstbridge\, VIC\, 3099\, Australia
ORGANIZER;CN="Nillumbik%20Shire%20Council":MAILTO:nillumbik@nillumbik.vic.gov.au
END:VEVENT
BEGIN:VEVENT
DTSTART;VALUE=DATE:20210411
DTEND;VALUE=DATE:20210412
DTSTAMP:20260425T155257
CREATED:20210331T230043Z
LAST-MODIFIED:20210331T230515Z
UID:1368-1618099200-1618185599@www.debbymaziarz.com.au
SUMMARY:Nillumbik Women's Community Leadership and Connections Program
DESCRIPTION:Nillumbik Shire Council are on the lookout for women who are passionate about their community and are willing to take the challenge of learning a range of skills so they can apply their newfound knowledge into leading and inspiring other women in our shire to connect and make a difference in their community. \nIf this sounds like you\, please complete an Expression of Interest online form here. \nThis program\, facilitated by Debby Maziarz Productions\, will bring women together with health\, wellbeing and leadership experts to learn a range of skills in visioning\, project planning\, design and activation. The program is action based\, so participants will apply their new skills and knowledge to real-life projects and situations with the support of peers and Council. \nCore learning areas include: \n\nHealth and wellbeing: Creating the right conditions that will support your leadership journey\nDefine: Clarify your project’s unique value and position in your community\nDesign: Learn a people-centered process for developing and testing new ideas\nAction: Develop your unique way of leading that stems from your values\n\nPlease submit your Expression of Interest by Sunday 11 April. For more information and to apply please visit the Nillumbik Shire Council website.
URL:https://www.debbymaziarz.com.au/workshop/womens-community-leadership-and-connections-program/
LOCATION:Hurstbridge Community Hub\, 50 Graysharps Rd\, Hurstbridge\, VIC\, 3099\, Australia
ORGANIZER;CN="Nillumbik%20Shire%20Council":MAILTO:nillumbik@nillumbik.vic.gov.au
END:VEVENT
END:VCALENDAR