BEGIN:VCALENDAR
VERSION:2.0
PRODID:-//Debby Maziarz Productions - ECPv6.0.13.1//NONSGML v1.0//EN
CALSCALE:GREGORIAN
METHOD:PUBLISH
X-WR-CALNAME:Debby Maziarz Productions
X-ORIGINAL-URL:https://www.debbymaziarz.com.au
X-WR-CALDESC:Events for Debby Maziarz Productions
REFRESH-INTERVAL;VALUE=DURATION:PT1H
X-Robots-Tag:noindex
X-PUBLISHED-TTL:PT1H
BEGIN:VTIMEZONE
TZID:Australia/Melbourne
BEGIN:STANDARD
TZOFFSETFROM:+1100
TZOFFSETTO:+1000
TZNAME:AEST
DTSTART:20210403T160000
END:STANDARD
BEGIN:DAYLIGHT
TZOFFSETFROM:+1000
TZOFFSETTO:+1100
TZNAME:AEDT
DTSTART:20211002T160000
END:DAYLIGHT
END:VTIMEZONE
BEGIN:VEVENT
DTSTART;TZID=Australia/Melbourne:20210517T130000
DTEND;TZID=Australia/Melbourne:20210517T153000
DTSTAMP:20260425T171707
CREATED:20210519T131254Z
LAST-MODIFIED:20210519T131254Z
UID:3051-1621256400-1621265400@www.debbymaziarz.com.au
SUMMARY:West Gate Neighbourhood Fund: Grant Writing Workshops
DESCRIPTION:The West Gate Neighbourhood Fund is a $10 million government fund established to support communities in Melbourne’s inner west during the construction of the West Gate Tunnel Project (WGTP). \nThe fund allows not-for-profit groups to access support for projects that bring people together and build community capacity. \nLaunched in November 2019\, the first round of the West Gate Neighbourhood Fund – Partnerships stream has closed. The first round of the grants stream is now open for applications. \nTwo information sessions and four grant writing workshops will be held within the Hobsons Bay and Maribyrnong Local Government Areas in support of the opening of the West Gate Neighbourhood Fund – Grants. \nFor more information and to book please click here.
URL:https://www.debbymaziarz.com.au/workshop/west-gate-neighbourhood-fund-grant-writing-workshops-3-2/
LOCATION:Maribyrnong Town Hall\, Corner of Hyde & Napier Streets\, Footscray\, State\, 3011\, Australia
END:VEVENT
BEGIN:VEVENT
DTSTART;TZID=Australia/Melbourne:20210517T130000
DTEND;TZID=Australia/Melbourne:20210517T153000
DTSTAMP:20260425T171707
CREATED:20210519T131254Z
LAST-MODIFIED:20210519T131426Z
UID:1410-1621256400-1621265400@www.debbymaziarz.com.au
SUMMARY:West Gate Neighbourhood Fund: Grant Writing Workshops
DESCRIPTION:The West Gate Neighbourhood Fund is a $10 million government fund established to support communities in Melbourne’s inner west during the construction of the West Gate Tunnel Project (WGTP). \nThe fund allows not-for-profit groups to access support for projects that bring people together and build community capacity. \nLaunched in November 2019\, the first round of the West Gate Neighbourhood Fund – Partnerships stream has closed. The first round of the grants stream is now open for applications. \nTwo information sessions and four grant writing workshops will be held within the Hobsons Bay and Maribyrnong Local Government Areas in support of the opening of the West Gate Neighbourhood Fund – Grants. \nFor more information and to book please click here.
URL:https://www.debbymaziarz.com.au/workshop/west-gate-neighbourhood-fund-grant-writing-workshops-3/
LOCATION:Maribyrnong Town Hall\, Corner of Hyde & Napier Streets\, Footscray\, State\, 3011\, Australia
END:VEVENT
BEGIN:VEVENT
DTSTART;TZID=Australia/Melbourne:20210517T180000
DTEND;TZID=Australia/Melbourne:20210517T203000
DTSTAMP:20260425T171707
CREATED:20210225T003022Z
LAST-MODIFIED:20210225T003022Z
UID:1325-1621274400-1621283400@www.debbymaziarz.com.au
SUMMARY:Hobsons Bay City Council Community Grants Information and Grant Writing Workshops
DESCRIPTION:Are you thinking about applying for a Make it Happen – Hobsons Bay Recovery and Reconnection grant? Join expert grant writer Debby Maziarz online via Zoom to learn how to get the most out of your grant application. \nAny questions about the workshop – please contact grants@hobsonsbay.vic.gov.au \nOnce registered\, a link to access the online session will be sent to the nominated email in the form prior to the session from grants@hobsonsbay.vic.gov.au. If you don’t see the email\, please check your junk folder for your email. \nFor more information and to book please click here.
URL:https://www.debbymaziarz.com.au/workshop/hobsons-bay-city-council-community-grants-information-and-grant-writing-workshops-8/
LOCATION:Online\, Australia
END:VEVENT
BEGIN:VEVENT
DTSTART;TZID=Australia/Melbourne:20210517T180000
DTEND;TZID=Australia/Melbourne:20210517T203000
DTSTAMP:20260425T171707
CREATED:20210225T003022Z
LAST-MODIFIED:20210225T003022Z
UID:3035-1621274400-1621283400@www.debbymaziarz.com.au
SUMMARY:Hobsons Bay City Council Community Grants Information and Grant Writing Workshops
DESCRIPTION:Are you thinking about applying for a Make it Happen – Hobsons Bay Recovery and Reconnection grant? Join expert grant writer Debby Maziarz online via Zoom to learn how to get the most out of your grant application. \nAny questions about the workshop – please contact grants@hobsonsbay.vic.gov.au \nOnce registered\, a link to access the online session will be sent to the nominated email in the form prior to the session from grants@hobsonsbay.vic.gov.au. If you don’t see the email\, please check your junk folder for your email. \nFor more information and to book please click here.
URL:https://www.debbymaziarz.com.au/workshop/hobsons-bay-city-council-community-grants-information-and-grant-writing-workshops-8-2/
LOCATION:Online\, Australia
END:VEVENT
END:VCALENDAR