BEGIN:VCALENDAR
VERSION:2.0
PRODID:-//Debby Maziarz Productions - ECPv6.0.13.1//NONSGML v1.0//EN
CALSCALE:GREGORIAN
METHOD:PUBLISH
X-ORIGINAL-URL:https://www.debbymaziarz.com.au
X-WR-CALDESC:Events for Debby Maziarz Productions
REFRESH-INTERVAL;VALUE=DURATION:PT1H
X-Robots-Tag:noindex
X-PUBLISHED-TTL:PT1H
BEGIN:VTIMEZONE
TZID:Australia/Melbourne
BEGIN:STANDARD
TZOFFSETFROM:+1100
TZOFFSETTO:+1000
TZNAME:AEST
DTSTART:20210403T160000
END:STANDARD
BEGIN:DAYLIGHT
TZOFFSETFROM:+1000
TZOFFSETTO:+1100
TZNAME:AEDT
DTSTART:20211002T160000
END:DAYLIGHT
END:VTIMEZONE
BEGIN:VEVENT
DTSTART;TZID=Australia/Melbourne:20210518T150000
DTEND;TZID=Australia/Melbourne:20210518T173000
DTSTAMP:20260425T172713
CREATED:20210519T131013Z
LAST-MODIFIED:20210519T131138Z
UID:1403-1621350000-1621359000@www.debbymaziarz.com.au
SUMMARY:West Gate Neighbourhood Fund: Grant Writing Workshops
DESCRIPTION:The West Gate Neighbourhood Fund is a $10 million government fund established to support communities in Melbourne’s inner west during the construction of the West Gate Tunnel Project (WGTP). \nThe fund allows not-for-profit groups to access support for projects that bring people together and build community capacity. \nLaunched in November 2019\, the first round of the West Gate Neighbourhood Fund – Partnerships stream has closed. The first round of the grants stream is now open for applications. \nTwo information sessions and four grant writing workshops will be held within the Hobsons Bay and Maribyrnong Local Government Areas in support of the opening of the West Gate Neighbourhood Fund – Grants. \nFor more information and to book please click here.
URL:https://www.debbymaziarz.com.au/workshop/west-gate-neighbourhood-fund-grant-writing-workshops/
LOCATION:Laverton Community Hub\, 95-105 Railway Avenue\, Laverton\, VIC\, Australia
END:VEVENT
BEGIN:VEVENT
DTSTART;TZID=Australia/Melbourne:20210518T150000
DTEND;TZID=Australia/Melbourne:20210518T173000
DTSTAMP:20260425T172713
CREATED:20210519T131013Z
LAST-MODIFIED:20210519T131013Z
UID:3049-1621350000-1621359000@www.debbymaziarz.com.au
SUMMARY:West Gate Neighbourhood Fund: Grant Writing Workshops
DESCRIPTION:The West Gate Neighbourhood Fund is a $10 million government fund established to support communities in Melbourne’s inner west during the construction of the West Gate Tunnel Project (WGTP). \nThe fund allows not-for-profit groups to access support for projects that bring people together and build community capacity. \nLaunched in November 2019\, the first round of the West Gate Neighbourhood Fund – Partnerships stream has closed. The first round of the grants stream is now open for applications. \nTwo information sessions and four grant writing workshops will be held within the Hobsons Bay and Maribyrnong Local Government Areas in support of the opening of the West Gate Neighbourhood Fund – Grants. \nFor more information and to book please click here.
URL:https://www.debbymaziarz.com.au/workshop/west-gate-neighbourhood-fund-grant-writing-workshops-5/
LOCATION:Laverton Community Hub\, 95-105 Railway Avenue\, Laverton\, VIC\, Australia
END:VEVENT
BEGIN:VEVENT
DTSTART;TZID=Australia/Melbourne:20210518T180000
DTEND;TZID=Australia/Melbourne:20210518T203000
DTSTAMP:20260425T172713
CREATED:20210519T131113Z
LAST-MODIFIED:20210519T131113Z
UID:1407-1621360800-1621369800@www.debbymaziarz.com.au
SUMMARY:West Gate Neighbourhood Fund: Grant Writing Workshops
DESCRIPTION:The West Gate Neighbourhood Fund is a $10 million government fund established to support communities in Melbourne’s inner west during the construction of the West Gate Tunnel Project (WGTP). \nThe fund allows not-for-profit groups to access support for projects that bring people together and build community capacity. \nLaunched in November 2019\, the first round of the West Gate Neighbourhood Fund – Partnerships stream has closed. The first round of the grants stream is now open for applications. \nTwo information sessions and four grant writing workshops will be held within the Hobsons Bay and Maribyrnong Local Government Areas in support of the opening of the West Gate Neighbourhood Fund – Grants. \nFor more information and to book please click here.
URL:https://www.debbymaziarz.com.au/workshop/west-gate-neighbourhood-fund-grant-writing-workshops-2/
LOCATION:Laverton Community Hub\, 95-105 Railway Avenue\, Laverton\, VIC\, Australia
END:VEVENT
BEGIN:VEVENT
DTSTART;TZID=Australia/Melbourne:20210518T180000
DTEND;TZID=Australia/Melbourne:20210518T203000
DTSTAMP:20260425T172713
CREATED:20210519T131113Z
LAST-MODIFIED:20210519T131113Z
UID:3050-1621360800-1621369800@www.debbymaziarz.com.au
SUMMARY:West Gate Neighbourhood Fund: Grant Writing Workshops
DESCRIPTION:The West Gate Neighbourhood Fund is a $10 million government fund established to support communities in Melbourne’s inner west during the construction of the West Gate Tunnel Project (WGTP). \nThe fund allows not-for-profit groups to access support for projects that bring people together and build community capacity. \nLaunched in November 2019\, the first round of the West Gate Neighbourhood Fund – Partnerships stream has closed. The first round of the grants stream is now open for applications. \nTwo information sessions and four grant writing workshops will be held within the Hobsons Bay and Maribyrnong Local Government Areas in support of the opening of the West Gate Neighbourhood Fund – Grants. \nFor more information and to book please click here.
URL:https://www.debbymaziarz.com.au/workshop/west-gate-neighbourhood-fund-grant-writing-workshops-2-2/
LOCATION:Laverton Community Hub\, 95-105 Railway Avenue\, Laverton\, VIC\, Australia
END:VEVENT
END:VCALENDAR