BEGIN:VCALENDAR
VERSION:2.0
PRODID:-//Debby Maziarz Productions - ECPv6.0.13.1//NONSGML v1.0//EN
CALSCALE:GREGORIAN
METHOD:PUBLISH
X-WR-CALNAME:Debby Maziarz Productions
X-ORIGINAL-URL:https://www.debbymaziarz.com.au
X-WR-CALDESC:Events for Debby Maziarz Productions
REFRESH-INTERVAL;VALUE=DURATION:PT1H
X-Robots-Tag:noindex
X-PUBLISHED-TTL:PT1H
BEGIN:VTIMEZONE
TZID:UTC
BEGIN:STANDARD
TZOFFSETFROM:+0000
TZOFFSETTO:+0000
TZNAME:UTC
DTSTART:20210101T000000
END:STANDARD
END:VTIMEZONE
BEGIN:VEVENT
DTSTART;TZID=UTC:20210522T130000
DTEND;TZID=UTC:20210522T160000
DTSTAMP:20260425T171658
CREATED:20210309T062822Z
LAST-MODIFIED:20210309T062822Z
UID:3038-1621688400-1621699200@www.debbymaziarz.com.au
SUMMARY:Book Binding Workshop for Beginners (DMP Artist in Residence)
DESCRIPTION:[vc_row][vc_column][vc_column_text css=”.vc_custom_1615271679736{margin-bottom: 0px !important;}”]With DMP Artist in Residence Rita Maziarz learn the art of bookbinding in a fun workshop perfect for beginners and lovers of books. \nYou will join your journal together using folded paper and a spine sewing technique. Create your own hard material cover using fabric\, craft paper or you can bring along something special (such as a piece of material you have collected) to add to your cover. \nBasic materials are supplied including: cardboard\, material for the cover\, craft paper for special pages\, glue\, cotton and sewing needles. \nYour unique journal will be suitable for journaling or sketching. A great keepsake or gift for someone special.[/vc_column_text][vc_btn title=”BOOK YOUR PLACE AT CRAFTBYRITA” style=”outline” color=”mulled-wine” size=”lg” align=”center” link=”url:https%3A%2F%2Fwww.craftbyrita.com%2Fevent-info%2Fbook-binding-workshop|||”][mk_employees style=”boxed” column=”1″ employees=”844″][/vc_column][/vc_row]
URL:https://www.debbymaziarz.com.au/workshop/book-binding-workshop-for-beginners-2/
LOCATION:Rita’s Studio\, 21 Stanley Ave\, Eltham\, VIC\, 3095\, Australia
END:VEVENT
BEGIN:VEVENT
DTSTART;TZID=UTC:20210522T130000
DTEND;TZID=UTC:20210522T160000
DTSTAMP:20260425T171658
CREATED:20210309T062822Z
LAST-MODIFIED:20210309T113152Z
UID:1358-1621688400-1621699200@www.debbymaziarz.com.au
SUMMARY:Book Binding Workshop for Beginners (DMP Artist in Residence)
DESCRIPTION:[vc_row][vc_column][vc_column_text css=”.vc_custom_1615271679736{margin-bottom: 0px !important;}”]With DMP Artist in Residence Rita Maziarz learn the art of bookbinding in a fun workshop perfect for beginners and lovers of books. \nYou will join your journal together using folded paper and a spine sewing technique. Create your own hard material cover using fabric\, craft paper or you can bring along something special (such as a piece of material you have collected) to add to your cover. \nBasic materials are supplied including: cardboard\, material for the cover\, craft paper for special pages\, glue\, cotton and sewing needles. \nYour unique journal will be suitable for journaling or sketching. A great keepsake or gift for someone special.[/vc_column_text][vc_btn title=”BOOK YOUR PLACE AT CRAFTBYRITA” style=”outline” color=”mulled-wine” size=”lg” align=”center” link=”url:https%3A%2F%2Fwww.craftbyrita.com%2Fevent-info%2Fbook-binding-workshop|||”][mk_employees style=”boxed” column=”1″ employees=”844″][/vc_column][/vc_row]
URL:https://www.debbymaziarz.com.au/workshop/book-binding-workshop-for-beginners/
LOCATION:Rita’s Studio\, 21 Stanley Ave\, Eltham\, VIC\, 3095\, Australia
END:VEVENT
END:VCALENDAR