BEGIN:VCALENDAR
VERSION:2.0
PRODID:-//Debby Maziarz Productions - ECPv6.0.13.1//NONSGML v1.0//EN
CALSCALE:GREGORIAN
METHOD:PUBLISH
X-WR-CALNAME:Debby Maziarz Productions
X-ORIGINAL-URL:https://www.debbymaziarz.com.au
X-WR-CALDESC:Events for Debby Maziarz Productions
REFRESH-INTERVAL;VALUE=DURATION:PT1H
X-Robots-Tag:noindex
X-PUBLISHED-TTL:PT1H
BEGIN:VTIMEZONE
TZID:UTC
BEGIN:STANDARD
TZOFFSETFROM:+0000
TZOFFSETTO:+0000
TZNAME:UTC
DTSTART:20210101T000000
END:STANDARD
END:VTIMEZONE
BEGIN:VEVENT
DTSTART;TZID=UTC:20210622T174500
DTEND;TZID=UTC:20210622T210000
DTSTAMP:20260425T184452
CREATED:20210601T105625Z
LAST-MODIFIED:20210601T105625Z
UID:3053-1624383900-1624395600@www.debbymaziarz.com.au
SUMMARY:ARTOPIA: A focus group by Ask the Artist
DESCRIPTION:Focus Group – a participatory experience for creatives. Limited spaces! \nARTOPIA is a focus group with a difference. It’s an artist-led intervention that combines conversation\, design\, reinvigoration and good food. It explores what we need and want as creatives and asks how we can pool resources to build a more resilient\, connected and creative community. Facilitators Ask the Artist and Amie Brûlée are joyous and fun to be around – and they bring expertise in circus\, storytelling\, performance\, permaculture\, community organising and gastronomy. \nCome and be nourished! \nREGISTER HERE
URL:https://www.debbymaziarz.com.au/workshop/artopia-a-focus-group-by-ask-the-artist-3/
LOCATION:Hurstbridge Community Hub\, 50 Graysharps Rd\, Hurstbridge\, VIC\, 3099\, Australia
ORGANIZER;CN="Nillumbik%20Shire%20Council":MAILTO:nillumbik@nillumbik.vic.gov.au
END:VEVENT
BEGIN:VEVENT
DTSTART;TZID=UTC:20210622T174500
DTEND;TZID=UTC:20210622T210000
DTSTAMP:20260425T184452
CREATED:20210601T105625Z
LAST-MODIFIED:20210601T105625Z
UID:1425-1624383900-1624395600@www.debbymaziarz.com.au
SUMMARY:ARTOPIA: A focus group by Ask the Artist
DESCRIPTION:Focus Group – a participatory experience for creatives. Limited spaces! \nARTOPIA is a focus group with a difference. It’s an artist-led intervention that combines conversation\, design\, reinvigoration and good food. It explores what we need and want as creatives and asks how we can pool resources to build a more resilient\, connected and creative community. Facilitators Ask the Artist and Amie Brûlée are joyous and fun to be around – and they bring expertise in circus\, storytelling\, performance\, permaculture\, community organising and gastronomy. \nCome and be nourished! \nREGISTER HERE
URL:https://www.debbymaziarz.com.au/workshop/artopia-a-focus-group-by-ask-the-artist/
LOCATION:Hurstbridge Community Hub\, 50 Graysharps Rd\, Hurstbridge\, VIC\, 3099\, Australia
ORGANIZER;CN="Nillumbik%20Shire%20Council":MAILTO:nillumbik@nillumbik.vic.gov.au
END:VEVENT
END:VCALENDAR