BEGIN:VCALENDAR
VERSION:2.0
PRODID:-//Debby Maziarz Productions - ECPv6.0.13.1//NONSGML v1.0//EN
CALSCALE:GREGORIAN
METHOD:PUBLISH
X-WR-CALNAME:Debby Maziarz Productions
X-ORIGINAL-URL:https://www.debbymaziarz.com.au
X-WR-CALDESC:Events for Debby Maziarz Productions
REFRESH-INTERVAL;VALUE=DURATION:PT1H
X-Robots-Tag:noindex
X-PUBLISHED-TTL:PT1H
BEGIN:VTIMEZONE
TZID:Australia/Melbourne
BEGIN:STANDARD
TZOFFSETFROM:+1100
TZOFFSETTO:+1000
TZNAME:AEST
DTSTART:20210403T160000
END:STANDARD
BEGIN:DAYLIGHT
TZOFFSETFROM:+1000
TZOFFSETTO:+1100
TZNAME:AEDT
DTSTART:20211002T160000
END:DAYLIGHT
END:VTIMEZONE
BEGIN:VEVENT
DTSTART;TZID=Australia/Melbourne:20210802T183000
DTEND;TZID=Australia/Melbourne:20210802T193000
DTSTAMP:20260425T214701
CREATED:20210721T024051Z
LAST-MODIFIED:20210721T024051Z
UID:1441-1627929000-1627932600@www.debbymaziarz.com.au
SUMMARY:Hobsons Bay Community Action and Leadership: Bringing Your Ideas to Life Online Workshop
DESCRIPTION:[vc_row][vc_column width=”1/2″][mk_image src=”https://www.debbymaziarz.com.au/wp-content/uploads/2021/07/image001-2.jpg” image_size=”full” align=”center”][/vc_column][vc_column width=”1/2″][vc_column_text css=”.vc_custom_1626835131096{margin-bottom: 0px !important;}”]So you have an idea for community action\, connection\, leadership or perhaps just fun? Do you need funds to make it happen? Where do you start? Bring your idea to this online workshop. Working with other people and supported by expert community ideas facilitator Debby Maziarz\, you will tease out what local resources\, funds and grants might be a good fit for bringing your idea to life! \nRegistrations close: Friday 30 July\, 12pm \nOnce registered\, a link to access the online session will be sent to the nominated email in the form prior to the session from commdev@hobsonsbay.vic.gov.au. If you don’t see the email\, please check your junk folder for your email.[/vc_column_text][/vc_column][/vc_row][vc_row][vc_column][vc_column_text css=”.vc_custom_1626835231692{margin-bottom: 0px !important;}”]For more information and to book please click here.[/vc_column_text][/vc_column][/vc_row]
URL:https://www.debbymaziarz.com.au/workshop/hobsons-bay-community-action-and-leadership-bringing-your-ideas-to-life-online-workshop/
LOCATION:Online\, Australia
END:VEVENT
BEGIN:VEVENT
DTSTART;TZID=Australia/Melbourne:20210802T183000
DTEND;TZID=Australia/Melbourne:20210802T193000
DTSTAMP:20260425T214701
CREATED:20210721T024051Z
LAST-MODIFIED:20210721T024051Z
UID:3057-1627929000-1627932600@www.debbymaziarz.com.au
SUMMARY:Hobsons Bay Community Action and Leadership: Bringing Your Ideas to Life Online Workshop
DESCRIPTION:[vc_row][vc_column width=”1/2″][mk_image src=”https://www.debbymaziarz.com.au/wp-content/uploads/2021/07/image001-2.jpg” image_size=”full” align=”center”][/vc_column][vc_column width=”1/2″][vc_column_text css=”.vc_custom_1626835131096{margin-bottom: 0px !important;}”]So you have an idea for community action\, connection\, leadership or perhaps just fun? Do you need funds to make it happen? Where do you start? Bring your idea to this online workshop. Working with other people and supported by expert community ideas facilitator Debby Maziarz\, you will tease out what local resources\, funds and grants might be a good fit for bringing your idea to life! \nRegistrations close: Friday 30 July\, 12pm \nOnce registered\, a link to access the online session will be sent to the nominated email in the form prior to the session from commdev@hobsonsbay.vic.gov.au. If you don’t see the email\, please check your junk folder for your email.[/vc_column_text][/vc_column][/vc_row][vc_row][vc_column][vc_column_text css=”.vc_custom_1626835231692{margin-bottom: 0px !important;}”]For more information and to book please click here.[/vc_column_text][/vc_column][/vc_row]
URL:https://www.debbymaziarz.com.au/workshop/hobsons-bay-community-action-and-leadership-bringing-your-ideas-to-life-online-workshop-2/
LOCATION:Online\, Australia
END:VEVENT
END:VCALENDAR