BEGIN:VCALENDAR
VERSION:2.0
PRODID:-//Debby Maziarz Productions - ECPv6.0.13.1//NONSGML v1.0//EN
CALSCALE:GREGORIAN
METHOD:PUBLISH
X-ORIGINAL-URL:https://www.debbymaziarz.com.au
X-WR-CALDESC:Events for Debby Maziarz Productions
REFRESH-INTERVAL;VALUE=DURATION:PT1H
X-Robots-Tag:noindex
X-PUBLISHED-TTL:PT1H
BEGIN:VTIMEZONE
TZID:Australia/Melbourne
BEGIN:STANDARD
TZOFFSETFROM:+1100
TZOFFSETTO:+1000
TZNAME:AEST
DTSTART:20210403T160000
END:STANDARD
BEGIN:DAYLIGHT
TZOFFSETFROM:+1000
TZOFFSETTO:+1100
TZNAME:AEDT
DTSTART:20211002T160000
END:DAYLIGHT
END:VTIMEZONE
BEGIN:VEVENT
DTSTART;TZID=Australia/Melbourne:20211005T180000
DTEND;TZID=Australia/Melbourne:20211005T200000
DTSTAMP:20260424T034702
CREATED:20210915T011326Z
LAST-MODIFIED:20210915T011326Z
UID:1503-1633456800-1633464000@www.debbymaziarz.com.au
SUMMARY:Grant Writing Online Workshop - City of Melton
DESCRIPTION:This fun and hands-on workshop will focus on transforming your ideas into fundable concepts and will walk you step by step through the process. Topics include: \n\nWhat are Community Grants?\nTypes of Grants available\nHow can you apply?\nLearn to write a grant application\nDevelop realistic budgets\nDevelop ideas for fundable projects\n\nFor more information and to book please click here.
URL:https://www.debbymaziarz.com.au/workshop/grant-writing-online-workshop-city-of-melton-2/
LOCATION:Online\, Australia
ORGANIZER;CN="City%20of%20Melton":MAILTO:communitytraining@melton.vic.gov.au
END:VEVENT
BEGIN:VEVENT
DTSTART;TZID=Australia/Melbourne:20211005T180000
DTEND;TZID=Australia/Melbourne:20211005T200000
DTSTAMP:20260424T034702
CREATED:20210915T011326Z
LAST-MODIFIED:20210915T011326Z
UID:3068-1633456800-1633464000@www.debbymaziarz.com.au
SUMMARY:Grant Writing Online Workshop - City of Melton
DESCRIPTION:This fun and hands-on workshop will focus on transforming your ideas into fundable concepts and will walk you step by step through the process. Topics include: \n\nWhat are Community Grants?\nTypes of Grants available\nHow can you apply?\nLearn to write a grant application\nDevelop realistic budgets\nDevelop ideas for fundable projects\n\nFor more information and to book please click here.
URL:https://www.debbymaziarz.com.au/workshop/grant-writing-online-workshop-city-of-melton-2-2/
LOCATION:Online\, Australia
ORGANIZER;CN="City%20of%20Melton":MAILTO:communitytraining@melton.vic.gov.au
END:VEVENT
END:VCALENDAR