BEGIN:VCALENDAR
VERSION:2.0
PRODID:-//Debby Maziarz Productions - ECPv6.0.13.1//NONSGML v1.0//EN
CALSCALE:GREGORIAN
METHOD:PUBLISH
X-WR-CALNAME:Debby Maziarz Productions
X-ORIGINAL-URL:https://www.debbymaziarz.com.au
X-WR-CALDESC:Events for Debby Maziarz Productions
REFRESH-INTERVAL;VALUE=DURATION:PT1H
X-Robots-Tag:noindex
X-PUBLISHED-TTL:PT1H
BEGIN:VTIMEZONE
TZID:UTC
BEGIN:STANDARD
TZOFFSETFROM:+0000
TZOFFSETTO:+0000
TZNAME:UTC
DTSTART:20210101T000000
END:STANDARD
END:VTIMEZONE
BEGIN:VEVENT
DTSTART;TZID=UTC:20211006T100000
DTEND;TZID=UTC:20211006T113000
DTSTAMP:20260424T034541
CREATED:20210929T072955Z
LAST-MODIFIED:20210929T072955Z
UID:1856-1633514400-1633519800@www.debbymaziarz.com.au
SUMMARY:Practical Tips for Writing Grant Applications
DESCRIPTION:Give yourself the best opportunity to be successful when applying for grants. It can be daunting to start from scratch\, so get a head start! \nWith more and more grant opportunities becoming available due to COIVD-19\, it’s so important to know the fundamentals to writing a grant application. Learn the tips and tricks of applying for grants for your group\, organisation or business. \nThis workshop will take participants through the process of clarifying the ‘project idea’ and working through a grant application from start to finish. \nIn this session you will learn: \n\nWhere to find the grants\nPreparing your grant writing toolbox\nHoning your ideas\nUnderstanding what the funding body wants and expects\nWorking with partners\nBuilding a project budget\n\nFor more information and to book please click here.
URL:https://www.debbymaziarz.com.au/workshop/practical-tips-for-writing-grant-applications/
LOCATION:Online\, Australia
END:VEVENT
BEGIN:VEVENT
DTSTART;TZID=UTC:20211006T100000
DTEND;TZID=UTC:20211006T113000
DTSTAMP:20260424T034541
CREATED:20210929T072955Z
LAST-MODIFIED:20210929T072955Z
UID:3073-1633514400-1633519800@www.debbymaziarz.com.au
SUMMARY:Practical Tips for Writing Grant Applications
DESCRIPTION:Give yourself the best opportunity to be successful when applying for grants. It can be daunting to start from scratch\, so get a head start! \nWith more and more grant opportunities becoming available due to COIVD-19\, it’s so important to know the fundamentals to writing a grant application. Learn the tips and tricks of applying for grants for your group\, organisation or business. \nThis workshop will take participants through the process of clarifying the ‘project idea’ and working through a grant application from start to finish. \nIn this session you will learn: \n\nWhere to find the grants\nPreparing your grant writing toolbox\nHoning your ideas\nUnderstanding what the funding body wants and expects\nWorking with partners\nBuilding a project budget\n\nFor more information and to book please click here.
URL:https://www.debbymaziarz.com.au/workshop/practical-tips-for-writing-grant-applications-2/
LOCATION:Online\, Australia
END:VEVENT
END:VCALENDAR