BEGIN:VCALENDAR
VERSION:2.0
PRODID:-//Debby Maziarz Productions - ECPv6.0.13.1//NONSGML v1.0//EN
CALSCALE:GREGORIAN
METHOD:PUBLISH
X-ORIGINAL-URL:https://www.debbymaziarz.com.au
X-WR-CALDESC:Events for Debby Maziarz Productions
REFRESH-INTERVAL;VALUE=DURATION:PT1H
X-Robots-Tag:noindex
X-PUBLISHED-TTL:PT1H
BEGIN:VTIMEZONE
TZID:UTC
BEGIN:STANDARD
TZOFFSETFROM:+0000
TZOFFSETTO:+0000
TZNAME:UTC
DTSTART:20210101T000000
END:STANDARD
END:VTIMEZONE
BEGIN:VEVENT
DTSTART;TZID=UTC:20211012T180000
DTEND;TZID=UTC:20211012T193000
DTSTAMP:20260424T034702
CREATED:20210926T045928Z
LAST-MODIFIED:20210926T045928Z
UID:1759-1634061600-1634067000@www.debbymaziarz.com.au
SUMMARY:City of Whitehorse Business Grants Program Grant Writing Workshop
DESCRIPTION:Whitehorse City Council is committed to providing support to local Small to Medium Enterprises (SME’s) and it acknowledges that many SME’s have experienced severe impacts from COVID-19\, and that some have been affected since January 2020. \nThe objectives of the Whitehorse Business Grants Program are to support: \n\nsocial and economic sustainability\nbusinesses growth and prosperity\nlocal procurement and facilitating connections\nappropriate business and employment opportunities\nindustry development\nbusinesses to comply State Government guidelines in relation to COVID-19.\n\nBusinesses are strongly encouraged to attend one virtual grant writing workshop with grant expert Debby Maziarz\, who will: \n\nprovide practical\, useful and transferable information about how to approach grant writing;\nencourage you to explore project ideas and clarify point of difference; and\nprovide practical\, useful and transferable information about building budgets for grant applications.\n\nFor more information and to book please click here.
URL:https://www.debbymaziarz.com.au/workshop/city-of-whitehorse-business-grants-program-grant-writing-workshop-2/
LOCATION:Online\, Australia
END:VEVENT
BEGIN:VEVENT
DTSTART;TZID=UTC:20211012T180000
DTEND;TZID=UTC:20211012T193000
DTSTAMP:20260424T034702
CREATED:20210926T045928Z
LAST-MODIFIED:20210926T045928Z
UID:3071-1634061600-1634067000@www.debbymaziarz.com.au
SUMMARY:City of Whitehorse Business Grants Program Grant Writing Workshop
DESCRIPTION:Whitehorse City Council is committed to providing support to local Small to Medium Enterprises (SME’s) and it acknowledges that many SME’s have experienced severe impacts from COVID-19\, and that some have been affected since January 2020. \nThe objectives of the Whitehorse Business Grants Program are to support: \n\nsocial and economic sustainability\nbusinesses growth and prosperity\nlocal procurement and facilitating connections\nappropriate business and employment opportunities\nindustry development\nbusinesses to comply State Government guidelines in relation to COVID-19.\n\nBusinesses are strongly encouraged to attend one virtual grant writing workshop with grant expert Debby Maziarz\, who will: \n\nprovide practical\, useful and transferable information about how to approach grant writing;\nencourage you to explore project ideas and clarify point of difference; and\nprovide practical\, useful and transferable information about building budgets for grant applications.\n\nFor more information and to book please click here.
URL:https://www.debbymaziarz.com.au/workshop/city-of-whitehorse-business-grants-program-grant-writing-workshop-2-2/
LOCATION:Online\, Australia
END:VEVENT
END:VCALENDAR