BEGIN:VCALENDAR
VERSION:2.0
PRODID:-//Debby Maziarz Productions - ECPv6.0.13.1//NONSGML v1.0//EN
CALSCALE:GREGORIAN
METHOD:PUBLISH
X-WR-CALNAME:Debby Maziarz Productions
X-ORIGINAL-URL:https://www.debbymaziarz.com.au
X-WR-CALDESC:Events for Debby Maziarz Productions
REFRESH-INTERVAL;VALUE=DURATION:PT1H
X-Robots-Tag:noindex
X-PUBLISHED-TTL:PT1H
BEGIN:VTIMEZONE
TZID:UTC
BEGIN:STANDARD
TZOFFSETFROM:+0000
TZOFFSETTO:+0000
TZNAME:UTC
DTSTART:20210101T000000
END:STANDARD
END:VTIMEZONE
BEGIN:VEVENT
DTSTART;TZID=UTC:20211206T100000
DTEND;TZID=UTC:20211206T120000
DTSTAMP:20260424T005752
CREATED:20211117T225604Z
LAST-MODIFIED:20211117T225604Z
UID:2676-1638784800-1638792000@www.debbymaziarz.com.au
SUMMARY:Sustaining Your Arts Practice 1: Getting Started
DESCRIPTION:Design your working conditions in a way you like to get your important work done! \nJoin this deep dive workshop program for artists and creatives\, offering simple tools and principles about sustaining a creative practice. \nGetting started (or picking up momentum) will explore: \n\nStructures & business models\nSystems & processes\nMission statement\n\nThis is an interactive workshop and conversation. You will be invited to share thoughts\, insights\, stories and respond to prompts and exercises individually and in small working groups. This session is offered as part of a suite of three interconnected workshops followed by one-to-one mentoring with arts leader and creative entrepreneur Debby Maziarz. Attendees are welcome to book into one (or all) of the Sustaining your Arts Practice sessions. Places are limited. \nFor more information and to book please click here.
URL:https://www.debbymaziarz.com.au/workshop/sustaining-your-arts-practice-1-getting-started/
LOCATION:Online\, Australia
END:VEVENT
BEGIN:VEVENT
DTSTART;TZID=UTC:20211206T100000
DTEND;TZID=UTC:20211206T120000
DTSTAMP:20260424T005752
CREATED:20211117T225604Z
LAST-MODIFIED:20211117T225604Z
UID:3074-1638784800-1638792000@www.debbymaziarz.com.au
SUMMARY:Sustaining Your Arts Practice 1: Getting Started
DESCRIPTION:Design your working conditions in a way you like to get your important work done! \nJoin this deep dive workshop program for artists and creatives\, offering simple tools and principles about sustaining a creative practice. \nGetting started (or picking up momentum) will explore: \n\nStructures & business models\nSystems & processes\nMission statement\n\nThis is an interactive workshop and conversation. You will be invited to share thoughts\, insights\, stories and respond to prompts and exercises individually and in small working groups. This session is offered as part of a suite of three interconnected workshops followed by one-to-one mentoring with arts leader and creative entrepreneur Debby Maziarz. Attendees are welcome to book into one (or all) of the Sustaining your Arts Practice sessions. Places are limited. \nFor more information and to book please click here.
URL:https://www.debbymaziarz.com.au/workshop/sustaining-your-arts-practice-1-getting-started-2/
LOCATION:Online\, Australia
END:VEVENT
END:VCALENDAR