BEGIN:VCALENDAR
VERSION:2.0
PRODID:-//Debby Maziarz Productions - ECPv6.0.13.1//NONSGML v1.0//EN
CALSCALE:GREGORIAN
METHOD:PUBLISH
X-ORIGINAL-URL:https://www.debbymaziarz.com.au
X-WR-CALDESC:Events for Debby Maziarz Productions
REFRESH-INTERVAL;VALUE=DURATION:PT1H
X-Robots-Tag:noindex
X-PUBLISHED-TTL:PT1H
BEGIN:VTIMEZONE
TZID:UTC
BEGIN:STANDARD
TZOFFSETFROM:+0000
TZOFFSETTO:+0000
TZNAME:UTC
DTSTART:20220101T000000
END:STANDARD
END:VTIMEZONE
BEGIN:VEVENT
DTSTART;TZID=UTC:20220214T183000
DTEND;TZID=UTC:20220214T203000
DTSTAMP:20260423T214333
CREATED:20220201T101937Z
LAST-MODIFIED:20220201T101937Z
UID:3083-1644863400-1644870600@www.debbymaziarz.com.au
SUMMARY:Grant Writing Workshop: Hobsons Bay Recovery and Reconnection
DESCRIPTION:Are you thinking about applying for a Make it Happen – Hobsons Bay Recovery and Reconnection grant? Join expert grant writer Debby Maziarz online via Zoom to learn how to get the most out of your grant application and have a greater chance of success. \nAny questions about the workshop – please contact grants@hobsonsbay.vic.gov.au \nFor more information and to book please click here. Registrations close: Friday 11 February\, 1 pm
URL:https://www.debbymaziarz.com.au/workshop/grant-writing-workshop-hobsons-bay-recovery-and-reconnection/
LOCATION:Online\, Australia
END:VEVENT
END:VCALENDAR