BEGIN:VCALENDAR
VERSION:2.0
PRODID:-//Debby Maziarz Productions - ECPv6.0.13.1//NONSGML v1.0//EN
CALSCALE:GREGORIAN
METHOD:PUBLISH
X-WR-CALNAME:Debby Maziarz Productions
X-ORIGINAL-URL:https://www.debbymaziarz.com.au
X-WR-CALDESC:Events for Debby Maziarz Productions
REFRESH-INTERVAL;VALUE=DURATION:PT1H
X-Robots-Tag:noindex
X-PUBLISHED-TTL:PT1H
BEGIN:VTIMEZONE
TZID:Australia/Melbourne
BEGIN:STANDARD
TZOFFSETFROM:+1100
TZOFFSETTO:+1000
TZNAME:AEST
DTSTART:20220402T160000
END:STANDARD
BEGIN:DAYLIGHT
TZOFFSETFROM:+1000
TZOFFSETTO:+1100
TZNAME:AEDT
DTSTART:20221001T160000
END:DAYLIGHT
END:VTIMEZONE
BEGIN:VEVENT
DTSTART;TZID=Australia/Melbourne:20220215T100000
DTEND;TZID=Australia/Melbourne:20220215T123000
DTSTAMP:20260423T214241
CREATED:20220214T070341Z
LAST-MODIFIED:20220214T070341Z
UID:3084-1644919200-1644928200@www.debbymaziarz.com.au
SUMMARY:Grant Writing Online Workshop - Moonee Valley City Council
DESCRIPTION:Moonee Valley City Council is currently offering funding through our revitalised Biannual Grants Program to community groups\, organisations\, local businesses and artists. Join in a FREE online workshop facilitated by grants expert Debby Maziarz to learn about effective grant writing for all type of grants. \nPlease note: this is a general grant writing workshop for skill development for people with a connection to the City of Moonee Valley\, not an information session about Council’s grants in particular. However\, Council staff will be available to ask questions. \nThrough this 2.5 hour online workshop you can build your understanding of how to approach grant writing to improve your chances for a successful grant. This fun and hands-on workshop will focus on transforming your ideas into fundable concepts and will walk you step by step through the process. Topics include: \n\nWhere to find the money\nWriting a killer 50-word grab\nWorking with partners\nBuilding a budget\nAnswering tricky questions\n\nIf you have any questions\, or would like to request an interpreter\, please contact the Community Grants Officer on 9243 1664 or grants@mvcc.vic.gov.au \nPlease note: this session will be held online via Zoom – please sign up to Zoom for a free account\, and a unique link will be sent to your nominated email address prior to the event. \nFor more information and to book please click here.
URL:https://www.debbymaziarz.com.au/workshop/grant-writing-online-workshop-moonee-valley-city-council-17-2/
LOCATION:Online\, Australia
END:VEVENT
BEGIN:VEVENT
DTSTART;TZID=Australia/Melbourne:20220215T180000
DTEND;TZID=Australia/Melbourne:20220215T200000
DTSTAMP:20260423T214241
CREATED:20220117T063640Z
LAST-MODIFIED:20220117T063640Z
UID:3082-1644948000-1644955200@www.debbymaziarz.com.au
SUMMARY:Effective Grant Writing Workshop - Banyule City Council
DESCRIPTION:It’s time to get that idea funded! \nBuild your understanding of what is required to successfully apply for and acquit grants. This fun and hands-on workshop will focus on transforming your ideas into fundable concepts and will walk you step by step through the process. Includes: \n– Where to find the money\n– Writing a killer 50-word grab\n– Working with partners\n– Building a budget\n– Marching project objectives with success measure\n– How to write the SmartyGrants application form \nFor more information and to book please click here.
URL:https://www.debbymaziarz.com.au/workshop/effective-grant-writing-workshop-banyule-city-council-2-2/
LOCATION:Online\, Australia
END:VEVENT
END:VCALENDAR