BEGIN:VCALENDAR
VERSION:2.0
PRODID:-//Debby Maziarz Productions - ECPv6.0.13.1//NONSGML v1.0//EN
CALSCALE:GREGORIAN
METHOD:PUBLISH
X-ORIGINAL-URL:https://www.debbymaziarz.com.au
X-WR-CALDESC:Events for Debby Maziarz Productions
REFRESH-INTERVAL;VALUE=DURATION:PT1H
X-Robots-Tag:noindex
X-PUBLISHED-TTL:PT1H
BEGIN:VTIMEZONE
TZID:UTC
BEGIN:STANDARD
TZOFFSETFROM:+0000
TZOFFSETTO:+0000
TZNAME:UTC
DTSTART:20220101T000000
END:STANDARD
END:VTIMEZONE
BEGIN:VEVENT
DTSTART;TZID=UTC:20220301T173000
DTEND;TZID=UTC:20220301T190000
DTSTAMP:20260423T201500
CREATED:20220227T113757Z
LAST-MODIFIED:20220227T113757Z
UID:3089-1646155800-1646161200@www.debbymaziarz.com.au
SUMMARY:Creative Industries in Nillumbik Networking Event
DESCRIPTION:As part of Nillumbik Shire Council’s Creative Industries Business Education program\, we are inviting local business owners and operators from the Creative Industry sector to join us for an opportunity to network and celebrate this industry. \nThe event will be MC’d by local artist Debby Maziarz\, who will be joined by Monica Davidson\, creator of our Creative Industries Business Education Program\, with special guest Simon Abrahams\, Creative Director and CEO of Melbourne Fringe Festival. \nFor more information and to book online click here.
URL:https://www.debbymaziarz.com.au/workshop/creative-industries-in-nillumbik-networking-event/
LOCATION:DMP Resources
ORGANIZER;CN="Nillumbik%20Shire%20Council":MAILTO:nillumbik@nillumbik.vic.gov.au
END:VEVENT
END:VCALENDAR