BEGIN:VCALENDAR
VERSION:2.0
PRODID:-//Debby Maziarz Productions - ECPv6.0.13.1//NONSGML v1.0//EN
CALSCALE:GREGORIAN
METHOD:PUBLISH
X-ORIGINAL-URL:https://www.debbymaziarz.com.au
X-WR-CALDESC:Events for Debby Maziarz Productions
REFRESH-INTERVAL;VALUE=DURATION:PT1H
X-Robots-Tag:noindex
X-PUBLISHED-TTL:PT1H
BEGIN:VTIMEZONE
TZID:UTC
BEGIN:STANDARD
TZOFFSETFROM:+0000
TZOFFSETTO:+0000
TZNAME:UTC
DTSTART:20220101T000000
END:STANDARD
END:VTIMEZONE
BEGIN:VEVENT
DTSTART;TZID=UTC:20220420T100000
DTEND;TZID=UTC:20220420T120000
DTSTAMP:20260423T183701
CREATED:20220321T061808Z
LAST-MODIFIED:20220321T061808Z
UID:3102-1650448800-1650456000@www.debbymaziarz.com.au
SUMMARY:Sustaining your Arts Practice: Time and Money
DESCRIPTION:Join this deep dive workshop program for artists and creatives\, offering simple tools and principles about sustaining a creative practice. Time and Money will explore: \n\nWhat’s your money story?\nHow much should you get paid?\nSetting revenue goals\nTracking time\nFinding your team\n\nThis is an interactive workshop and conversation. You will be invited to share thoughts\, insights\, stories and respond to prompts and exercises individually and in small working groups. This session will be hosted online via Zoom. \nIf you have any queries about this session\, including access requirements\, please contact Student Experience via fineartsmusic-enrichment@unimelb.edu.au \nFor more information and to register click here.
URL:https://www.debbymaziarz.com.au/workshop/sustaining-your-arts-practice-time-and-money/
LOCATION:Online\, Australia
END:VEVENT
BEGIN:VEVENT
DTSTART;TZID=UTC:20220420T180000
DTEND;TZID=UTC:20220420T203000
DTSTAMP:20260423T183701
CREATED:20220417T132621Z
LAST-MODIFIED:20220417T132621Z
UID:3143-1650477600-1650486600@www.debbymaziarz.com.au
SUMMARY:Project Planning and Design Workshop - Yarra Ranges Shire Council
DESCRIPTION:An interactive workshop full of simple tools and principles to help participants define a project\, including its scope and desired outcomes in preparation for approaching funding bodies and partners. \nTopics include: \n\nShifting from an idea to a project\nUnderstanding the project life cycle\nWorking through the ‘Project Planning Tool’\nUnderstanding what resources you have and need\nTips and tricks for managing your project\n\nFor more information and to book click here.
URL:https://www.debbymaziarz.com.au/workshop/project-planning-and-design-workshop-yarra-ranges-shire-council/
LOCATION:Online\, Australia
ORGANIZER;CN="Yarra%20Ranges%20Shire%20Council":MAILTO:mail@yarraranges.vic.gov.au
END:VEVENT
END:VCALENDAR