BEGIN:VCALENDAR
VERSION:2.0
PRODID:-//Debby Maziarz Productions - ECPv6.0.13.1//NONSGML v1.0//EN
CALSCALE:GREGORIAN
METHOD:PUBLISH
X-WR-CALNAME:Debby Maziarz Productions
X-ORIGINAL-URL:https://www.debbymaziarz.com.au
X-WR-CALDESC:Events for Debby Maziarz Productions
REFRESH-INTERVAL;VALUE=DURATION:PT1H
X-Robots-Tag:noindex
X-PUBLISHED-TTL:PT1H
BEGIN:VTIMEZONE
TZID:UTC
BEGIN:STANDARD
TZOFFSETFROM:+0000
TZOFFSETTO:+0000
TZNAME:UTC
DTSTART:20220101T000000
END:STANDARD
END:VTIMEZONE
BEGIN:VEVENT
DTSTART;TZID=UTC:20220427T100000
DTEND;TZID=UTC:20220427T120000
DTSTAMP:20260423T170047
CREATED:20220410T131552Z
LAST-MODIFIED:20220410T131552Z
UID:3132-1651053600-1651060800@www.debbymaziarz.com.au
SUMMARY:Grant Writing Workshop: Suburban Rail Loop Community Projects Fund
DESCRIPTION:Join expert grant writer and facilitator Debby Maziarz to build your understanding of the grant writing process. This interactive workshop will focus on exploring your ideas and developing projects in preparation for approaching funding bodies and partners. \nIncludes: \n\nFinding the clarity (your project)\nEligibility\nAddressing the assessment criteria\nWriting the 100 word grab\nAnswering the questions in the application form\nBuilding a project budget\n\nPlease note: This is a general grant writing workshop for people interested in applying for a SRL Community Projects Fund Community Support Grant. Reference will be made to the SRL Community Projects Fund (guidelines and application form) however this is not an information session about SRL East or the SRL Community Projects Fund. \nTo find out more about the program or the grant writing workshops contact: contact@srla.vic.gov.au. Register online here.
URL:https://www.debbymaziarz.com.au/workshop/grant-writing-workshop-suburban-rail-loop-community-projects-fund-4/
LOCATION:Online\, Australia
END:VEVENT
END:VCALENDAR