BEGIN:VCALENDAR
VERSION:2.0
PRODID:-//Debby Maziarz Productions - ECPv6.0.13.1//NONSGML v1.0//EN
CALSCALE:GREGORIAN
METHOD:PUBLISH
X-ORIGINAL-URL:https://www.debbymaziarz.com.au
X-WR-CALDESC:Events for Debby Maziarz Productions
REFRESH-INTERVAL;VALUE=DURATION:PT1H
X-Robots-Tag:noindex
X-PUBLISHED-TTL:PT1H
BEGIN:VTIMEZONE
TZID:UTC
BEGIN:STANDARD
TZOFFSETFROM:+0000
TZOFFSETTO:+0000
TZNAME:UTC
DTSTART:20220101T000000
END:STANDARD
END:VTIMEZONE
BEGIN:VEVENT
DTSTART;TZID=UTC:20220428T093000
DTEND;TZID=UTC:20220428T163000
DTSTAMP:20260423T170057
CREATED:20220422T065417Z
LAST-MODIFIED:20220422T065417Z
UID:3145-1651138200-1651163400@www.debbymaziarz.com.au
SUMMARY:Aerie Expert-in-residence
DESCRIPTION:Do you have big ideas or\, smalls ones\, that need some help to get off the ground? \n\n\n\n\n\n\nDebby is here to talk to you about how you might be able to get those ideas going with the economical support you might need. There are many ways to think about financing your creative practice\, so here’s a chance to talk to a professional about how you might tackle this tricky landscape. \nDebby is an arts leader and creative entrepreneur who mentors artists\, organisations and communities to create solid plans for resourcing their work. Renowned for unearthing innovative and ‘fundable’ ideas\, Debby is driven to challenge the mindset that stops superstars from excelling. She’s also got a great track record in sourcing funds and finding alternate economies in the arts. \nBook in your one-on-one chat with Debby Maziarz today! These sessions are free for all aerie members. If you are not a member but would like to book in please contact the aerie.
URL:https://www.debbymaziarz.com.au/workshop/aerie-expert-in-residence/
LOCATION:Online\, Australia
END:VEVENT
END:VCALENDAR