BEGIN:VCALENDAR
VERSION:2.0
PRODID:-//Debby Maziarz Productions - ECPv6.0.13.1//NONSGML v1.0//EN
CALSCALE:GREGORIAN
METHOD:PUBLISH
X-WR-CALNAME:Debby Maziarz Productions
X-ORIGINAL-URL:https://www.debbymaziarz.com.au
X-WR-CALDESC:Events for Debby Maziarz Productions
REFRESH-INTERVAL;VALUE=DURATION:PT1H
X-Robots-Tag:noindex
X-PUBLISHED-TTL:PT1H
BEGIN:VTIMEZONE
TZID:UTC
BEGIN:STANDARD
TZOFFSETFROM:+0000
TZOFFSETTO:+0000
TZNAME:UTC
DTSTART:20220101T000000
END:STANDARD
END:VTIMEZONE
BEGIN:VEVENT
DTSTART;TZID=UTC:20220621T130000
DTEND;TZID=UTC:20220621T143000
DTSTAMP:20260423T152406
CREATED:20220605T222125Z
LAST-MODIFIED:20220605T222125Z
UID:3158-1655816400-1655821800@www.debbymaziarz.com.au
SUMMARY:Effective Grant Writing Workshop - Latrobe City Council
DESCRIPTION:Are you looking to build your understanding of what is required to successfully apply for and acquit grants? \nLatrobe City invites you to participate in the following workshop aimed at assisting you to understand what funders are looking for and to transform your ideas into fundable concepts. \nContent will include: \n\nWhere to find grant funding\nPreparing for any grant\nAddressing the assessment criteria\nDeveloping a strong 50-word grab\nPreparing a budget and income strategy for your project\nCompleting acquittals\n\nFor more information and to book click here.
URL:https://www.debbymaziarz.com.au/workshop/effective-grant-writing-workshop-latrobe-city-council/
LOCATION:Latrobe City Council Headquarters\, 141 Commercial Road\, Morwell\, Victoria\, 3840\, Australia
END:VEVENT
END:VCALENDAR