BEGIN:VCALENDAR
VERSION:2.0
PRODID:-//Debby Maziarz Productions - ECPv6.0.13.1//NONSGML v1.0//EN
CALSCALE:GREGORIAN
METHOD:PUBLISH
X-ORIGINAL-URL:https://www.debbymaziarz.com.au
X-WR-CALDESC:Events for Debby Maziarz Productions
REFRESH-INTERVAL;VALUE=DURATION:PT1H
X-Robots-Tag:noindex
X-PUBLISHED-TTL:PT1H
BEGIN:VTIMEZONE
TZID:UTC
BEGIN:STANDARD
TZOFFSETFROM:+0000
TZOFFSETTO:+0000
TZNAME:UTC
DTSTART:20220101T000000
END:STANDARD
END:VTIMEZONE
BEGIN:VEVENT
DTSTART;TZID=UTC:20220629T100000
DTEND;TZID=UTC:20220629T120000
DTSTAMP:20260423T135222
CREATED:20220321T061544Z
LAST-MODIFIED:20220321T061544Z
UID:3101-1656496800-1656504000@www.debbymaziarz.com.au
SUMMARY:Sustaining your Arts Practice: Making a Plan
DESCRIPTION:Join this deep dive workshop program for artists and creatives\, offering simple tools and principles about sustaining a creative practice. Making a Plan will explore: \n\nSetting intentions\nSetting personal\, professional\, and artistic goals\nCreative wellbeing\n\nThis is an interactive workshop and conversation. You will be invited to share thoughts\, insights\, stories and respond to prompts and exercises individually and in small working groups. This session will be hosted online via Zoom. \nIf you have any queries about this session\, including access requirements\, please contact Student Experience via fineartsmusic-enrichment@unimelb.edu.au \nFor more information and to register click here.
URL:https://www.debbymaziarz.com.au/workshop/sustaining-your-arts-practice-making-a-plan/
LOCATION:Online\, Australia
END:VEVENT
END:VCALENDAR