BEGIN:VCALENDAR
VERSION:2.0
PRODID:-//Debby Maziarz Productions - ECPv6.0.13.1//NONSGML v1.0//EN
CALSCALE:GREGORIAN
METHOD:PUBLISH
X-ORIGINAL-URL:https://www.debbymaziarz.com.au
X-WR-CALDESC:Events for Debby Maziarz Productions
REFRESH-INTERVAL;VALUE=DURATION:PT1H
X-Robots-Tag:noindex
X-PUBLISHED-TTL:PT1H
BEGIN:VTIMEZONE
TZID:Australia/Melbourne
BEGIN:STANDARD
TZOFFSETFROM:+1100
TZOFFSETTO:+1000
TZNAME:AEST
DTSTART:20220402T160000
END:STANDARD
BEGIN:DAYLIGHT
TZOFFSETFROM:+1000
TZOFFSETTO:+1100
TZNAME:AEDT
DTSTART:20221001T160000
END:DAYLIGHT
END:VTIMEZONE
BEGIN:VEVENT
DTSTART;TZID=Australia/Melbourne:20220810T180000
DTEND;TZID=Australia/Melbourne:20220810T203000
DTSTAMP:20260423T122621
CREATED:20220704T053122Z
LAST-MODIFIED:20220704T053252Z
UID:3168-1660154400-1660163400@www.debbymaziarz.com.au
SUMMARY:Grant Writing for Creatives - City of Port Phillip
DESCRIPTION:This free grant writing training session will share: \n\npractical and transferable ways to approach grant writing for arts and cultural projects\ndeveloping and communicating your project idea and your project plan\ndeveloping budgets and funding strategy\nworking with an auspice organisation\nfinding project partners\npresenting support material\nevaluating your project\nmore information about Port Phillip 2022/23 Cultural Development Fund grants.\n\nFor more information and to book please click here.
URL:https://www.debbymaziarz.com.au/workshop/grant-writing-for-creatives-city-of-port-phillip/
LOCATION:Online\, Australia
ORGANIZER;CN="City%20of%20Port%20Phillip":MAILTO:volunteer@portphillip.vic.gov.au
END:VEVENT
END:VCALENDAR