BEGIN:VCALENDAR
VERSION:2.0
PRODID:-//Debby Maziarz Productions - ECPv6.0.13.1//NONSGML v1.0//EN
CALSCALE:GREGORIAN
METHOD:PUBLISH
X-WR-CALNAME:Debby Maziarz Productions
X-ORIGINAL-URL:https://www.debbymaziarz.com.au
X-WR-CALDESC:Events for Debby Maziarz Productions
REFRESH-INTERVAL;VALUE=DURATION:PT1H
X-Robots-Tag:noindex
X-PUBLISHED-TTL:PT1H
BEGIN:VTIMEZONE
TZID:UTC
BEGIN:STANDARD
TZOFFSETFROM:+0000
TZOFFSETTO:+0000
TZNAME:UTC
DTSTART:20220101T000000
END:STANDARD
END:VTIMEZONE
BEGIN:VEVENT
DTSTART;TZID=UTC:20220820T140000
DTEND;TZID=UTC:20220820T160000
DTSTAMP:20260423T123131
CREATED:20220715T054120Z
LAST-MODIFIED:20220715T054141Z
UID:3195-1661004000-1661011200@www.debbymaziarz.com.au
SUMMARY:Transforming Ideas Into Fundable Projects Part 2: Grant Writing for Creatives
DESCRIPTION:This is a free two-part series for western region artists and creatives that focuses on finding clarity around a project idea and honing it into a strong grant application. \nPart 2: Grant Writing for Creatives\nThis fun and hands-on workshop will walk participants step by step through the grant making process from project idea through to acquittal. Includes: \n\nThe grant making cycle\nWhere to find the money\nWriting a killer 50-word grab\nUnderstanding the assessment criteria\nWorking with partners\nAnswering the questions in the application form\nBuilding a project budget (for a grant application)\nSupport material\nCompleting the acquittal report\n\nFor more information and to book please click here.
URL:https://www.debbymaziarz.com.au/workshop/transforming-ideas-into-fundable-projects-part-2-grant-writing-for-creatives/
LOCATION:Online\, Australia
END:VEVENT
END:VCALENDAR