BEGIN:VCALENDAR
VERSION:2.0
PRODID:-//Debby Maziarz Productions - ECPv6.0.13.1//NONSGML v1.0//EN
CALSCALE:GREGORIAN
METHOD:PUBLISH
X-ORIGINAL-URL:https://www.debbymaziarz.com.au
X-WR-CALDESC:Events for Debby Maziarz Productions
REFRESH-INTERVAL;VALUE=DURATION:PT1H
X-Robots-Tag:noindex
X-PUBLISHED-TTL:PT1H
BEGIN:VTIMEZONE
TZID:UTC
BEGIN:STANDARD
TZOFFSETFROM:+0000
TZOFFSETTO:+0000
TZNAME:UTC
DTSTART:20220101T000000
END:STANDARD
END:VTIMEZONE
BEGIN:VEVENT
DTSTART;TZID=UTC:20221207T180000
DTEND;TZID=UTC:20221207T200000
DTSTAMP:20260423T062150
CREATED:20220905T112137Z
LAST-MODIFIED:20220905T112137Z
UID:3230-1670436000-1670443200@www.debbymaziarz.com.au
SUMMARY:Sustaining your Arts Practice: Part 3 Making a Plan
DESCRIPTION:A deep dive workshop series for artists and creatives\, offering simple tools and principles about building (and sustaining) a creative practice.\n\n\n\n\nPart 3 – Sustaining your Arts Practice: Making a Plan\nMaking a Plan will explore: \n• Setting intentions \n• Setting personal\, professional\, and artistic goals \n• Creative wellbeing \nFor more information and to book click here.
URL:https://www.debbymaziarz.com.au/workshop/sustaining-your-arts-practice-part-3-making-a-plan/
LOCATION:Online\, Australia
END:VEVENT
END:VCALENDAR