BEGIN:VCALENDAR
VERSION:2.0
PRODID:-//Debby Maziarz Productions - ECPv6.0.13.1//NONSGML v1.0//EN
CALSCALE:GREGORIAN
METHOD:PUBLISH
X-ORIGINAL-URL:https://www.debbymaziarz.com.au
X-WR-CALDESC:Events for Debby Maziarz Productions
REFRESH-INTERVAL;VALUE=DURATION:PT1H
X-Robots-Tag:noindex
X-PUBLISHED-TTL:PT1H
BEGIN:VTIMEZONE
TZID:UTC
BEGIN:STANDARD
TZOFFSETFROM:+0000
TZOFFSETTO:+0000
TZNAME:UTC
DTSTART:20230101T000000
END:STANDARD
END:VTIMEZONE
BEGIN:VEVENT
DTSTART;TZID=UTC:20230209T180000
DTEND;TZID=UTC:20230209T200000
DTSTAMP:20260423T032949
CREATED:20230202T044024Z
LAST-MODIFIED:20230202T044024Z
UID:3274-1675965600-1675972800@www.debbymaziarz.com.au
SUMMARY:Effective Grant Writing Workshop - City of Monash
DESCRIPTION:Facilitated by Debby Maziarz\, this online workshop will build your understanding of what is required to successfully apply for and acquit grants. This fun and hands-on workshop will focus on transforming your ideas into fundable concepts and will walk you step by step through the process. Topics include:\n– Where to find the money\n– Writing a killer 50-word grab\n– Working with partners\n– Building a budget\n– Answering the ‘sustainability’ and ‘evaluation’ questions. \nFor more information and to book please click here.
URL:https://www.debbymaziarz.com.au/workshop/effective-grant-writing-workshop-city-of-monash/
LOCATION:Online\, Australia
ORGANIZER;CN="City%20of%20Monash":MAILTO:events@monash.vic.gov.au
END:VEVENT
END:VCALENDAR