BEGIN:VCALENDAR
VERSION:2.0
PRODID:-//Debby Maziarz Productions - ECPv6.0.13.1//NONSGML v1.0//EN
CALSCALE:GREGORIAN
METHOD:PUBLISH
X-ORIGINAL-URL:https://www.debbymaziarz.com.au
X-WR-CALDESC:Events for Debby Maziarz Productions
REFRESH-INTERVAL;VALUE=DURATION:PT1H
X-Robots-Tag:noindex
X-PUBLISHED-TTL:PT1H
BEGIN:VTIMEZONE
TZID:Australia/Melbourne
BEGIN:STANDARD
TZOFFSETFROM:+1100
TZOFFSETTO:+1000
TZNAME:AEST
DTSTART:20230401T160000
END:STANDARD
BEGIN:DAYLIGHT
TZOFFSETFROM:+1000
TZOFFSETTO:+1100
TZNAME:AEDT
DTSTART:20230930T160000
END:DAYLIGHT
END:VTIMEZONE
BEGIN:VEVENT
DTSTART;TZID=Australia/Melbourne:20230220T130000
DTEND;TZID=Australia/Melbourne:20230220T150000
DTSTAMP:20260423T032102
CREATED:20230211T050921Z
LAST-MODIFIED:20230211T050921Z
UID:3285-1676898000-1676905200@www.debbymaziarz.com.au
SUMMARY:Sunbury & Bulla Neighbourhood Fund: Grant Writing Workshops
DESCRIPTION:Improve your skills in writing grants (with a particular focus on the Sunbury & Bulla Neighbourhood Fund) \nThe workshop will walk you through the grant writing process including: \n\nWriting the 50 – 100 word grab\nUnderstanding the assessment criteria\nWorking with partners\nResponding to questions in the application form\nBuilding a project budget for an application\n\nThe $2 million Sunbury & Bulla Neighbourhood Fund has been established by the Victorian Government to support local communities during the construction of the West Gate Tunnel. \nNot-for-profit groups can access this fund for projects that bring benefits to Sunbury and Bulla communities. \nFor more information please contact 1800 105 105 or send an email to: grants@wgta.vic.gov.au \nFor more information and to book please click here.
URL:https://www.debbymaziarz.com.au/workshop/sunbury-bulla-neighbourhood-fund-grant-writing-workshops-2/
LOCATION:Hume Global Learning Centre\, 44 Macedon Street\, Sunbury\, State\, 3429\, Australia
END:VEVENT
END:VCALENDAR