BEGIN:VCALENDAR
VERSION:2.0
PRODID:-//Debby Maziarz Productions - ECPv6.0.13.1//NONSGML v1.0//EN
CALSCALE:GREGORIAN
METHOD:PUBLISH
X-ORIGINAL-URL:https://www.debbymaziarz.com.au
X-WR-CALDESC:Events for Debby Maziarz Productions
REFRESH-INTERVAL;VALUE=DURATION:PT1H
X-Robots-Tag:noindex
X-PUBLISHED-TTL:PT1H
BEGIN:VTIMEZONE
TZID:Australia/Melbourne
BEGIN:STANDARD
TZOFFSETFROM:+1100
TZOFFSETTO:+1000
TZNAME:AEST
DTSTART:20230401T160000
END:STANDARD
BEGIN:DAYLIGHT
TZOFFSETFROM:+1000
TZOFFSETTO:+1100
TZNAME:AEDT
DTSTART:20230930T160000
END:DAYLIGHT
END:VTIMEZONE
BEGIN:VEVENT
DTSTART;TZID=Australia/Melbourne:20230302T180000
DTEND;TZID=Australia/Melbourne:20230302T200000
DTSTAMP:20260423T013415
CREATED:20230211T051534Z
LAST-MODIFIED:20230211T051534Z
UID:3292-1677780000-1677787200@www.debbymaziarz.com.au
SUMMARY:Grant Writing Workshop for Whitehorse Community Groups
DESCRIPTION:The City of Whitehorse 2023/2024 Community Grants program is bigger and better than ever with six new grant categories available to the community. Funding has been added to support Diversity and Inclusivity\, Environmental Sustainability\, Health and Wellbeing\, Creativity\, Seed Funding and Positive Ageing activities.\n\n\n\n\n\n\n\nIts time to get that idea funded! \nBuild your understanding of what is required to successfully apply for and acquit grants. Facilitated by Debby Maziarz Productions\, this fun and hands-on workshop will focus on transforming your ideas into fundable concepts and will walk you step by step through the process. \nTopics include: \n\nUnderstanding the application form\nWriting an effective project description\nBuilding a budget/ completing a budget table\nAnswering the ‘sustainability’ and ‘evaluation’ questions\n\nPlease be mindful\, this session will not provide the opportunity to seek opinion on the viability of your application. Please refer to council’s website for contact details should you need to discuss your application further. \n\n\n\n\nTo book click here.
URL:https://www.debbymaziarz.com.au/workshop/grant-writing-workshop-for-whitehorse-community-groups-5/
LOCATION:Online\, Australia
END:VEVENT
END:VCALENDAR