BEGIN:VCALENDAR
VERSION:2.0
PRODID:-//Debby Maziarz Productions - ECPv6.0.13.1//NONSGML v1.0//EN
CALSCALE:GREGORIAN
METHOD:PUBLISH
X-WR-CALNAME:Debby Maziarz Productions
X-ORIGINAL-URL:https://www.debbymaziarz.com.au
X-WR-CALDESC:Events for Debby Maziarz Productions
REFRESH-INTERVAL;VALUE=DURATION:PT1H
X-Robots-Tag:noindex
X-PUBLISHED-TTL:PT1H
BEGIN:VTIMEZONE
TZID:UTC
BEGIN:STANDARD
TZOFFSETFROM:+0000
TZOFFSETTO:+0000
TZNAME:UTC
DTSTART:20230101T000000
END:STANDARD
END:VTIMEZONE
BEGIN:VEVENT
DTSTART;TZID=UTC:20230309T180000
DTEND;TZID=UTC:20230309T200000
DTSTAMP:20260423T013411
CREATED:20230202T043514Z
LAST-MODIFIED:20230202T043720Z
UID:3267-1678384800-1678392000@www.debbymaziarz.com.au
SUMMARY:Grant Writing Workshop: Hobsons Bay Make it Happen Grants
DESCRIPTION:Are you thinking about applying for a grant? Join expert grant writer Debby Maziarz online via Zoom to learn how to get the most out of your grant application and have a greater chance of success. This fun and hands-on workshop will focus on transforming your ‘ideas’ into fundable concepts and will walk you step by step through the grant writing process. \nTopics include: \n\nWhere to find grants\nWriting the 50-word grab\nUnderstanding the grant making cycle\nAnswering the grant application questions\nBuilding a budget (for a grant application)\nStrengthening the application with support material\n\nAny questions about the workshop – please contact grants@hobsonsbay.vic.gov.au or visit the Make it Happen grants page. \nRegistrations close: Tuesday 7 March at 1pm \nTo book\, please complete this form.
URL:https://www.debbymaziarz.com.au/workshop/grant-writing-workshop-hobsons-bay-make-it-happen-grants-2/
LOCATION:Altona Civic Centre\, 115 Civic Parade\, Altona\, VIC\, 3018\, Australia
END:VEVENT
END:VCALENDAR