BEGIN:VCALENDAR
VERSION:2.0
PRODID:-//Debby Maziarz Productions - ECPv6.0.13.1//NONSGML v1.0//EN
CALSCALE:GREGORIAN
METHOD:PUBLISH
X-ORIGINAL-URL:https://www.debbymaziarz.com.au
X-WR-CALDESC:Events for Debby Maziarz Productions
REFRESH-INTERVAL;VALUE=DURATION:PT1H
X-Robots-Tag:noindex
X-PUBLISHED-TTL:PT1H
BEGIN:VTIMEZONE
TZID:UTC
BEGIN:STANDARD
TZOFFSETFROM:+0000
TZOFFSETTO:+0000
TZNAME:UTC
DTSTART:20230101T000000
END:STANDARD
END:VTIMEZONE
BEGIN:VEVENT
DTSTART;TZID=UTC:20230419T180000
DTEND;TZID=UTC:20230419T203000
DTSTAMP:20260421T172804
CREATED:20230328T085343Z
LAST-MODIFIED:20230328T085415Z
UID:3306-1681927200-1681936200@www.debbymaziarz.com.au
SUMMARY:Project Planning and Design Workshop - Yarra Ranges Shire Council
DESCRIPTION:An interactive workshop full of simple tools and principles to help participants define a project\, including its scope and desired outcomes in preparation for approaching funding bodies and partners. \nTopics include: \n\nShifting from an idea to a project\nUnderstanding the project life cycle\nWorking through the ‘Project Planning Tool’\nUnderstanding what resources you have and need\nTips and tricks for managing your project\n\nFor more information and to book click here.
URL:https://www.debbymaziarz.com.au/workshop/project-planning-and-design-workshop-yarra-ranges-shire-council-2/
LOCATION:Online\, Australia
ORGANIZER;CN="Yarra%20Ranges%20Shire%20Council":MAILTO:mail@yarraranges.vic.gov.au
END:VEVENT
END:VCALENDAR