BEGIN:VCALENDAR
VERSION:2.0
PRODID:-//Debby Maziarz Productions - ECPv6.0.13.1//NONSGML v1.0//EN
CALSCALE:GREGORIAN
METHOD:PUBLISH
X-WR-CALNAME:Debby Maziarz Productions
X-ORIGINAL-URL:https://www.debbymaziarz.com.au
X-WR-CALDESC:Events for Debby Maziarz Productions
REFRESH-INTERVAL;VALUE=DURATION:PT1H
X-Robots-Tag:noindex
X-PUBLISHED-TTL:PT1H
BEGIN:VTIMEZONE
TZID:UTC
BEGIN:STANDARD
TZOFFSETFROM:+0000
TZOFFSETTO:+0000
TZNAME:UTC
DTSTART:20230101T000000
END:STANDARD
END:VTIMEZONE
BEGIN:VEVENT
DTSTART;TZID=UTC:20230525T183000
DTEND;TZID=UTC:20230525T203000
DTSTAMP:20260419T141246
CREATED:20230522T111037Z
LAST-MODIFIED:20230522T111037Z
UID:3323-1685039400-1685046600@www.debbymaziarz.com.au
SUMMARY:Nillumbik Small Business Week: Small Business Speed Dating
DESCRIPTION:You’re invited to an exciting evening of speed-networking at the Missing Gorilla in Eltham on Thursday\, May 25th at 6:30pm! \nThe event will be facilitated by Debby Maziarz\, an experienced local community development practitioner and facilitator\, who will guide attendees through a series of short\, structured conversations to help them expand their network and connect with potential partners. \nCanapés and drinks will be provided to fuel the conversations\, and attendees are encouraged to bring business cards and a short elevator pitch about their company to make the most of their time. \nThis is a great opportunity to meet fellow entrepreneurs and business owners\, learn about new industries and business models\, and potentially form valuable collaborations. \nDon’t miss out on this exciting networking event! \nTo find out more and book click here.
URL:https://www.debbymaziarz.com.au/workshop/nillumbik-small-business-week-small-business-speed-dating/
LOCATION:Missing Gorilla\, 1/70 Commercial Place\, Eltham\, Vic\, 3095
ORGANIZER;CN="Nillumbik%20Shire%20Council":MAILTO:nillumbik@nillumbik.vic.gov.au
END:VEVENT
END:VCALENDAR