BEGIN:VCALENDAR
VERSION:2.0
PRODID:-//Debby Maziarz Productions - ECPv6.0.13.1//NONSGML v1.0//EN
CALSCALE:GREGORIAN
METHOD:PUBLISH
X-WR-CALNAME:Debby Maziarz Productions
X-ORIGINAL-URL:https://www.debbymaziarz.com.au
X-WR-CALDESC:Events for Debby Maziarz Productions
REFRESH-INTERVAL;VALUE=DURATION:PT1H
X-Robots-Tag:noindex
X-PUBLISHED-TTL:PT1H
BEGIN:VTIMEZONE
TZID:UTC
BEGIN:STANDARD
TZOFFSETFROM:+0000
TZOFFSETTO:+0000
TZNAME:UTC
DTSTART:20230101T000000
END:STANDARD
END:VTIMEZONE
BEGIN:VEVENT
DTSTART;TZID=UTC:20230603T100000
DTEND;TZID=UTC:20230603T150000
DTSTAMP:20260419T125919
CREATED:20230508T121449Z
LAST-MODIFIED:20230522T111503Z
UID:3319-1685786400-1685804400@www.debbymaziarz.com.au
SUMMARY:Sustaining Your Creative Practice: City of Monash
DESCRIPTION:Join us for a day-long deep dive into you and your creative practice. \nIn this workshop we will explore how to get started (or restarted)\, how to build the resources you need and make a plan to put it into action. You will walk away feeling refreshed\, inspired\, and ready to create the career you want. \nThis session will cover how to establish your business model\, how to balance different kinds of income\, who else you need to help you succeed and how to set professional\, personal\, and creative goals. \nParticipants will also be invited to share a challenge\, idea or curiosity in a supportive and fun setting. \nFor more information and to book click here.
URL:https://www.debbymaziarz.com.au/workshop/workshop-sustaining-your-creative-practice/
LOCATION:Wheelers Hill Library\, 860 Ferntree Gully Road\, Wheelers Hill\, Victoria\, 3150\, Australia
ORGANIZER;CN="City%20of%20Monash":MAILTO:events@monash.vic.gov.au
END:VEVENT
END:VCALENDAR