BEGIN:VCALENDAR
VERSION:2.0
PRODID:-//Debby Maziarz Productions - ECPv6.0.13.1//NONSGML v1.0//EN
CALSCALE:GREGORIAN
METHOD:PUBLISH
X-WR-CALNAME:Debby Maziarz Productions
X-ORIGINAL-URL:https://www.debbymaziarz.com.au
X-WR-CALDESC:Events for Debby Maziarz Productions
REFRESH-INTERVAL;VALUE=DURATION:PT1H
X-Robots-Tag:noindex
X-PUBLISHED-TTL:PT1H
BEGIN:VTIMEZONE
TZID:UTC
BEGIN:STANDARD
TZOFFSETFROM:+0000
TZOFFSETTO:+0000
TZNAME:UTC
DTSTART:20230101T000000
END:STANDARD
END:VTIMEZONE
BEGIN:VEVENT
DTSTART;TZID=UTC:20230606T180000
DTEND;TZID=UTC:20230606T200000
DTSTAMP:20260419T125830
CREATED:20230522T112028Z
LAST-MODIFIED:20230522T112028Z
UID:3331-1686074400-1686081600@www.debbymaziarz.com.au
SUMMARY:Sustaining an Arts Practice: City of Greater Dandenong (Part 2)
DESCRIPTION:Take your arts practice to the next level with this three-part professional development series. Sustaining an Arts Practice is a deep dive workshop series for artists and creatives\, offering simple tools and principles about building (and sustaining) your creative practice. \nWhether you are turning your hobby into a professional practice or want to build momentum in your existing creative practice\, this workshop series will show you how to get started\, manage your money and time\, and set yourself up for success. \nCreative RISE is a new initiative that provides a range of opportunities for capacity building\, industry knowledge growth\, and creative practice development\, and responds to the needs of our local arts community. Whether you’re an artist\, designer\, musician\, or anyone in the creative industries\, we’ve got you covered. \n\n\n\n\n\n\n\nFor more information and to book click here.\n\n\n\n\n\n\n\n\n\nUnable to make these dates? More sessions will be held at the City of Monash on Saturday 3 June\, 10am-3pm. Visit the City of Monash website.
URL:https://www.debbymaziarz.com.au/workshop/sustaining-an-arts-practice-city-of-greater-dandenong-part-2/
LOCATION:Walker Street Gallery and Arts Centre\, Corner Walker and Robinson Streets\, Dandenong\, Vic\, 3175\, Australia
ORGANIZER;CN="City%20of%20Greater%20Dandenong":MAILTO:council@cgd.vic.gov.au
END:VEVENT
END:VCALENDAR