BEGIN:VCALENDAR
VERSION:2.0
PRODID:-//Debby Maziarz Productions - ECPv6.0.13.1//NONSGML v1.0//EN
CALSCALE:GREGORIAN
METHOD:PUBLISH
X-WR-CALNAME:Debby Maziarz Productions
X-ORIGINAL-URL:https://www.debbymaziarz.com.au
X-WR-CALDESC:Events for Debby Maziarz Productions
REFRESH-INTERVAL;VALUE=DURATION:PT1H
X-Robots-Tag:noindex
X-PUBLISHED-TTL:PT1H
BEGIN:VTIMEZONE
TZID:UTC
BEGIN:STANDARD
TZOFFSETFROM:+0000
TZOFFSETTO:+0000
TZNAME:UTC
DTSTART:20230101T000000
END:STANDARD
END:VTIMEZONE
BEGIN:VEVENT
DTSTART;TZID=UTC:20230624T100000
DTEND;TZID=UTC:20230624T143000
DTSTAMP:20260419T125923
CREATED:20230609T105256Z
LAST-MODIFIED:20230609T105256Z
UID:3338-1687600800-1687617000@www.debbymaziarz.com.au
SUMMARY:Wyndham Community Safety Grants Project Planning and Grant Writing Session
DESCRIPTION:To support you with the best chance of writing a successful application for the Wyndham Community Safety Grants we are offering a FREE face to face fun and interactive tailored session. In this session you will be provided with a range of simple tools and principles to support grant applicants in preparation for your application. \nWhat topics will be covered: \nProject Planning and Design \n\nShifting from an idea to a project\nUnderstanding the project life cycle\nWorking through the ‘Project Logic’ tool\nUnderstand what resources you have or need\nTips and tricks for managing your project\n\nEffective Grant Writing \n\nWhere to find the money\nWriting a killer 50 – word grab (project pitch)\nUnderstanding the criteria\nWorking with community partners\nBuilding a project budget\nAnswering the questions in the application form\n\nPlease note that this workshop is specifically tailored for applicants interested in applying for a grant through the Wyndham Community Safety Grants. \nFor more information and to book click here.
URL:https://www.debbymaziarz.com.au/workshop/wyndham-community-safety-grants-project-planning-and-grant-writing-session/
LOCATION:The Grange Community Centre\, 260-280 Hogans Rd\, Hoppers Crossing\, VIC\, 3029
END:VEVENT
END:VCALENDAR