BEGIN:VCALENDAR
VERSION:2.0
PRODID:-//Debby Maziarz Productions - ECPv6.0.13.1//NONSGML v1.0//EN
CALSCALE:GREGORIAN
METHOD:PUBLISH
X-WR-CALNAME:Debby Maziarz Productions
X-ORIGINAL-URL:https://www.debbymaziarz.com.au
X-WR-CALDESC:Events for Debby Maziarz Productions
REFRESH-INTERVAL;VALUE=DURATION:PT1H
X-Robots-Tag:noindex
X-PUBLISHED-TTL:PT1H
BEGIN:VTIMEZONE
TZID:UTC
BEGIN:STANDARD
TZOFFSETFROM:+0000
TZOFFSETTO:+0000
TZNAME:UTC
DTSTART:20260101T000000
END:STANDARD
END:VTIMEZONE
BEGIN:VEVENT
DTSTART;TZID=UTC:20260423T183000
DTEND;TZID=UTC:20260423T203000
DTSTAMP:20260423T030943
CREATED:20260303T105744Z
LAST-MODIFIED:20260303T105744Z
UID:3781-1776969000-1776976200@www.debbymaziarz.com.au
SUMMARY:Ideas Incubator: Session 2\, The Story
DESCRIPTION:About this workshop\nThe Story is a guided workshop – and session 2 of the Ideas Incubator program – led by a professional creative facilitator\, helping participants turn an idea into a clear\, compelling and structured project narrative. You’ll explore the “what\, why\, when\, where and who\,” learn about different funding pathways (local\, state and federal)\, and understand how to communicate your project with confidence and clarity. \nThis session is ideal for creatives who’ve moved beyond the spark idea and want help planning and communicating their project. \n  \nAbout your facilitator\nDMP is a creative consultancy committed to supporting individuals\, businesses and organisations to realise their vision and goals. Debby Maziarz (lead facilitator) supports the quality and viability of the arts\, not for profit and local business sectors through the provision of business development and fundraising advice\, strategic planning\, leadership development\, facilitation and capacity building training. Debby comes to consulting with significant experience as an educator\, youth worker\, business mentor and founder of the not-for-profit organisation Westside Circus. \n  \nAbout the program\nIdeas Incubator is a free and in-person\, well-rounded creative development journey designed to help creatives bring their project ideas to life. It offers practical tools\, peer exchange and guidance to support artists from early ideas through project delivery and longer‑term sustainability – while recognising that every project takes its own path. You’re welcome to travel through the whole journey or join us midway\, choosing whichever sessions best support your creative practice. \n  \nFor more information\, contact skillsbuilding@yarraranges.vic.gov.au or culturaldevelopment@yarraranges.vic.gov.au
URL:https://www.debbymaziarz.com.au/workshop/ideas-incubator-session-2-the-story/
LOCATION:Lilydale Civic Centre\, 15 Anderson Street\, Lilydale\, Victoria\, 3140\, Australia
ORGANIZER;CN="Yarra%20Ranges%20Shire%20Council":MAILTO:mail@yarraranges.vic.gov.au
END:VEVENT
END:VCALENDAR