BEGIN:VCALENDAR
VERSION:2.0
PRODID:-//Debby Maziarz Productions - ECPv5.0.1//NONSGML v1.0//EN
CALSCALE:GREGORIAN
METHOD:PUBLISH
X-WR-CALNAME:Debby Maziarz Productions
X-ORIGINAL-URL:https://www.debbymaziarz.com.au
X-WR-CALDESC:Events for Debby Maziarz Productions
BEGIN:VTIMEZONE
TZID:Australia/Melbourne
BEGIN:STANDARD
TZOFFSETFROM:+1100
TZOFFSETTO:+1000
TZNAME:AEST
DTSTART:20200404T160000
END:STANDARD
BEGIN:DAYLIGHT
TZOFFSETFROM:+1000
TZOFFSETTO:+1100
TZNAME:AEDT
DTSTART:20201003T160000
END:DAYLIGHT
END:VTIMEZONE
BEGIN:VEVENT
DTSTART;TZID=Australia/Melbourne:20200204T140000
DTEND;TZID=Australia/Melbourne:20200204T170000
DTSTAMP:20200228T143549
CREATED:20200106T082628Z
LAST-MODIFIED:20200106T082628Z
UID:725-1580824800-1580835600@www.debbymaziarz.com.au
SUMMARY:Effective Grant Writing - Moonee Valley City Council
DESCRIPTION:It’s time to get that idea funded! \nBuild your understanding of what is required to successfully apply for and acquit grants. This fun and hands-on workshop will focus on transforming your ideas into fundable concepts and will walk you step by step through the process. Includes: \n\n\n\nWhere to find the money\nWriting a killer 50-word grab\nWorking with partners\nBuilding a budget\nAnswering the ‘sustainability’ and ‘evaluation’ questions\n\n\n\nFor more information and to book please click here. \n
URL:https://www.debbymaziarz.com.au/workshop/effective-grant-writing-moonee-valley-city-council-9/
LOCATION:Avondale Heights Library and Learning Centre\, 69-79 Military Road\, Avondale Heights\, VIC\, 3034\, Australia
END:VEVENT
BEGIN:VEVENT
DTSTART;TZID=Australia/Melbourne:20200211T093000
DTEND;TZID=Australia/Melbourne:20200211T123000
DTSTAMP:20200228T143549
CREATED:20200106T082822Z
LAST-MODIFIED:20200106T082822Z
UID:727-1581413400-1581424200@www.debbymaziarz.com.au
SUMMARY:Effective Grant Writing - Moonee Valley City Council
DESCRIPTION:It’s time to get that idea funded! \nBuild your understanding of what is required to successfully apply for and acquit grants. This fun and hands-on workshop will focus on transforming your ideas into fundable concepts and will walk you step by step through the process. Includes: \n\n\n\nWhere to find the money\nWriting a killer 50-word grab\nWorking with partners\nBuilding a budget\nAnswering the ‘sustainability’ and ‘evaluation’ questions\n\n\n\nFor more information and to book please click here. \n
URL:https://www.debbymaziarz.com.au/workshop/effective-grant-writing-moonee-valley-city-council-10/
LOCATION:Flemington Community Centre\, 25 Mount Alexander Road\, Flemington\, VIC\, 3031\, Australia
END:VEVENT
BEGIN:VEVENT
DTSTART;TZID=Australia/Melbourne:20200212T180000
DTEND;TZID=Australia/Melbourne:20200212T203000
DTSTAMP:20200228T143549
CREATED:20200131T231307Z
LAST-MODIFIED:20200131T231411Z
UID:731-1581530400-1581539400@www.debbymaziarz.com.au
SUMMARY:Community Grant Writing Workshop - City of Port Phillip
DESCRIPTION:All aspects of grant writing from where to find grants\, understanding the guidelines and selection criteria\, working through an application and budget and how to frame your project. \nFor more information and to book please click here. \n
URL:https://www.debbymaziarz.com.au/workshop/community-grant-writing-workshop-city-of-port-phillip/
LOCATION:Training Room\, St Kilda Town Hall\, 99a Carlisle St\, St Kilda\, VIC\, 3182\, Australia
ORGANIZER;CN="City%20of%20Port%20Phillip":MAILTO:volunteer@portphillip.vic.gov.au
END:VEVENT
BEGIN:VEVENT
DTSTART;TZID=Australia/Melbourne:20200219T180000
DTEND;TZID=Australia/Melbourne:20200219T210000
DTSTAMP:20200228T143549
CREATED:20200106T083041Z
LAST-MODIFIED:20200106T083041Z
UID:729-1582135200-1582146000@www.debbymaziarz.com.au
SUMMARY:Effective Grant Writing - Moonee Valley City Council
DESCRIPTION:It’s time to get that idea funded! \nBuild your understanding of what is required to successfully apply for and acquit grants. This fun and hands-on workshop will focus on transforming your ideas into fundable concepts and will walk you step by step through the process. Includes: \n\n\n\nWhere to find the money\nWriting a killer 50-word grab\nWorking with partners\nBuilding a budget\nAnswering the ‘sustainability’ and ‘evaluation’ questions\n\n\n\nFor more information and to book please click here. \n
URL:https://www.debbymaziarz.com.au/workshop/effective-grant-writing-moonee-valley-city-council-11/
LOCATION:Council Chambers\, Moonee Valley City Council\, 9 Kellaway Avenue\, Moonee Ponds\, VIC\, 3039\, Australia
END:VEVENT
BEGIN:VEVENT
DTSTART;TZID=Australia/Melbourne:20200220T180000
DTEND;TZID=Australia/Melbourne:20200220T203000
DTSTAMP:20200228T143549
CREATED:20200131T231740Z
LAST-MODIFIED:20200131T231740Z
UID:736-1582221600-1582230600@www.debbymaziarz.com.au
SUMMARY:Arts Grant Writing Workshop - City of Port Phillip
DESCRIPTION:All aspects of art grant writing from where to find grants\, understanding the guidelines and selection criteria\, working through an application and budget and how to frame your project. Artists companies and community-based organisations are encouraged to attend. \nFor more information and to book please click here. \n
URL:https://www.debbymaziarz.com.au/workshop/arts-grant-writing-workshop-city-of-port-phillip/
LOCATION:Council Chambers\, St Kilda Town Hall\, 99a Carlisle St\, St Kilda\, VIC\, 3182\, Australia
ORGANIZER;CN="City%20of%20Port%20Phillip":MAILTO:volunteer@portphillip.vic.gov.au
END:VEVENT
END:VCALENDAR