BEGIN:VCALENDAR
VERSION:2.0
PRODID:-//Debby Maziarz Productions - ECPv6.0.13.1//NONSGML v1.0//EN
CALSCALE:GREGORIAN
METHOD:PUBLISH
X-ORIGINAL-URL:https://www.debbymaziarz.com.au
X-WR-CALDESC:Events for Debby Maziarz Productions
REFRESH-INTERVAL;VALUE=DURATION:PT1H
X-Robots-Tag:noindex
X-PUBLISHED-TTL:PT1H
BEGIN:VTIMEZONE
TZID:Australia/Melbourne
BEGIN:STANDARD
TZOFFSETFROM:+1100
TZOFFSETTO:+1000
TZNAME:AEST
DTSTART:20200404T160000
END:STANDARD
BEGIN:DAYLIGHT
TZOFFSETFROM:+1000
TZOFFSETTO:+1100
TZNAME:AEDT
DTSTART:20201003T160000
END:DAYLIGHT
END:VTIMEZONE
BEGIN:VEVENT
DTSTART;TZID=Australia/Melbourne:20200406T183000
DTEND;TZID=Australia/Melbourne:20200406T183000
DTSTAMP:20260424T181416
CREATED:20200308T010305Z
LAST-MODIFIED:20200308T011029Z
UID:750-1586197800-1586197800@www.debbymaziarz.com.au
SUMMARY:Effective Grant Writing - Banyule City Council
DESCRIPTION:It’s time to get that idea funded! \nBuild your understanding of what is required to successfully apply for and acquit grants. This fun and hands-on workshop will focus on transforming your ideas into fundable concepts and will walk you step by step through the process. Includes: \n\n\n\nWhere to find the money\nWriting a killer 50-word grab\nWorking with partners\nBuilding a budget\nAnswering the ‘sustainability’ and ‘evaluation’ questions\n\n\n\nFor more information and to book please click here.
URL:https://www.debbymaziarz.com.au/workshop/effective-grant-writing-banyule-city-council/
LOCATION:Greensborough Service Centre\, 1 Flintoff Street\, Greensborough\, VIC\, 3088\, Australia
END:VEVENT
BEGIN:VEVENT
DTSTART;TZID=Australia/Melbourne:20200406T183000
DTEND;TZID=Australia/Melbourne:20200406T183000
DTSTAMP:20260424T181416
CREATED:20200308T010305Z
LAST-MODIFIED:20200308T010305Z
UID:2984-1586197800-1586197800@www.debbymaziarz.com.au
SUMMARY:Effective Grant Writing - Banyule City Council
DESCRIPTION:It’s time to get that idea funded! \nBuild your understanding of what is required to successfully apply for and acquit grants. This fun and hands-on workshop will focus on transforming your ideas into fundable concepts and will walk you step by step through the process. Includes: \n\n\n\nWhere to find the money\nWriting a killer 50-word grab\nWorking with partners\nBuilding a budget\nAnswering the ‘sustainability’ and ‘evaluation’ questions\n\n\n\nFor more information and to book please click here.
URL:https://www.debbymaziarz.com.au/workshop/effective-grant-writing-banyule-city-council-2/
LOCATION:Greensborough Service Centre\, 1 Flintoff Street\, Greensborough\, VIC\, 3088\, Australia
END:VEVENT
BEGIN:VEVENT
DTSTART;TZID=Australia/Melbourne:20200429T093000
DTEND;TZID=Australia/Melbourne:20200429T123000
DTSTAMP:20260424T181416
CREATED:20200210T122303Z
LAST-MODIFIED:20200414T050116Z
UID:744-1588152600-1588163400@www.debbymaziarz.com.au
SUMMARY:Online Grant Writing Workshop - Brimbank City Council
DESCRIPTION:Are you a not-for-profit organisation or a community group looking for one-off financial assistance? Our annual Community Grants Program provides financial support to not-for-profit organisations and community groups to deliver projects that reflect the strategic objectives of the Brimbank Community Vision 2040. The Online Grant Writing Workshop is a great way to get information and skills to work on your grant ideas and get to know more about grants available. \nDon’t miss this opportunity to learn how to effectively write a grant. \nTopics covered in this session: \n\nWhere to find grants\nSolidifying your project idea\nWriting the 50-word grab\nThe grant making cycle\nWork through a grant application\nHow to do a budget (for a grant application)\nDealing with the ‘evaluation’ and ‘project sustainability’ questions\n\nFor more information and to book please click here. Registered participants will receive the online zoom logins to the workshop 2 days before the training.
URL:https://www.debbymaziarz.com.au/workshop/effective-grant-writing-brimbank-city-council-8/
LOCATION:Online\, Australia
END:VEVENT
BEGIN:VEVENT
DTSTART;TZID=Australia/Melbourne:20200429T093000
DTEND;TZID=Australia/Melbourne:20200429T123000
DTSTAMP:20260424T181416
CREATED:20200210T122303Z
LAST-MODIFIED:20200210T122303Z
UID:2983-1588152600-1588163400@www.debbymaziarz.com.au
SUMMARY:Online Grant Writing Workshop - Brimbank City Council
DESCRIPTION:Are you a not-for-profit organisation or a community group looking for one-off financial assistance? Our annual Community Grants Program provides financial support to not-for-profit organisations and community groups to deliver projects that reflect the strategic objectives of the Brimbank Community Vision 2040. The Online Grant Writing Workshop is a great way to get information and skills to work on your grant ideas and get to know more about grants available. \nDon’t miss this opportunity to learn how to effectively write a grant. \nTopics covered in this session: \n\nWhere to find grants\nSolidifying your project idea\nWriting the 50-word grab\nThe grant making cycle\nWork through a grant application\nHow to do a budget (for a grant application)\nDealing with the ‘evaluation’ and ‘project sustainability’ questions\n\nFor more information and to book please click here. Registered participants will receive the online zoom logins to the workshop 2 days before the training.
URL:https://www.debbymaziarz.com.au/workshop/effective-grant-writing-brimbank-city-council-8-2/
LOCATION:Online\, Australia
END:VEVENT
END:VCALENDAR