BEGIN:VCALENDAR
VERSION:2.0
PRODID:-//Debby Maziarz Productions - ECPv6.0.13.1//NONSGML v1.0//EN
CALSCALE:GREGORIAN
METHOD:PUBLISH
X-WR-CALNAME:Debby Maziarz Productions
X-ORIGINAL-URL:https://www.debbymaziarz.com.au
X-WR-CALDESC:Events for Debby Maziarz Productions
REFRESH-INTERVAL;VALUE=DURATION:PT1H
X-Robots-Tag:noindex
X-PUBLISHED-TTL:PT1H
BEGIN:VTIMEZONE
TZID:Australia/Melbourne
BEGIN:STANDARD
TZOFFSETFROM:+1100
TZOFFSETTO:+1000
TZNAME:AEST
DTSTART:20200404T160000
END:STANDARD
BEGIN:DAYLIGHT
TZOFFSETFROM:+1000
TZOFFSETTO:+1100
TZNAME:AEDT
DTSTART:20201003T160000
END:DAYLIGHT
TZID:UTC
BEGIN:STANDARD
TZOFFSETFROM:+0000
TZOFFSETTO:+0000
TZNAME:UTC
DTSTART:20200101T000000
END:STANDARD
END:VTIMEZONE
BEGIN:VEVENT
DTSTART;TZID=Australia/Melbourne:20200812T100000
DTEND;TZID=Australia/Melbourne:20200812T123000
DTSTAMP:20260425T005419
CREATED:20200809T233849Z
LAST-MODIFIED:20200809T233849Z
UID:3001-1597226400-1597235400@www.debbymaziarz.com.au
SUMMARY:Grant Writing Online Workshop - Moonee Valley City Council
DESCRIPTION:Moonee Valley City Council is currently offering funding through the COVID-19 Recovery Grants program to community groups\, organisations\, local businesses and artists. \nJoin in a FREE online workshop facilitated by grants expert Debby Maziarz to learn about effective grant writing. \nThrough this 3 hour online workshop you can build your understanding of what is required to successfully apply for and acquit grants. \nThis fun and hands-on workshop will focus on transforming your ideas into fundable concepts and will walk you step by step through the process. Topics include: \n\nWhere to find the money\nWriting a killer 50-word grab\nWorking with partners\nBuilding a budget\nAnswering the ‘sustainability’ and ‘evaluation’ questions\n\nIf you have any questions\, or would like to request an interpreter\, please contact the Community Grants Officer on 9243 1664 or grants@mvcc.vic.gov.au. \nPlease note: this session will be held online via Zoom – please sign up to Zoom for a free account and a link to the webinar will be emailed to you prior to the session after you are registered. \nFor more information and to book please click here.
URL:https://www.debbymaziarz.com.au/workshop/grant-writing-online-workshop-moonee-valley-city-council-6-2/
LOCATION:Online\, Australia
END:VEVENT
BEGIN:VEVENT
DTSTART;TZID=Australia/Melbourne:20200812T100000
DTEND;TZID=Australia/Melbourne:20200812T123000
DTSTAMP:20260425T005419
CREATED:20200809T233849Z
LAST-MODIFIED:20200809T234007Z
UID:819-1597226400-1597235400@www.debbymaziarz.com.au
SUMMARY:Grant Writing Online Workshop - Moonee Valley City Council
DESCRIPTION:Moonee Valley City Council is currently offering funding through the COVID-19 Recovery Grants program to community groups\, organisations\, local businesses and artists. \nJoin in a FREE online workshop facilitated by grants expert Debby Maziarz to learn about effective grant writing. \nThrough this 3 hour online workshop you can build your understanding of what is required to successfully apply for and acquit grants. \nThis fun and hands-on workshop will focus on transforming your ideas into fundable concepts and will walk you step by step through the process. Topics include: \n\nWhere to find the money\nWriting a killer 50-word grab\nWorking with partners\nBuilding a budget\nAnswering the ‘sustainability’ and ‘evaluation’ questions\n\nIf you have any questions\, or would like to request an interpreter\, please contact the Community Grants Officer on 9243 1664 or grants@mvcc.vic.gov.au. \nPlease note: this session will be held online via Zoom – please sign up to Zoom for a free account and a link to the webinar will be emailed to you prior to the session after you are registered. \nFor more information and to book please click here.
URL:https://www.debbymaziarz.com.au/workshop/grant-writing-online-workshop-moonee-valley-city-council-6/
LOCATION:Online\, Australia
END:VEVENT
BEGIN:VEVENT
DTSTART;TZID=Australia/Melbourne:20200818T130000
DTEND;TZID=Australia/Melbourne:20200818T153000
DTSTAMP:20260425T005419
CREATED:20200814T015951Z
LAST-MODIFIED:20200814T015951Z
UID:827-1597755600-1597764600@www.debbymaziarz.com.au
SUMMARY:Grant Writing Online Workshop - Moonee Valley City Council
DESCRIPTION:Moonee Valley City Council is currently offering funding through the COVID-19 Recovery Grants program to community groups\, organisations\, local businesses and artists. \nJoin in a FREE online workshop facilitated by grants expert Debby Maziarz to learn about effective grant writing. \nThrough this 3 hour online workshop you can build your understanding of what is required to successfully apply for and acquit grants. \nThis fun and hands-on workshop will focus on transforming your ideas into fundable concepts and will walk you step by step through the process. Topics include: \n\nWhere to find the money\nWriting a killer 50-word grab\nWorking with partners\nBuilding a budget\nAnswering the ‘sustainability’ and ‘evaluation’ questions\n\nIf you have any questions\, or would like to request an interpreter\, please contact the Community Grants Officer on 9243 1664 or grants@mvcc.vic.gov.au. \nPlease note: this session will be held online via Zoom – please sign up to Zoom for a free account and a link to the webinar will be emailed to you prior to the session after you are registered. \nFor more information and to book please click here.
URL:https://www.debbymaziarz.com.au/workshop/grant-writing-online-workshop-moonee-valley-city-council-7/
LOCATION:Online\, Australia
END:VEVENT
BEGIN:VEVENT
DTSTART;TZID=Australia/Melbourne:20200818T130000
DTEND;TZID=Australia/Melbourne:20200818T153000
DTSTAMP:20260425T005419
CREATED:20200814T015951Z
LAST-MODIFIED:20200814T015951Z
UID:3004-1597755600-1597764600@www.debbymaziarz.com.au
SUMMARY:Grant Writing Online Workshop - Moonee Valley City Council
DESCRIPTION:Moonee Valley City Council is currently offering funding through the COVID-19 Recovery Grants program to community groups\, organisations\, local businesses and artists. \nJoin in a FREE online workshop facilitated by grants expert Debby Maziarz to learn about effective grant writing. \nThrough this 3 hour online workshop you can build your understanding of what is required to successfully apply for and acquit grants. \nThis fun and hands-on workshop will focus on transforming your ideas into fundable concepts and will walk you step by step through the process. Topics include: \n\nWhere to find the money\nWriting a killer 50-word grab\nWorking with partners\nBuilding a budget\nAnswering the ‘sustainability’ and ‘evaluation’ questions\n\nIf you have any questions\, or would like to request an interpreter\, please contact the Community Grants Officer on 9243 1664 or grants@mvcc.vic.gov.au. \nPlease note: this session will be held online via Zoom – please sign up to Zoom for a free account and a link to the webinar will be emailed to you prior to the session after you are registered. \nFor more information and to book please click here.
URL:https://www.debbymaziarz.com.au/workshop/grant-writing-online-workshop-moonee-valley-city-council-7-2/
LOCATION:Online\, Australia
END:VEVENT
BEGIN:VEVENT
DTSTART;TZID=UTC:20200825T100000
DTEND;TZID=UTC:20200825T123000
DTSTAMP:20260425T005419
CREATED:20200813T002836Z
LAST-MODIFIED:20200813T002836Z
UID:3002-1598349600-1598358600@www.debbymaziarz.com.au
SUMMARY:Grant Writing for Artists from Culturally Diverse Backgrounds
DESCRIPTION:The City of Melbourne (COM) and Multicultural Arts Victoria (MAV) are providing online grant writing workshops and follow up one-on-one feedback sessions with Debby Maziarz for artists\, creatives and groups from culturally diverse backgrounds. \nYou can select from two grant writing workshops and these will both include a presentation by Debby\, an opportunity to have all your questions answered and break out groups where you can craft your project pitch with other artists and MAV staff. Once you have attended one of these workshops you can book in a session with Debby for feedback on your project idea\, budget and/or draft grant application. \nApplications for the 2021 arts grants will open 9am Tuesday 1 September 2020 and close 5pm Monday 28 September 2020. \nTo prepare yourself for the session\, please view the Program Guidelines at www.melbourne.vic.gov.au/annualartsgrants (available from 21 August 2020) \nFor more information and to book please click here.
URL:https://www.debbymaziarz.com.au/workshop/grant-writing-for-artists-from-culturally-diverse-backgrounds-3/
LOCATION:Online\, Australia
ORGANIZER;CN="Multicultural%20Arts%20Victoria":MAILTO:office@multiculturalarts.com.au
END:VEVENT
BEGIN:VEVENT
DTSTART;TZID=UTC:20200825T100000
DTEND;TZID=UTC:20200825T123000
DTSTAMP:20260425T005419
CREATED:20200813T002836Z
LAST-MODIFIED:20200813T002836Z
UID:822-1598349600-1598358600@www.debbymaziarz.com.au
SUMMARY:Grant Writing for Artists from Culturally Diverse Backgrounds
DESCRIPTION:The City of Melbourne (COM) and Multicultural Arts Victoria (MAV) are providing online grant writing workshops and follow up one-on-one feedback sessions with Debby Maziarz for artists\, creatives and groups from culturally diverse backgrounds. \nYou can select from two grant writing workshops and these will both include a presentation by Debby\, an opportunity to have all your questions answered and break out groups where you can craft your project pitch with other artists and MAV staff. Once you have attended one of these workshops you can book in a session with Debby for feedback on your project idea\, budget and/or draft grant application. \nApplications for the 2021 arts grants will open 9am Tuesday 1 September 2020 and close 5pm Monday 28 September 2020. \nTo prepare yourself for the session\, please view the Program Guidelines at www.melbourne.vic.gov.au/annualartsgrants (available from 21 August 2020) \nFor more information and to book please click here.
URL:https://www.debbymaziarz.com.au/workshop/grant-writing-for-artists-from-culturally-diverse-backgrounds/
LOCATION:Online\, Australia
ORGANIZER;CN="Multicultural%20Arts%20Victoria":MAILTO:office@multiculturalarts.com.au
END:VEVENT
BEGIN:VEVENT
DTSTART;TZID=UTC:20200826T170000
DTEND;TZID=UTC:20200826T193000
DTSTAMP:20260425T005419
CREATED:20200813T002931Z
LAST-MODIFIED:20200813T002931Z
UID:3003-1598461200-1598470200@www.debbymaziarz.com.au
SUMMARY:Grant Writing for Artists from Culturally Diverse Backgrounds
DESCRIPTION:The City of Melbourne (COM) and Multicultural Arts Victoria (MAV) are providing online grant writing workshops and follow up one-on-one feedback sessions with Debby Maziarz for artists\, creatives and groups from culturally diverse backgrounds. \nYou can select from two grant writing workshops and these will both include a presentation by Debby\, an opportunity to have all your questions answered and break out groups where you can craft your project pitch with other artists and MAV staff. Once you have attended one of these workshops you can book in a session with Debby for feedback on your project idea\, budget and/or draft grant application. \nApplications for the 2021 arts grants will open 9am Tuesday 1 September 2020 and close 5pm Monday 28 September 2020. \nTo prepare yourself for the session\, please view the Program Guidelines at www.melbourne.vic.gov.au/annualartsgrants (available from 21 August 2020) \nFor more information and to book please click here.
URL:https://www.debbymaziarz.com.au/workshop/grant-writing-for-artists-from-culturally-diverse-backgrounds-2-2/
LOCATION:Online\, Australia
ORGANIZER;CN="Multicultural%20Arts%20Victoria":MAILTO:office@multiculturalarts.com.au
END:VEVENT
BEGIN:VEVENT
DTSTART;TZID=UTC:20200826T170000
DTEND;TZID=UTC:20200826T193000
DTSTAMP:20260425T005419
CREATED:20200813T002931Z
LAST-MODIFIED:20200813T002931Z
UID:825-1598461200-1598470200@www.debbymaziarz.com.au
SUMMARY:Grant Writing for Artists from Culturally Diverse Backgrounds
DESCRIPTION:The City of Melbourne (COM) and Multicultural Arts Victoria (MAV) are providing online grant writing workshops and follow up one-on-one feedback sessions with Debby Maziarz for artists\, creatives and groups from culturally diverse backgrounds. \nYou can select from two grant writing workshops and these will both include a presentation by Debby\, an opportunity to have all your questions answered and break out groups where you can craft your project pitch with other artists and MAV staff. Once you have attended one of these workshops you can book in a session with Debby for feedback on your project idea\, budget and/or draft grant application. \nApplications for the 2021 arts grants will open 9am Tuesday 1 September 2020 and close 5pm Monday 28 September 2020. \nTo prepare yourself for the session\, please view the Program Guidelines at www.melbourne.vic.gov.au/annualartsgrants (available from 21 August 2020) \nFor more information and to book please click here.
URL:https://www.debbymaziarz.com.au/workshop/grant-writing-for-artists-from-culturally-diverse-backgrounds-2/
LOCATION:Online\, Australia
ORGANIZER;CN="Multicultural%20Arts%20Victoria":MAILTO:office@multiculturalarts.com.au
END:VEVENT
END:VCALENDAR