BEGIN:VCALENDAR
VERSION:2.0
PRODID:-//Debby Maziarz Productions - ECPv6.0.13.1//NONSGML v1.0//EN
CALSCALE:GREGORIAN
METHOD:PUBLISH
X-ORIGINAL-URL:https://www.debbymaziarz.com.au
X-WR-CALDESC:Events for Debby Maziarz Productions
REFRESH-INTERVAL;VALUE=DURATION:PT1H
X-Robots-Tag:noindex
X-PUBLISHED-TTL:PT1H
BEGIN:VTIMEZONE
TZID:Australia/Melbourne
BEGIN:STANDARD
TZOFFSETFROM:+1100
TZOFFSETTO:+1000
TZNAME:AEST
DTSTART:20210403T160000
END:STANDARD
BEGIN:DAYLIGHT
TZOFFSETFROM:+1000
TZOFFSETTO:+1100
TZNAME:AEDT
DTSTART:20211002T160000
END:DAYLIGHT
TZID:UTC
BEGIN:STANDARD
TZOFFSETFROM:+0000
TZOFFSETTO:+0000
TZNAME:UTC
DTSTART:20210101T000000
END:STANDARD
END:VTIMEZONE
BEGIN:VEVENT
DTSTART;TZID=Australia/Melbourne:20210201T140000
DTEND;TZID=Australia/Melbourne:20210201T153000
DTSTAMP:20260425T113018
CREATED:20210106T001124Z
LAST-MODIFIED:20210106T001124Z
UID:3023-1612188000-1612193400@www.debbymaziarz.com.au
SUMMARY:Effective Grant Writing - City of Monash
DESCRIPTION:It’s time to get that idea funded! \nBuild your understanding of what is required to successfully apply for and acquit grants. This fun and hands-on workshop will focus on transforming your ideas into fundable concepts and will walk you step by step through the process. Includes: \n\n\n\nWhere to find the money\nWriting a killer 50-word grab\nWorking with partners\nBuilding a budget\nAnswering the ‘sustainability’ and ‘evaluation’ questions\n\n\n\nFor more information and to book please click here.
URL:https://www.debbymaziarz.com.au/workshop/effective-grant-writing-city-of-monash-2-2/
LOCATION:Online\, Australia
ORGANIZER;CN="City%20of%20Monash":MAILTO:events@monash.vic.gov.au
END:VEVENT
BEGIN:VEVENT
DTSTART;TZID=Australia/Melbourne:20210201T140000
DTEND;TZID=Australia/Melbourne:20210201T153000
DTSTAMP:20260425T113018
CREATED:20210106T001124Z
LAST-MODIFIED:20210106T001254Z
UID:1044-1612188000-1612193400@www.debbymaziarz.com.au
SUMMARY:Effective Grant Writing - City of Monash
DESCRIPTION:It’s time to get that idea funded! \nBuild your understanding of what is required to successfully apply for and acquit grants. This fun and hands-on workshop will focus on transforming your ideas into fundable concepts and will walk you step by step through the process. Includes: \n\n\n\nWhere to find the money\nWriting a killer 50-word grab\nWorking with partners\nBuilding a budget\nAnswering the ‘sustainability’ and ‘evaluation’ questions\n\n\n\nFor more information and to book please click here.
URL:https://www.debbymaziarz.com.au/workshop/effective-grant-writing-city-of-monash-2/
LOCATION:Online\, Australia
ORGANIZER;CN="City%20of%20Monash":MAILTO:events@monash.vic.gov.au
END:VEVENT
BEGIN:VEVENT
DTSTART;TZID=Australia/Melbourne:20210204T180000
DTEND;TZID=Australia/Melbourne:20210204T193000
DTSTAMP:20260425T113018
CREATED:20210106T001235Z
LAST-MODIFIED:20210106T001235Z
UID:1046-1612461600-1612467000@www.debbymaziarz.com.au
SUMMARY:Effective Grant Writing - City of Monash
DESCRIPTION:It’s time to get that idea funded! \nBuild your understanding of what is required to successfully apply for and acquit grants. This fun and hands-on workshop will focus on transforming your ideas into fundable concepts and will walk you step by step through the process. Includes: \n\n\n\nWhere to find the money\nWriting a killer 50-word grab\nWorking with partners\nBuilding a budget\nAnswering the ‘sustainability’ and ‘evaluation’ questions\n\n\n\nFor more information and to book please click here.
URL:https://www.debbymaziarz.com.au/workshop/effective-grant-writing-city-of-monash-3/
LOCATION:Online\, Australia
ORGANIZER;CN="City%20of%20Monash":MAILTO:events@monash.vic.gov.au
END:VEVENT
BEGIN:VEVENT
DTSTART;TZID=Australia/Melbourne:20210204T180000
DTEND;TZID=Australia/Melbourne:20210204T193000
DTSTAMP:20260425T113018
CREATED:20210106T001235Z
LAST-MODIFIED:20210106T001235Z
UID:3024-1612461600-1612467000@www.debbymaziarz.com.au
SUMMARY:Effective Grant Writing - City of Monash
DESCRIPTION:It’s time to get that idea funded! \nBuild your understanding of what is required to successfully apply for and acquit grants. This fun and hands-on workshop will focus on transforming your ideas into fundable concepts and will walk you step by step through the process. Includes: \n\n\n\nWhere to find the money\nWriting a killer 50-word grab\nWorking with partners\nBuilding a budget\nAnswering the ‘sustainability’ and ‘evaluation’ questions\n\n\n\nFor more information and to book please click here.
URL:https://www.debbymaziarz.com.au/workshop/effective-grant-writing-city-of-monash-3-2/
LOCATION:Online\, Australia
ORGANIZER;CN="City%20of%20Monash":MAILTO:events@monash.vic.gov.au
END:VEVENT
BEGIN:VEVENT
DTSTART;TZID=UTC:20210209T170000
DTEND;TZID=UTC:20210209T190000
DTSTAMP:20260425T113018
CREATED:20210127T042131Z
LAST-MODIFIED:20210127T042131Z
UID:1162-1612890000-1612897200@www.debbymaziarz.com.au
SUMMARY:COVID-19 Grant Writing Workshops for Banyule Businesses
DESCRIPTION:This workshop is for Banyule businesses who would like to apply for a COVID-19 Banyule Business Grant and would like some helpful tips on how to write a grant application. Learnings can be applied to other grants available at a State and Federal level. \nThe aims of the session are to: \n• provide practical\, useful and transferable information about how to approach grant writing; \n• encourage you to explore project ideas and clarify point of difference; and \n• provide practical\, useful and transferable information about building budgets for grant applications. \nFor more information and to book please click here. \nPlease note: once you have booked into this session\, you will be emailed a calendar invite with a link to the ZOOM meeting. You will need to have access to ZOOM to participate in this workshop.
URL:https://www.debbymaziarz.com.au/workshop/covid-19-grant-writing-workshops-for-banyule-businesses-4/
LOCATION:Online\, Australia
END:VEVENT
BEGIN:VEVENT
DTSTART;TZID=UTC:20210209T170000
DTEND;TZID=UTC:20210209T190000
DTSTAMP:20260425T113018
CREATED:20210127T042131Z
LAST-MODIFIED:20210127T042131Z
UID:3028-1612890000-1612897200@www.debbymaziarz.com.au
SUMMARY:COVID-19 Grant Writing Workshops for Banyule Businesses
DESCRIPTION:This workshop is for Banyule businesses who would like to apply for a COVID-19 Banyule Business Grant and would like some helpful tips on how to write a grant application. Learnings can be applied to other grants available at a State and Federal level. \nThe aims of the session are to: \n• provide practical\, useful and transferable information about how to approach grant writing; \n• encourage you to explore project ideas and clarify point of difference; and \n• provide practical\, useful and transferable information about building budgets for grant applications. \nFor more information and to book please click here. \nPlease note: once you have booked into this session\, you will be emailed a calendar invite with a link to the ZOOM meeting. You will need to have access to ZOOM to participate in this workshop.
URL:https://www.debbymaziarz.com.au/workshop/covid-19-grant-writing-workshops-for-banyule-businesses-4-2/
LOCATION:Online\, Australia
END:VEVENT
BEGIN:VEVENT
DTSTART;TZID=Australia/Melbourne:20210210T093000
DTEND;TZID=Australia/Melbourne:20210210T110000
DTSTAMP:20260425T113018
CREATED:20210113T222032Z
LAST-MODIFIED:20210113T222032Z
UID:1103-1612949400-1612954800@www.debbymaziarz.com.au
SUMMARY:2021 Whitehorse Business Recovery Grants Program Workshop
DESCRIPTION:This workshop is for Whitehorse SME businesses who would like to apply for a Whitehorse Recovery Grant and would like some helpful tips on how to write a grant application. Learnings can be applied to other grants available at a State and Federal level. \nThe workshop is being presented by Debby Maziarz\, who is an experienced grant writing professional who is passionate about supporting SME businesses. \nThe aims of the session are to: \n\nprovide practical\, useful and transferable information about how to approach grant writing;\nencourage you to explore project ideas and clarify point of difference; and\nprovide practical\, useful and transferable information about building budgets for grant applications.\n\nPlease note: once you have booked into this session\, you will be emailed a calendar invite with a link to the ZOOM meeting. You will need to have access to ZOOM to participate in this workshop. \nPlease be mindful\, this session will not provide the opportunity to canvass ideas or seek opinion on the viability of your application. Please refer to https://www.wbiz.com.au/whitehorse-business/whitehorse-recovery-grants-package-business for contact details should you need to discuss your application further. and to download the guidelines. \nPlease note there are information sessions that will assist you to access smartygrants and to discuss the WRGP-Business criteria. \nTo book click here.
URL:https://www.debbymaziarz.com.au/workshop/2021-whitehorse-business-recovery-grants-program-workshop/
LOCATION:Online\, Australia
END:VEVENT
BEGIN:VEVENT
DTSTART;TZID=Australia/Melbourne:20210210T093000
DTEND;TZID=Australia/Melbourne:20210210T110000
DTSTAMP:20260425T113018
CREATED:20210113T222032Z
LAST-MODIFIED:20210113T222032Z
UID:3025-1612949400-1612954800@www.debbymaziarz.com.au
SUMMARY:2021 Whitehorse Business Recovery Grants Program Workshop
DESCRIPTION:This workshop is for Whitehorse SME businesses who would like to apply for a Whitehorse Recovery Grant and would like some helpful tips on how to write a grant application. Learnings can be applied to other grants available at a State and Federal level. \nThe workshop is being presented by Debby Maziarz\, who is an experienced grant writing professional who is passionate about supporting SME businesses. \nThe aims of the session are to: \n\nprovide practical\, useful and transferable information about how to approach grant writing;\nencourage you to explore project ideas and clarify point of difference; and\nprovide practical\, useful and transferable information about building budgets for grant applications.\n\nPlease note: once you have booked into this session\, you will be emailed a calendar invite with a link to the ZOOM meeting. You will need to have access to ZOOM to participate in this workshop. \nPlease be mindful\, this session will not provide the opportunity to canvass ideas or seek opinion on the viability of your application. Please refer to https://www.wbiz.com.au/whitehorse-business/whitehorse-recovery-grants-package-business for contact details should you need to discuss your application further. and to download the guidelines. \nPlease note there are information sessions that will assist you to access smartygrants and to discuss the WRGP-Business criteria. \nTo book click here.
URL:https://www.debbymaziarz.com.au/workshop/2021-whitehorse-business-recovery-grants-program-workshop-3/
LOCATION:Online\, Australia
END:VEVENT
BEGIN:VEVENT
DTSTART;TZID=Australia/Melbourne:20210210T183000
DTEND;TZID=Australia/Melbourne:20210210T200000
DTSTAMP:20260425T113018
CREATED:20210113T222152Z
LAST-MODIFIED:20210113T222152Z
UID:1108-1612981800-1612987200@www.debbymaziarz.com.au
SUMMARY:2021 Whitehorse Business Recovery Grants Program Workshop
DESCRIPTION:This workshop is for Whitehorse SME businesses who would like to apply for a Whitehorse Recovery Grant and would like some helpful tips on how to write a grant application. Learnings can be applied to other grants available at a State and Federal level. \nThe workshop is being presented by Debby Maziarz\, who is an experienced grant writing professional who is passionate about supporting SME businesses. \nThe aims of the session are to: \n\nprovide practical\, useful and transferable information about how to approach grant writing;\nencourage you to explore project ideas and clarify point of difference; and\nprovide practical\, useful and transferable information about building budgets for grant applications.\n\nPlease note: once you have booked into this session\, you will be emailed a calendar invite with a link to the ZOOM meeting. You will need to have access to ZOOM to participate in this workshop. \nPlease be mindful\, this session will not provide the opportunity to canvass ideas or seek opinion on the viability of your application. Please refer to https://www.wbiz.com.au/whitehorse-business/whitehorse-recovery-grants-package-business for contact details should you need to discuss your application further. and to download the guidelines. \nPlease note there are information sessions that will assist you to access smartygrants and to discuss the WRGP-Business criteria. \nTo book click here.
URL:https://www.debbymaziarz.com.au/workshop/2021-whitehorse-business-recovery-grants-program-workshop-2/
LOCATION:Online\, Australia
END:VEVENT
BEGIN:VEVENT
DTSTART;TZID=Australia/Melbourne:20210210T183000
DTEND;TZID=Australia/Melbourne:20210210T200000
DTSTAMP:20260425T113018
CREATED:20210113T222152Z
LAST-MODIFIED:20210113T222152Z
UID:3026-1612981800-1612987200@www.debbymaziarz.com.au
SUMMARY:2021 Whitehorse Business Recovery Grants Program Workshop
DESCRIPTION:This workshop is for Whitehorse SME businesses who would like to apply for a Whitehorse Recovery Grant and would like some helpful tips on how to write a grant application. Learnings can be applied to other grants available at a State and Federal level. \nThe workshop is being presented by Debby Maziarz\, who is an experienced grant writing professional who is passionate about supporting SME businesses. \nThe aims of the session are to: \n\nprovide practical\, useful and transferable information about how to approach grant writing;\nencourage you to explore project ideas and clarify point of difference; and\nprovide practical\, useful and transferable information about building budgets for grant applications.\n\nPlease note: once you have booked into this session\, you will be emailed a calendar invite with a link to the ZOOM meeting. You will need to have access to ZOOM to participate in this workshop. \nPlease be mindful\, this session will not provide the opportunity to canvass ideas or seek opinion on the viability of your application. Please refer to https://www.wbiz.com.au/whitehorse-business/whitehorse-recovery-grants-package-business for contact details should you need to discuss your application further. and to download the guidelines. \nPlease note there are information sessions that will assist you to access smartygrants and to discuss the WRGP-Business criteria. \nTo book click here.
URL:https://www.debbymaziarz.com.au/workshop/2021-whitehorse-business-recovery-grants-program-workshop-2-2/
LOCATION:Online\, Australia
END:VEVENT
BEGIN:VEVENT
DTSTART;TZID=UTC:20210211T100000
DTEND;TZID=UTC:20210211T120000
DTSTAMP:20260425T113018
CREATED:20210127T041944Z
LAST-MODIFIED:20210127T042024Z
UID:1160-1613037600-1613044800@www.debbymaziarz.com.au
SUMMARY:COVID-19 Grant Writing Workshops for Banyule Businesses
DESCRIPTION:This workshop is for Banyule businesses who would like to apply for a COVID-19 Banyule Business Grant and would like some helpful tips on how to write a grant application. Learnings can be applied to other grants available at a State and Federal level. \nThe aims of the session are to: \n• provide practical\, useful and transferable information about how to approach grant writing; \n• encourage you to explore project ideas and clarify point of difference; and \n• provide practical\, useful and transferable information about building budgets for grant applications. \nFor more information and to book please click here. \nPlease note: once you have booked into this session\, you will be emailed a calendar invite with a link to the ZOOM meeting. You will need to have access to ZOOM to participate in this workshop.
URL:https://www.debbymaziarz.com.au/workshop/covid-19-grant-writing-workshops-for-banyule-businesses-3/
LOCATION:Online\, Australia
END:VEVENT
BEGIN:VEVENT
DTSTART;TZID=UTC:20210211T100000
DTEND;TZID=UTC:20210211T120000
DTSTAMP:20260425T113018
CREATED:20210127T041944Z
LAST-MODIFIED:20210127T041944Z
UID:3027-1613037600-1613044800@www.debbymaziarz.com.au
SUMMARY:COVID-19 Grant Writing Workshops for Banyule Businesses
DESCRIPTION:This workshop is for Banyule businesses who would like to apply for a COVID-19 Banyule Business Grant and would like some helpful tips on how to write a grant application. Learnings can be applied to other grants available at a State and Federal level. \nThe aims of the session are to: \n• provide practical\, useful and transferable information about how to approach grant writing; \n• encourage you to explore project ideas and clarify point of difference; and \n• provide practical\, useful and transferable information about building budgets for grant applications. \nFor more information and to book please click here. \nPlease note: once you have booked into this session\, you will be emailed a calendar invite with a link to the ZOOM meeting. You will need to have access to ZOOM to participate in this workshop.
URL:https://www.debbymaziarz.com.au/workshop/covid-19-grant-writing-workshops-for-banyule-businesses-3-2/
LOCATION:Online\, Australia
END:VEVENT
BEGIN:VEVENT
DTSTART;TZID=Australia/Melbourne:20210216T180000
DTEND;TZID=Australia/Melbourne:20210216T203000
DTSTAMP:20260425T113018
CREATED:20210106T000536Z
LAST-MODIFIED:20210106T000536Z
UID:1040-1613498400-1613507400@www.debbymaziarz.com.au
SUMMARY:Hobsons Bay City Council Community Grants Information and Grant Writing Workshops
DESCRIPTION:Are you thinking about applying for a Make it Happen – Hobsons Bay Recovery and Reconnection grant? Join expert grant writer Debby Maziarz online via Zoom to learn how to get the most out of your grant application. \nAny questions about the workshop – please contact grants@hobsonsbay.vic.gov.au \nOnce registered\, a link to access the online session will be sent to the nominated email in the form prior to the session from grants@hobsonsbay.vic.gov.au. If you don’t see the email\, please check your junk folder for your email. \nFor more information and to book please click here.
URL:https://www.debbymaziarz.com.au/workshop/hobsons-bay-city-council-community-grants-information-and-grant-writing-workshops-5/
LOCATION:Online\, Australia
END:VEVENT
BEGIN:VEVENT
DTSTART;TZID=Australia/Melbourne:20210216T180000
DTEND;TZID=Australia/Melbourne:20210216T203000
DTSTAMP:20260425T113018
CREATED:20210106T000536Z
LAST-MODIFIED:20210106T000536Z
UID:3021-1613498400-1613507400@www.debbymaziarz.com.au
SUMMARY:Hobsons Bay City Council Community Grants Information and Grant Writing Workshops
DESCRIPTION:Are you thinking about applying for a Make it Happen – Hobsons Bay Recovery and Reconnection grant? Join expert grant writer Debby Maziarz online via Zoom to learn how to get the most out of your grant application. \nAny questions about the workshop – please contact grants@hobsonsbay.vic.gov.au \nOnce registered\, a link to access the online session will be sent to the nominated email in the form prior to the session from grants@hobsonsbay.vic.gov.au. If you don’t see the email\, please check your junk folder for your email. \nFor more information and to book please click here.
URL:https://www.debbymaziarz.com.au/workshop/hobsons-bay-city-council-community-grants-information-and-grant-writing-workshops-5-2/
LOCATION:Online\, Australia
END:VEVENT
BEGIN:VEVENT
DTSTART;TZID=Australia/Melbourne:20210217T100000
DTEND;TZID=Australia/Melbourne:20210217T120000
DTSTAMP:20260425T113018
CREATED:20210131T054256Z
LAST-MODIFIED:20210131T054411Z
UID:1276-1613556000-1613563200@www.debbymaziarz.com.au
SUMMARY:Grant Writing Workshop for Whitehorse Community Groups
DESCRIPTION:FREE Grant Writing workshop (hosted online via ZOOM) for Whitehorse Community Groups that want to enhance their grant writing skills.\n\n\n\n\n\n\n\nIts time to get that idea funded! \nBuild your understanding of what is required to successfully apply for and acquit grants. Facilitated by Debby Maziarz Productions\, this fun and hands-on workshop will focus on transforming your ideas into fundable concepts and will walk you step by step through the process. \nTopics include: \n• Understanding the application form \n• Writing an effective project description \n• Building a budget/ completing a budget table \n• Answering the ‘sustainability’ and ‘evaluation’ questions \nPlease be mindful\, this session will not provide the opportunity to seek opinion on the viability of your application. Please refer to council’s website for contact details should you need to discuss your application further. \nIMPORTANT: Spaces are extremely limited due to Covid-19 restrictions\, so only 1 person per community organisation/club/group may attend and strict physical distancing measures will be in place. Masks are to be worn at all times. \n\nPlease only register for this event if you intend on coming and cancel your registration if you can no longer attend.\nNo refreshments will be provided and attendees are encouraged to bring their own water.\n\nRegistrations for this workshop will close at 5.00pm\, Monday 15 February 2021. \nIt is expected that participants will have read the 2021 Grant Guidelines prior to attending. \n\n\n\n\nTo book click here.
URL:https://www.debbymaziarz.com.au/workshop/grant-writing-workshop-for-whitehorse-community-groups/
LOCATION:Willis Room\, Civic Centre\, 379-397 Whitehorse Road\, Nunawading\, VIC\, 3131\, Australia
END:VEVENT
BEGIN:VEVENT
DTSTART;TZID=Australia/Melbourne:20210217T100000
DTEND;TZID=Australia/Melbourne:20210217T120000
DTSTAMP:20260425T113018
CREATED:20210131T054256Z
LAST-MODIFIED:20210131T054256Z
UID:3030-1613556000-1613563200@www.debbymaziarz.com.au
SUMMARY:Grant Writing Workshop for Whitehorse Community Groups
DESCRIPTION:FREE Grant Writing workshop (hosted online via ZOOM) for Whitehorse Community Groups that want to enhance their grant writing skills.\n\n\n\n\n\n\n\nIts time to get that idea funded! \nBuild your understanding of what is required to successfully apply for and acquit grants. Facilitated by Debby Maziarz Productions\, this fun and hands-on workshop will focus on transforming your ideas into fundable concepts and will walk you step by step through the process. \nTopics include: \n• Understanding the application form \n• Writing an effective project description \n• Building a budget/ completing a budget table \n• Answering the ‘sustainability’ and ‘evaluation’ questions \nPlease be mindful\, this session will not provide the opportunity to seek opinion on the viability of your application. Please refer to council’s website for contact details should you need to discuss your application further. \nIMPORTANT: Spaces are extremely limited due to Covid-19 restrictions\, so only 1 person per community organisation/club/group may attend and strict physical distancing measures will be in place. Masks are to be worn at all times. \n\nPlease only register for this event if you intend on coming and cancel your registration if you can no longer attend.\nNo refreshments will be provided and attendees are encouraged to bring their own water.\n\nRegistrations for this workshop will close at 5.00pm\, Monday 15 February 2021. \nIt is expected that participants will have read the 2021 Grant Guidelines prior to attending. \n\n\n\n\nTo book click here.
URL:https://www.debbymaziarz.com.au/workshop/grant-writing-workshop-for-whitehorse-community-groups-3/
LOCATION:Willis Room\, Civic Centre\, 379-397 Whitehorse Road\, Nunawading\, VIC\, 3131\, Australia
END:VEVENT
BEGIN:VEVENT
DTSTART;TZID=Australia/Melbourne:20210224T180000
DTEND;TZID=Australia/Melbourne:20210224T200000
DTSTAMP:20260425T113018
CREATED:20210131T054027Z
LAST-MODIFIED:20210131T054507Z
UID:1274-1614189600-1614196800@www.debbymaziarz.com.au
SUMMARY:Grant Writing Workshop for Whitehorse Community Groups (online\, ZOOM)
DESCRIPTION:FREE Grant Writing workshop (hosted online via ZOOM) for Whitehorse Community Groups that want to enhance their grant writing skills.\n\n\n\n\n\n\n\nIts time to get that idea funded! \nBuild your understanding of what is required to successfully apply for and acquit grants. Facilitated by Debby Maziarz Productions\, this fun and hands-on workshop will focus on transforming your ideas into fundable concepts and will walk you step by step through the process. \nTopics include: \n• Understanding the application form \n• Writing an effective project description \n• Building a budget/ completing a budget table \n• Answering the ‘sustainability’ and ‘evaluation’ questions \nPlease be mindful\, this session will not provide the opportunity to seek opinion on the viability of your application. Please refer to council’s website for contact details should you need to discuss your application further. \nIMPORTANT: The ZOOM link for this online workshop will be emailed to you by midday\, on Wednesday 24th Feb (day of the workshop). \nRegistrations for this workshop will close at 5.00pm\, Monday 22 February 2021 \nIt is expected that participants will have read the 2021 Grant Guidelines prior to attending. \n\n\n\n\nTo book click here.
URL:https://www.debbymaziarz.com.au/workshop/grant-writing-workshop-for-whitehorse-community-groups-online-zoom/
LOCATION:Online\, Australia
END:VEVENT
BEGIN:VEVENT
DTSTART;TZID=Australia/Melbourne:20210224T180000
DTEND;TZID=Australia/Melbourne:20210224T200000
DTSTAMP:20260425T113018
CREATED:20210131T054027Z
LAST-MODIFIED:20210131T054027Z
UID:3029-1614189600-1614196800@www.debbymaziarz.com.au
SUMMARY:Grant Writing Workshop for Whitehorse Community Groups (online\, ZOOM)
DESCRIPTION:FREE Grant Writing workshop (hosted online via ZOOM) for Whitehorse Community Groups that want to enhance their grant writing skills.\n\n\n\n\n\n\n\nIts time to get that idea funded! \nBuild your understanding of what is required to successfully apply for and acquit grants. Facilitated by Debby Maziarz Productions\, this fun and hands-on workshop will focus on transforming your ideas into fundable concepts and will walk you step by step through the process. \nTopics include: \n• Understanding the application form \n• Writing an effective project description \n• Building a budget/ completing a budget table \n• Answering the ‘sustainability’ and ‘evaluation’ questions \nPlease be mindful\, this session will not provide the opportunity to seek opinion on the viability of your application. Please refer to council’s website for contact details should you need to discuss your application further. \nIMPORTANT: The ZOOM link for this online workshop will be emailed to you by midday\, on Wednesday 24th Feb (day of the workshop). \nRegistrations for this workshop will close at 5.00pm\, Monday 22 February 2021 \nIt is expected that participants will have read the 2021 Grant Guidelines prior to attending. \n\n\n\n\nTo book click here.
URL:https://www.debbymaziarz.com.au/workshop/grant-writing-workshop-for-whitehorse-community-groups-online-zoom-2/
LOCATION:Online\, Australia
END:VEVENT
END:VCALENDAR