BEGIN:VCALENDAR
VERSION:2.0
PRODID:-//Debby Maziarz Productions - ECPv6.0.13.1//NONSGML v1.0//EN
CALSCALE:GREGORIAN
METHOD:PUBLISH
X-ORIGINAL-URL:https://www.debbymaziarz.com.au
X-WR-CALDESC:Events for Debby Maziarz Productions
REFRESH-INTERVAL;VALUE=DURATION:PT1H
X-Robots-Tag:noindex
X-PUBLISHED-TTL:PT1H
BEGIN:VTIMEZONE
TZID:UTC
BEGIN:STANDARD
TZOFFSETFROM:+0000
TZOFFSETTO:+0000
TZNAME:UTC
DTSTART:20210101T000000
END:STANDARD
END:VTIMEZONE
BEGIN:VEVENT
DTSTART;TZID=UTC:20210723T110000
DTEND;TZID=UTC:20210723T130000
DTSTAMP:20260425T184628
CREATED:20220706T063342Z
LAST-MODIFIED:20220706T063342Z
UID:3173-1627038000-1627045200@www.debbymaziarz.com.au
SUMMARY:INfuse Artist Network: Grant Writing for Creatives Workshop - Brimbank City Council
DESCRIPTION:Join our arts community and learn how to put together a strong funding application in this grant writing for creatives workshop run by Debby Maziarz. Debby is a community development practitioner and creative entrepreneur who mentors artists\, organisations and communities to create solid plans for resourcing their work. Renowned for unearthing innovative and ‘fundable’ ideas\, Debby is driven to build the capacity of communities to get their important work done. \nIn this workshop you will learn simple tools and principles about grant writing including: \n\nWhere to find the money and opportunities\nWriting the 50-word grab\nNavigating the grant making cycle\nUnderstanding the assessment criteria\nWorking with partners\nAnswering the questions in the application form\nBuilding a project budget (for a grant application)\n\nINfuse aims to connect our creative community and provide a platform for training and inspiration through a series of workshops\, artist talks and presentations. \nNo cost to attend\, limited places – registrations required. Light refreshments provided. \nFor more information and to register\, click here.
URL:https://www.debbymaziarz.com.au/workshop/infuse-artist-network-grant-writing-for-creatives-workshop-brimbank-city-council/
LOCATION:St Albans Community Centre\, 309C Main Road East\, St Albans\, VIC\, 3021\, Australia
END:VEVENT
BEGIN:VEVENT
DTSTART;TZID=UTC:20210731T124500
DTEND;TZID=UTC:20210731T153000
DTSTAMP:20260425T184628
CREATED:20210623T085232Z
LAST-MODIFIED:20210623T085232Z
UID:3055-1627735500-1627745400@www.debbymaziarz.com.au
SUMMARY:ARTOPIA: A focus group by Ask the Artist
DESCRIPTION:Focus Group – a participatory experience for creatives. Limited spaces! \nARTOPIA is a focus group with a difference. It’s an artist-led intervention that combines conversation\, design\, reinvigoration and good food. It explores what we need and want as creatives and asks how we can pool resources to build a more resilient\, connected and creative community. \nWhat do artists really need and want? \nPlease join us for some food and beverages and a nourishing conversation facilitated by Debby Maziarz and Nicole Johnston from Ask the Artist with guest performer and storyteller Amie Brulee. \nREGISTER HERE
URL:https://www.debbymaziarz.com.au/workshop/artopia-a-focus-group-by-ask-the-artist-2-2/
LOCATION:Venue to be confirmed\, VIC\, 3099\, Australia
ORGANIZER;CN="Nillumbik%20Shire%20Council":MAILTO:nillumbik@nillumbik.vic.gov.au
END:VEVENT
BEGIN:VEVENT
DTSTART;TZID=UTC:20210731T124500
DTEND;TZID=UTC:20210731T153000
DTSTAMP:20260425T184628
CREATED:20210623T085232Z
LAST-MODIFIED:20210623T085305Z
UID:1433-1627735500-1627745400@www.debbymaziarz.com.au
SUMMARY:ARTOPIA: A focus group by Ask the Artist
DESCRIPTION:Focus Group – a participatory experience for creatives. Limited spaces! \nARTOPIA is a focus group with a difference. It’s an artist-led intervention that combines conversation\, design\, reinvigoration and good food. It explores what we need and want as creatives and asks how we can pool resources to build a more resilient\, connected and creative community. \nWhat do artists really need and want? \nPlease join us for some food and beverages and a nourishing conversation facilitated by Debby Maziarz and Nicole Johnston from Ask the Artist with guest performer and storyteller Amie Brulee. \nREGISTER HERE
URL:https://www.debbymaziarz.com.au/workshop/artopia-a-focus-group-by-ask-the-artist-2/
LOCATION:Venue to be confirmed\, VIC\, 3099\, Australia
ORGANIZER;CN="Nillumbik%20Shire%20Council":MAILTO:nillumbik@nillumbik.vic.gov.au
END:VEVENT
END:VCALENDAR