BEGIN:VCALENDAR
VERSION:2.0
PRODID:-//Debby Maziarz Productions - ECPv6.0.13.1//NONSGML v1.0//EN
CALSCALE:GREGORIAN
METHOD:PUBLISH
X-ORIGINAL-URL:https://www.debbymaziarz.com.au
X-WR-CALDESC:Events for Debby Maziarz Productions
REFRESH-INTERVAL;VALUE=DURATION:PT1H
X-Robots-Tag:noindex
X-PUBLISHED-TTL:PT1H
BEGIN:VTIMEZONE
TZID:Australia/Melbourne
BEGIN:STANDARD
TZOFFSETFROM:+1100
TZOFFSETTO:+1000
TZNAME:AEST
DTSTART:20210403T160000
END:STANDARD
BEGIN:DAYLIGHT
TZOFFSETFROM:+1000
TZOFFSETTO:+1100
TZNAME:AEDT
DTSTART:20211002T160000
END:DAYLIGHT
TZID:UTC
BEGIN:STANDARD
TZOFFSETFROM:+0000
TZOFFSETTO:+0000
TZNAME:UTC
DTSTART:20210101T000000
END:STANDARD
END:VTIMEZONE
BEGIN:VEVENT
DTSTART;TZID=Australia/Melbourne:20210802T183000
DTEND;TZID=Australia/Melbourne:20210802T193000
DTSTAMP:20260425T201625
CREATED:20210721T024051Z
LAST-MODIFIED:20210721T024051Z
UID:1441-1627929000-1627932600@www.debbymaziarz.com.au
SUMMARY:Hobsons Bay Community Action and Leadership: Bringing Your Ideas to Life Online Workshop
DESCRIPTION:[vc_row][vc_column width=”1/2″][mk_image src=”https://www.debbymaziarz.com.au/wp-content/uploads/2021/07/image001-2.jpg” image_size=”full” align=”center”][/vc_column][vc_column width=”1/2″][vc_column_text css=”.vc_custom_1626835131096{margin-bottom: 0px !important;}”]So you have an idea for community action\, connection\, leadership or perhaps just fun? Do you need funds to make it happen? Where do you start? Bring your idea to this online workshop. Working with other people and supported by expert community ideas facilitator Debby Maziarz\, you will tease out what local resources\, funds and grants might be a good fit for bringing your idea to life! \nRegistrations close: Friday 30 July\, 12pm \nOnce registered\, a link to access the online session will be sent to the nominated email in the form prior to the session from commdev@hobsonsbay.vic.gov.au. If you don’t see the email\, please check your junk folder for your email.[/vc_column_text][/vc_column][/vc_row][vc_row][vc_column][vc_column_text css=”.vc_custom_1626835231692{margin-bottom: 0px !important;}”]For more information and to book please click here.[/vc_column_text][/vc_column][/vc_row]
URL:https://www.debbymaziarz.com.au/workshop/hobsons-bay-community-action-and-leadership-bringing-your-ideas-to-life-online-workshop/
LOCATION:Online\, Australia
END:VEVENT
BEGIN:VEVENT
DTSTART;TZID=Australia/Melbourne:20210802T183000
DTEND;TZID=Australia/Melbourne:20210802T193000
DTSTAMP:20260425T201625
CREATED:20210721T024051Z
LAST-MODIFIED:20210721T024051Z
UID:3057-1627929000-1627932600@www.debbymaziarz.com.au
SUMMARY:Hobsons Bay Community Action and Leadership: Bringing Your Ideas to Life Online Workshop
DESCRIPTION:[vc_row][vc_column width=”1/2″][mk_image src=”https://www.debbymaziarz.com.au/wp-content/uploads/2021/07/image001-2.jpg” image_size=”full” align=”center”][/vc_column][vc_column width=”1/2″][vc_column_text css=”.vc_custom_1626835131096{margin-bottom: 0px !important;}”]So you have an idea for community action\, connection\, leadership or perhaps just fun? Do you need funds to make it happen? Where do you start? Bring your idea to this online workshop. Working with other people and supported by expert community ideas facilitator Debby Maziarz\, you will tease out what local resources\, funds and grants might be a good fit for bringing your idea to life! \nRegistrations close: Friday 30 July\, 12pm \nOnce registered\, a link to access the online session will be sent to the nominated email in the form prior to the session from commdev@hobsonsbay.vic.gov.au. If you don’t see the email\, please check your junk folder for your email.[/vc_column_text][/vc_column][/vc_row][vc_row][vc_column][vc_column_text css=”.vc_custom_1626835231692{margin-bottom: 0px !important;}”]For more information and to book please click here.[/vc_column_text][/vc_column][/vc_row]
URL:https://www.debbymaziarz.com.au/workshop/hobsons-bay-community-action-and-leadership-bringing-your-ideas-to-life-online-workshop-2/
LOCATION:Online\, Australia
END:VEVENT
BEGIN:VEVENT
DTSTART;TZID=UTC:20210809T173000
DTEND;TZID=UTC:20210809T203000
DTSTAMP:20260425T201625
CREATED:20210808T234310Z
LAST-MODIFIED:20210808T234310Z
UID:3063-1628530200-1628541000@www.debbymaziarz.com.au
SUMMARY:Grant Writing Workshop - Brimbank City Council
DESCRIPTION:This session will provide community groups and organisations’ grant writers with information\, skills and knowledge to prepare and apply for grants from a variety of funding sources including the Brimbank Community Grants. \nTopics covered \n\nWhere to find grants\nSolidifying your project idea\nWriting the 50-word grab\nThe grant making cycle\nWork through a grant application\nHow to do a budget (for a grant application)\nDealing with the ‘evaluation’ and ‘project sustainability’ questions.\n\nFor more information and to register\, click here.
URL:https://www.debbymaziarz.com.au/workshop/grant-writing-workshop-brimbank-city-council-3-2/
LOCATION:Online\, Australia
END:VEVENT
BEGIN:VEVENT
DTSTART;TZID=UTC:20210809T173000
DTEND;TZID=UTC:20210809T203000
DTSTAMP:20260425T201625
CREATED:20210808T234310Z
LAST-MODIFIED:20210808T234310Z
UID:1482-1628530200-1628541000@www.debbymaziarz.com.au
SUMMARY:Grant Writing Workshop - Brimbank City Council
DESCRIPTION:This session will provide community groups and organisations’ grant writers with information\, skills and knowledge to prepare and apply for grants from a variety of funding sources including the Brimbank Community Grants. \nTopics covered \n\nWhere to find grants\nSolidifying your project idea\nWriting the 50-word grab\nThe grant making cycle\nWork through a grant application\nHow to do a budget (for a grant application)\nDealing with the ‘evaluation’ and ‘project sustainability’ questions.\n\nFor more information and to register\, click here.
URL:https://www.debbymaziarz.com.au/workshop/grant-writing-workshop-brimbank-city-council-3/
LOCATION:Online\, Australia
END:VEVENT
BEGIN:VEVENT
DTSTART;TZID=Australia/Melbourne:20210818T130000
DTEND;TZID=Australia/Melbourne:20210818T153000
DTSTAMP:20260425T201625
CREATED:20210725T052326Z
LAST-MODIFIED:20210725T052326Z
UID:1467-1629291600-1629300600@www.debbymaziarz.com.au
SUMMARY:Grant Writing Online Workshop - Moonee Valley City Council
DESCRIPTION:Moonee Valley City Council is currently offering funding through our revitalised Biannual Grants Program to community groups\, organisations\, local businesses and artists. Join in a FREE online workshop facilitated by grants expert Debby Maziarz to learn about effective grant writing for all type of grants. \nPlease note: this is a general grant writing workshop for skill development for people with a connection to the City of Moonee Valley\, not an information session about Council’s grants in particular. However\, Council staff will be available to ask questions. \nThrough this 2.5 hour online workshop you can build your understanding of how to approach grant writing to improve your chances for a successful grant. This fun and hands-on workshop will focus on transforming your ideas into fundable concepts and will walk you step by step through the process. Topics include: \n\nWhere to find the money\nWriting a killer 50-word grab\nWorking with partners\nBuilding a budget\nAnswering tricky questions\n\nIf you have any questions\, or would like to request an interpreter\, please contact the Community Grants Officer on 9243 1664 or grants@mvcc.vic.gov.au \nPlease note: this session will be held online via Zoom – please sign up to Zoom for a free account\, and a unique link will be sent to your nominated email address prior to the event. \nFor more information and to book please click here.
URL:https://www.debbymaziarz.com.au/workshop/grant-writing-online-workshop-moonee-valley-city-council-14/
LOCATION:Online\, Australia
END:VEVENT
BEGIN:VEVENT
DTSTART;TZID=Australia/Melbourne:20210818T130000
DTEND;TZID=Australia/Melbourne:20210818T153000
DTSTAMP:20260425T201625
CREATED:20210725T052326Z
LAST-MODIFIED:20210725T052326Z
UID:3060-1629291600-1629300600@www.debbymaziarz.com.au
SUMMARY:Grant Writing Online Workshop - Moonee Valley City Council
DESCRIPTION:Moonee Valley City Council is currently offering funding through our revitalised Biannual Grants Program to community groups\, organisations\, local businesses and artists. Join in a FREE online workshop facilitated by grants expert Debby Maziarz to learn about effective grant writing for all type of grants. \nPlease note: this is a general grant writing workshop for skill development for people with a connection to the City of Moonee Valley\, not an information session about Council’s grants in particular. However\, Council staff will be available to ask questions. \nThrough this 2.5 hour online workshop you can build your understanding of how to approach grant writing to improve your chances for a successful grant. This fun and hands-on workshop will focus on transforming your ideas into fundable concepts and will walk you step by step through the process. Topics include: \n\nWhere to find the money\nWriting a killer 50-word grab\nWorking with partners\nBuilding a budget\nAnswering tricky questions\n\nIf you have any questions\, or would like to request an interpreter\, please contact the Community Grants Officer on 9243 1664 or grants@mvcc.vic.gov.au \nPlease note: this session will be held online via Zoom – please sign up to Zoom for a free account\, and a unique link will be sent to your nominated email address prior to the event. \nFor more information and to book please click here.
URL:https://www.debbymaziarz.com.au/workshop/grant-writing-online-workshop-moonee-valley-city-council-14-2/
LOCATION:Online\, Australia
END:VEVENT
BEGIN:VEVENT
DTSTART;TZID=UTC:20210819T093000
DTEND;TZID=UTC:20210819T123000
DTSTAMP:20260425T201625
CREATED:20210808T234532Z
LAST-MODIFIED:20210808T234532Z
UID:3064-1629365400-1629376200@www.debbymaziarz.com.au
SUMMARY:Grant Writing Workshop - Brimbank City Council
DESCRIPTION:This session will provide community groups and organisations’ grant writers with information\, skills and knowledge to prepare and apply for grants from a variety of funding sources including the Brimbank Community Grants. \nTopics covered \n\nWhere to find grants\nSolidifying your project idea\nWriting the 50-word grab\nThe grant making cycle\nWork through a grant application\nHow to do a budget (for a grant application)\nDealing with the ‘evaluation’ and ‘project sustainability’ questions.\n\nFor more information and to register\, click here.
URL:https://www.debbymaziarz.com.au/workshop/grant-writing-workshop-brimbank-city-council-4-2/
LOCATION:Sydenham Community Hub\, Level 1\, 1 Station Street\, \, Watergardens Town Centre (above Sydenham Library)\, Taylor's lakes\, VIC\, 3038
END:VEVENT
BEGIN:VEVENT
DTSTART;TZID=UTC:20210819T093000
DTEND;TZID=UTC:20210819T123000
DTSTAMP:20260425T201625
CREATED:20210808T234532Z
LAST-MODIFIED:20210808T234532Z
UID:1484-1629365400-1629376200@www.debbymaziarz.com.au
SUMMARY:Grant Writing Workshop - Brimbank City Council
DESCRIPTION:This session will provide community groups and organisations’ grant writers with information\, skills and knowledge to prepare and apply for grants from a variety of funding sources including the Brimbank Community Grants. \nTopics covered \n\nWhere to find grants\nSolidifying your project idea\nWriting the 50-word grab\nThe grant making cycle\nWork through a grant application\nHow to do a budget (for a grant application)\nDealing with the ‘evaluation’ and ‘project sustainability’ questions.\n\nFor more information and to register\, click here.
URL:https://www.debbymaziarz.com.au/workshop/grant-writing-workshop-brimbank-city-council-4/
LOCATION:Sydenham Community Hub\, Level 1\, 1 Station Street\, \, Watergardens Town Centre (above Sydenham Library)\, Taylor's lakes\, VIC\, 3038
END:VEVENT
BEGIN:VEVENT
DTSTART;TZID=Australia/Melbourne:20210825T183000
DTEND;TZID=Australia/Melbourne:20210825T210000
DTSTAMP:20260425T201625
CREATED:20210725T052407Z
LAST-MODIFIED:20210725T052407Z
UID:1469-1629916200-1629925200@www.debbymaziarz.com.au
SUMMARY:Grant Writing Online Workshop - Moonee Valley City Council
DESCRIPTION:Moonee Valley City Council is currently offering funding through our revitalised Biannual Grants Program to community groups\, organisations\, local businesses and artists. Join in a FREE online workshop facilitated by grants expert Debby Maziarz to learn about effective grant writing for all type of grants. \nPlease note: this is a general grant writing workshop for skill development for people with a connection to the City of Moonee Valley\, not an information session about Council’s grants in particular. However\, Council staff will be available to ask questions. \nThrough this 2.5 hour online workshop you can build your understanding of how to approach grant writing to improve your chances for a successful grant. This fun and hands-on workshop will focus on transforming your ideas into fundable concepts and will walk you step by step through the process. Topics include: \n\nWhere to find the money\nWriting a killer 50-word grab\nWorking with partners\nBuilding a budget\nAnswering tricky questions\n\nIf you have any questions\, or would like to request an interpreter\, please contact the Community Grants Officer on 9243 1664 or grants@mvcc.vic.gov.au \nPlease note: this session will be held online via Zoom – please sign up to Zoom for a free account\, and a unique link will be sent to your nominated email address prior to the event. \nFor more information and to book please click here.
URL:https://www.debbymaziarz.com.au/workshop/grant-writing-online-workshop-moonee-valley-city-council-15/
LOCATION:Online\, Australia
END:VEVENT
BEGIN:VEVENT
DTSTART;TZID=Australia/Melbourne:20210825T183000
DTEND;TZID=Australia/Melbourne:20210825T210000
DTSTAMP:20260425T201625
CREATED:20210725T052407Z
LAST-MODIFIED:20210725T052407Z
UID:3061-1629916200-1629925200@www.debbymaziarz.com.au
SUMMARY:Grant Writing Online Workshop - Moonee Valley City Council
DESCRIPTION:Moonee Valley City Council is currently offering funding through our revitalised Biannual Grants Program to community groups\, organisations\, local businesses and artists. Join in a FREE online workshop facilitated by grants expert Debby Maziarz to learn about effective grant writing for all type of grants. \nPlease note: this is a general grant writing workshop for skill development for people with a connection to the City of Moonee Valley\, not an information session about Council’s grants in particular. However\, Council staff will be available to ask questions. \nThrough this 2.5 hour online workshop you can build your understanding of how to approach grant writing to improve your chances for a successful grant. This fun and hands-on workshop will focus on transforming your ideas into fundable concepts and will walk you step by step through the process. Topics include: \n\nWhere to find the money\nWriting a killer 50-word grab\nWorking with partners\nBuilding a budget\nAnswering tricky questions\n\nIf you have any questions\, or would like to request an interpreter\, please contact the Community Grants Officer on 9243 1664 or grants@mvcc.vic.gov.au \nPlease note: this session will be held online via Zoom – please sign up to Zoom for a free account\, and a unique link will be sent to your nominated email address prior to the event. \nFor more information and to book please click here.
URL:https://www.debbymaziarz.com.au/workshop/grant-writing-online-workshop-moonee-valley-city-council-15-2/
LOCATION:Online\, Australia
END:VEVENT
END:VCALENDAR