BEGIN:VCALENDAR
VERSION:2.0
PRODID:-//Debby Maziarz Productions - ECPv6.0.13.1//NONSGML v1.0//EN
CALSCALE:GREGORIAN
METHOD:PUBLISH
X-ORIGINAL-URL:https://www.debbymaziarz.com.au
X-WR-CALDESC:Events for Debby Maziarz Productions
REFRESH-INTERVAL;VALUE=DURATION:PT1H
X-Robots-Tag:noindex
X-PUBLISHED-TTL:PT1H
BEGIN:VTIMEZONE
TZID:UTC
BEGIN:STANDARD
TZOFFSETFROM:+0000
TZOFFSETTO:+0000
TZNAME:UTC
DTSTART:20220101T000000
END:STANDARD
TZID:Australia/Melbourne
BEGIN:STANDARD
TZOFFSETFROM:+1100
TZOFFSETTO:+1000
TZNAME:AEST
DTSTART:20220402T160000
END:STANDARD
BEGIN:DAYLIGHT
TZOFFSETFROM:+1000
TZOFFSETTO:+1100
TZNAME:AEDT
DTSTART:20221001T160000
END:DAYLIGHT
END:VTIMEZONE
BEGIN:VEVENT
DTSTART;TZID=UTC:20220301T173000
DTEND;TZID=UTC:20220301T190000
DTSTAMP:20260423T183819
CREATED:20220227T113757Z
LAST-MODIFIED:20220227T113757Z
UID:3089-1646155800-1646161200@www.debbymaziarz.com.au
SUMMARY:Creative Industries in Nillumbik Networking Event
DESCRIPTION:As part of Nillumbik Shire Council’s Creative Industries Business Education program\, we are inviting local business owners and operators from the Creative Industry sector to join us for an opportunity to network and celebrate this industry. \nThe event will be MC’d by local artist Debby Maziarz\, who will be joined by Monica Davidson\, creator of our Creative Industries Business Education Program\, with special guest Simon Abrahams\, Creative Director and CEO of Melbourne Fringe Festival. \nFor more information and to book online click here.
URL:https://www.debbymaziarz.com.au/workshop/creative-industries-in-nillumbik-networking-event/
LOCATION:DMP Resources
ORGANIZER;CN="Nillumbik%20Shire%20Council":MAILTO:nillumbik@nillumbik.vic.gov.au
END:VEVENT
BEGIN:VEVENT
DTSTART;TZID=Australia/Melbourne:20220302T093000
DTEND;TZID=Australia/Melbourne:20220302T120000
DTSTAMP:20260423T183819
CREATED:20220215T022138Z
LAST-MODIFIED:20220215T022138Z
UID:3087-1646213400-1646222400@www.debbymaziarz.com.au
SUMMARY:Effective Grant Writing Workshop - Bayside City Council
DESCRIPTION:Build your understanding of what is required to successfully apply for and report on grants. This fun and hands-on workshop will focus on transforming your ideas into fundable concepts and will walk you step by step through the process. Including: \n\nWhere to find the money\nWriting a killer 50-word grab\nWorking with partners\nBuilding a budget\nAnswering the ‘sustainability’ and ‘evaluation’ questions\n\nFor more information and to book please click here.
URL:https://www.debbymaziarz.com.au/workshop/effective-grant-writing-workshop-bayside-city-council/
LOCATION:Creative Business Planning
END:VEVENT
BEGIN:VEVENT
DTSTART;TZID=UTC:20220303T183000
DTEND;TZID=UTC:20220303T203000
DTSTAMP:20260423T183819
CREATED:20220301T121219Z
LAST-MODIFIED:20220301T121219Z
UID:3095-1646332200-1646339400@www.debbymaziarz.com.au
SUMMARY:Effective Grant Writing: Nillumbik Shire Council
DESCRIPTION:It’s time to get that idea funded! \nThe practical and hands on grant writing workshop offers simple tools and principles from a local community leader who writes grants\, including: \n\n\nWhere to find the money\nWriting a killer 50-word grab\nAligning your project with the grant program objectives\nAnswering the Who\, What\, Where\, When\, How questions\nBuilding a project budget\n\n\nNote – this session is for community organisations\, groups\, clubs and volunteers that are based in Nillumbik or that support Nillumbik residents. \nFor more information and to register click here.
URL:https://www.debbymaziarz.com.au/workshop/effective-grant-writing-nillumbik-shire-council/
LOCATION:Online\, Australia
ORGANIZER;CN="Nillumbik%20Shire%20Council":MAILTO:nillumbik@nillumbik.vic.gov.au
END:VEVENT
BEGIN:VEVENT
DTSTART;TZID=Australia/Melbourne:20220304T123000
DTEND;TZID=Australia/Melbourne:20220304T150000
DTSTAMP:20260423T183819
CREATED:20220214T070529Z
LAST-MODIFIED:20220214T070529Z
UID:3086-1646397000-1646406000@www.debbymaziarz.com.au
SUMMARY:Grant Writing Online Workshop - Moonee Valley City Council
DESCRIPTION:Moonee Valley City Council is currently offering funding through our revitalised Biannual Grants Program to community groups\, organisations\, local businesses and artists. Join in a FREE online workshop facilitated by grants expert Debby Maziarz to learn about effective grant writing for all type of grants. \nPlease note: this is a general grant writing workshop for skill development for people with a connection to the City of Moonee Valley\, not an information session about Council’s grants in particular. However\, Council staff will be available to ask questions. \nThrough this 2.5 hour online workshop you can build your understanding of how to approach grant writing to improve your chances for a successful grant. This fun and hands-on workshop will focus on transforming your ideas into fundable concepts and will walk you step by step through the process. Topics include: \n\nWhere to find the money\nWriting a killer 50-word grab\nWorking with partners\nBuilding a budget\nAnswering tricky questions\n\nIf you have any questions\, or would like to request an interpreter\, please contact the Community Grants Officer on 9243 1664 or grants@mvcc.vic.gov.au \nPlease note: this session will be held online via Zoom – please sign up to Zoom for a free account\, and a unique link will be sent to your nominated email address prior to the event. \nFor more information and to book please click here.
URL:https://www.debbymaziarz.com.au/workshop/grant-writing-online-workshop-moonee-valley-city-council-19/
LOCATION:Online\, Australia
END:VEVENT
BEGIN:VEVENT
DTSTART;TZID=UTC:20220310T183000
DTEND;TZID=UTC:20220310T203000
DTSTAMP:20260423T183819
CREATED:20220227T114056Z
LAST-MODIFIED:20220227T114056Z
UID:3090-1646937000-1646944200@www.debbymaziarz.com.au
SUMMARY:Grant Writing Workshop: Hobsons Bay Recovery and Reconnection
DESCRIPTION:Are you thinking about applying for a Make it Happen – Hobsons Bay Recovery and Reconnection grant? Join expert grant writer Debby Maziarz online via Zoom to learn how to get the most out of your grant application and have a greater chance of success. \nAny questions about the workshop – please contact grants@hobsonsbay.vic.gov.au \nFor more information and to book please click here. Registrations close: 9 March\, 1 pm
URL:https://www.debbymaziarz.com.au/workshop/grant-writing-workshop-hobsons-bay-recovery-and-reconnection-2/
LOCATION:Online\, Australia
END:VEVENT
BEGIN:VEVENT
DTSTART;TZID=Australia/Melbourne:20220315T180000
DTEND;TZID=Australia/Melbourne:20220315T203000
DTSTAMP:20260423T183819
CREATED:20220215T022246Z
LAST-MODIFIED:20220215T022246Z
UID:3088-1647367200-1647376200@www.debbymaziarz.com.au
SUMMARY:Effective Grant Writing Workshop - Bayside City Council
DESCRIPTION:Build your understanding of what is required to successfully apply for and report on grants. This fun and hands-on workshop will focus on transforming your ideas into fundable concepts and will walk you step by step through the process. Including: \n\nWhere to find the money\nWriting a killer 50-word grab\nWorking with partners\nBuilding a budget\nAnswering the ‘sustainability’ and ‘evaluation’ questions\n\nFor more information and to book please click here.
URL:https://www.debbymaziarz.com.au/workshop/effective-grant-writing-workshop-bayside-city-council-2/
LOCATION:Online\, Australia
END:VEVENT
BEGIN:VEVENT
DTSTART;TZID=UTC:20220321T180000
DTEND;TZID=UTC:20220321T200000
DTSTAMP:20260423T183819
CREATED:20220227T114317Z
LAST-MODIFIED:20220227T114317Z
UID:3091-1647885600-1647892800@www.debbymaziarz.com.au
SUMMARY:Grant Planning Workshop: Hobsons Bay Recovery and Reconnection
DESCRIPTION:Are you still forming an idea or developing a project for a grant and need some support? Come along to this session.\nIn this workshop you will learn some basic project planning tips and workshop ideas to progress your project to the next stage with other participants and support from expert community ideas facilitator and grant writer Debby Maziarz. \nBring your initial idea or area of interest to the session. \nAny questions about the workshop – please contact grants@hobsonsbay.vic.gov.au \nFor more information and to book please click here.
URL:https://www.debbymaziarz.com.au/workshop/grant-planning-workshop-hobsons-bay-recovery-and-reconnection/
LOCATION:Online\, Australia
END:VEVENT
BEGIN:VEVENT
DTSTART;TZID=UTC:20220329T183000
DTEND;TZID=UTC:20220329T203000
DTSTAMP:20260423T183819
CREATED:20220311T003445Z
LAST-MODIFIED:20220311T003445Z
UID:3099-1648578600-1648585800@www.debbymaziarz.com.au
SUMMARY:Project Planning Online Workshop: City of Whittlesea
DESCRIPTION:A fun and interactive online workshop offering simple tools to help participants explore ideas and define a project in preparation for approaching funding bodies and partners.Topics include:\n• Shifting from an idea to a project\n• Understanding the project life cycle\n• Working through the ‘Project Planning Tool’\n• Understanding what resources you have and need\n• Tips and tricks for managing your project \nPlease note this workshop is designed for members of City of Whittlesea-based groups only. \nFor more information and to book click here.
URL:https://www.debbymaziarz.com.au/workshop/project-planning-online-workshop-city-of-whittlesea/
LOCATION:Online\, Australia
END:VEVENT
END:VCALENDAR